Workbook

Sheet 汇总
A1: 附表4-1
A2: 朝阳市2024年农村公路安防工程建议计划汇总表
A3: 市别 | B3: 县别 | C3: 隐患里程 | D3: 处置工程数量 | M3: 投资 估算 （万元） | N3: 备注
D4: 钢护栏（米） | E4: 标志（个） | G4: 标线（米） | H4: 警示诱导设施（个） | L4: 减速丘（个）
E5: 悬臂式 | F5: 单柱式 | H5: 线形诱导标 | I5: 道口标柱 | J5: 示警桩 | K5: 凸面镜
A6: 朝阳市 | C6: =SUM(C7:C12) -> 182.21 | D6: =SUM(D7:D12) -> 59225 | E6: =SUM(E7:E12) -> 10 | F6: =SUM(F7:F12) -> 4 | G6: =SUM(G7:G12) -> 0 | H6: =SUM(H7:H12) -> 28 | I6: =SUM(I7:I12) -> 578 | J6: =SUM(J7:J12) -> 54 | ... M6: =SUM(M7:M12) -> 877.3
B7: 凌源市 | C7: =SUMIFS(明细!H:H,明细!$C:$C,$B7) -> 9.51 | D7: =SUMIFS(明细!I:I,明细!$C:$C,$B7) -> 6882 | E7: =SUMIFS(明细!J:J,明细!$C:$C,$B7) -> 0 | F7: =SUMIFS(明细!K:K,明细!$C:$C,$B7) -> 0 | G7: =SUMIFS(明细!L:L,明细!$C:$C,$B7) -> 0 | H7: =SUMIFS(明细!M:M,明细!$C:$C,$B7) -> 0 | I7: =SUMIFS(明细!N:N,明细!$C:$C,$B7) -> 556 | J7: =SUMIFS(明细!O:O,明细!$C:$C,$B7) -> 0 | K7: =SUMIFS(明细!P:P,明细!$C:$C,$B7) -> 0 | L7: =SUMIFS(明细!Q:Q,明细!$C:$C,$B7) -> 0 | M7: =ROUND(SUMIFS(明细!R:R,明细!$C:$C,$B7),1) -> 108.1
B8: 朝阳县 | C8: =SUMIFS(明细!H:H,明细!$C:$C,$B8) -> 61.3 | D8: =SUMIFS(明细!I:I,明细!$C:$C,$B8) -> 7136 | E8: =SUMIFS(明细!J:J,明细!$C:$C,$B8) -> 0 | F8: =SUMIFS(明细!K:K,明细!$C:$C,$B8) -> 0 | G8: =SUMIFS(明细!L:L,明细!$C:$C,$B8) -> 0 | H8: =SUMIFS(明细!M:M,明细!$C:$C,$B8) -> 0 | I8: =SUMIFS(明细!N:N,明细!$C:$C,$B8) -> 0 | J8: =SUMIFS(明细!O:O,明细!$C:$C,$B8) -> 0 | K8: =SUMIFS(明细!P:P,明细!$C:$C,$B8) -> 0 | L8: =SUMIFS(明细!Q:Q,明细!$C:$C,$B8) -> 0 | M8: =ROUND(SUMIFS(明细!R:R,明细!$C:$C,$B8),1) -> 103.5
B9: 建平县 | C9: =SUMIFS(明细!H:H,明细!$C:$C,$B9) -> 62.6 | D9: =SUMIFS(明细!I:I,明细!$C:$C,$B9) -> 34272 | E9: =SUMIFS(明细!J:J,明细!$C:$C,$B9) -> 8 | F9: =SUMIFS(明细!K:K,明细!$C:$C,$B9) -> 0 | G9: =SUMIFS(明细!L:L,明细!$C:$C,$B9) -> 0 | H9: =SUMIFS(明细!M:M,明细!$C:$C,$B9) -> 28 | I9: =SUMIFS(明细!N:N,明细!$C:$C,$B9) -> 22 | J9: =SUMIFS(明细!O:O,明细!$C:$C,$B9) -> 44 | K9: =SUMIFS(明细!P:P,明细!$C:$C,$B9) -> 1 | L9: =SUMIFS(明细!Q:Q,明细!$C:$C,$B9) -> 0 | M9: =ROUND(SUMIFS(明细!R:R,明细!$C:$C,$B9),1) -> 505.5
B10: 喀左县 | C10: =SUMIFS(明细!H:H,明细!$C:$C,$B10) -> 33.4 | D10: =SUMIFS(明细!I:I,明细!$C:$C,$B10) -> 7423 | E10: =SUMIFS(明细!J:J,明细!$C:$C,$B10) -> 2 | F10: =SUMIFS(明细!K:K,明细!$C:$C,$B10) -> 4 | G10: =SUMIFS(明细!L:L,明细!$C:$C,$B10) -> 0 | H10: =SUMIFS(明细!M:M,明细!$C:$C,$B10) -> 0 | I10: =SUMIFS(明细!N:N,明细!$C:$C,$B10) -> 0 | J10: =SUMIFS(明细!O:O,明细!$C:$C,$B10) -> 10 | K10: =SUMIFS(明细!P:P,明细!$C:$C,$B10) -> 0 | L10: =SUMIFS(明细!Q:Q,明细!$C:$C,$B10) -> 0 | M10: =ROUND(SUMIFS(明细!R:R,明细!$C:$C,$B10),1) -> 109.2
B11: 双塔区 | C11: =SUMIFS(明细!H:H,明细!$C:$C,$B11) -> 3.8 | D11: =SUMIFS(明细!I:I,明细!$C:$C,$B11) -> 700 | E11: =SUMIFS(明细!J:J,明细!$C:$C,$B11) -> 0 | F11: =SUMIFS(明细!K:K,明细!$C:$C,$B11) -> 0 | G11: =SUMIFS(明细!L:L,明细!$C:$C,$B11) -> 0 | H11: =SUMIFS(明细!M:M,明细!$C:$C,$B11) -> 0 | I11: =SUMIFS(明细!N:N,明细!$C:$C,$B11) -> 0 | J11: =SUMIFS(明细!O:O,明细!$C:$C,$B11) -> 0 | K11: =SUMIFS(明细!P:P,明细!$C:$C,$B11) -> 0 | L11: =SUMIFS(明细!Q:Q,明细!$C:$C,$B11) -> 0 | M11: =ROUND(SUMIFS(明细!R:R,明细!$C:$C,$B11),1) -> 10.2
B12: 龙城区 | C12: =SUMIFS(明细!H:H,明细!$C:$C,$B12) -> 11.6 | D12: =SUMIFS(明细!I:I,明细!$C:$C,$B12) -> 2812 | E12: =SUMIFS(明细!J:J,明细!$C:$C,$B12) -> 0 | F12: =SUMIFS(明细!K:K,明细!$C:$C,$B12) -> 0 | G12: =SUMIFS(明细!L:L,明细!$C:$C,$B12) -> 0 | H12: =SUMIFS(明细!M:M,明细!$C:$C,$B12) -> 0 | I12: =SUMIFS(明细!N:N,明细!$C:$C,$B12) -> 0 | J12: =SUMIFS(明细!O:O,明细!$C:$C,$B12) -> 0 | K12: =SUMIFS(明细!P:P,明细!$C:$C,$B12) -> 0 | L12: =SUMIFS(明细!Q:Q,明细!$C:$C,$B12) -> 0 | M12: =ROUND(SUMIFS(明细!R:R,明细!$C:$C,$B12),1) -> 40.8

Sheet 沈阳2019
A1: 辽宁省2019年村级公路安防工程预安排计划
A2: 序号 | B2: 市 | C2: 县 | D2: 公路编号 | E2: 路线 名称 | F2: 起点 桩号 | G2: 终点 桩号 | H2: 里程 （公里） | I2: 处置工程数量 | R2: 投资 估算 （万元）
I3: 钢护栏长度（米） | J3: 标志数量 | L3: 标线 长度（米） | M3: 警示诱导设施 | Q3: 减速丘（个）
J4: 悬臂式（个） | K4: 单柱式（个） | M4: 线形诱导标（个） | N4: 道口 标柱（个） | O4: 示警桩（个） | P4: 凸面反光镜（个）
H5: =SUM(H6:H95) -> 90.7 | I5: =SUM(I6:I95) -> 20422 | J5: =SUM(J6:J95) -> 11 | K5: =SUM(K6:K95) -> 115 | L5: =SUM(L6:L95) -> 0 | M5: =SUM(M6:M95) -> 42 | N5: =SUM(N6:N95) -> 48 | O5: =SUM(O6:O95) -> 107 | ... R5: =SUM(R6:R95) -> 334.9036
A6: 1 | B6: 沈阳市 | C6: 苏家屯区 | D6: C112210111 | E6: 黑林线 | F6: K2+200 | G6: K2+320 | H6: 0.1 | I6: 120 | R6: =J6*0.4461+K6*0.1485+L6*0.15*0.004+I6*0.0145+M6*0.145+N6*0.015+O6*0.01+P6*0.16+Q6*0.2 -> 1.74
A7: 2 | B7: 沈阳市 | C7: 苏家屯区 | D7: C156210111 | E7: 大肖线 | F7: K0+100 | G7: K1+900 | H7: 1.8 | I7: 100 | R7: =J7*0.4461+K7*0.1485+L7*0.15*0.004+I7*0.0145+M7*0.145+N7*0.015+O7*0.01+P7*0.16+Q7*0.2 -> 1.45
A8: 3 | B8: 沈阳市 | C8: 苏家屯区 | D8: C158210111 | E8: 互助线 | F8: K0+100 | G8: K1+300 | H8: 1.2 | I8: 100 | R8: =J8*0.4461+K8*0.1485+L8*0.15*0.004+I8*0.0145+M8*0.145+N8*0.015+O8*0.01+P8*0.16+Q8*0.2 -> 1.45
A9: 4 | B9: 沈阳市 | C9: 苏家屯区 | D9: C160210111 | E9: 宝金线 | F9: K0+300 | G9: K0+570 | H9: 0.3 | I9: 326 | R9: =J9*0.4461+K9*0.1485+L9*0.15*0.004+I9*0.0145+M9*0.145+N9*0.015+O9*0.01+P9*0.16+Q9*0.2 -> 4.727
A10: 5 | B10: 沈阳市 | C10: 苏家屯区 | D10: C190210111 | E10: 羿互线 | F10: K2+000 | G10: K2+600 | H10: 0.6 | I10: 580 | R10: =J10*0.4461+K10*0.1485+L10*0.15*0.004+I10*0.0145+M10*0.145+N10*0.015+O10*0.01+P10*0.16+Q10*0.2 -> 8.41
A11: 6 | B11: 沈阳市 | C11: 苏家屯区 | D11: CTT4210111 | E11: 羿宝线 | F11: K0+470 | G11: K0+710 | H11: 0.2 | I11: 350 | R11: =J11*0.4461+K11*0.1485+L11*0.15*0.004+I11*0.0145+M11*0.145+N11*0.015+O11*0.01+P11*0.16+Q11*0.2 -> 5.075
A12: 7 | B12: 沈阳市 | C12: 苏家屯区 | D12: C1B9210111 | E12: 王拉线 | F12: K1+000 | G12: K1+300 | H12: 0.3 | I12: 300 | R12: =J12*0.4461+K12*0.1485+L12*0.15*0.004+I12*0.0145+M12*0.145+N12*0.015+O12*0.01+P12*0.16+Q12*0.2 -> 4.35
A13: 8 | B13: 沈阳市 | C13: 苏家屯区 | D13: C1C2210111 | E13: 王张线 | F13: K0+200 | G13: K0+300 | H13: 0.1 | I13: 100 | R13: =J13*0.4461+K13*0.1485+L13*0.15*0.004+I13*0.0145+M13*0.145+N13*0.015+O13*0.01+P13*0.16+Q13*0.2 -> 1.45
A14: 9 | B14: 沈阳市 | C14: 苏家屯区 | D14: C151210111 | E14: 来胜线 | F14: K0+450 | G14: K0+900 | H14: 0.5 | I14: 360 | R14: =J14*0.4461+K14*0.1485+L14*0.15*0.004+I14*0.0145+M14*0.145+N14*0.015+O14*0.01+P14*0.16+Q14*0.2 -> 5.22
A15: 10 | B15: 沈阳市 | C15: 苏家屯区 | D15: C152210111 | E15: 来仁线 | F15: K0+500 | G15: K1+400 | H15: 0.9 | I15: 400 | R15: =J15*0.4461+K15*0.1485+L15*0.15*0.004+I15*0.0145+M15*0.145+N15*0.015+O15*0.01+P15*0.16+Q15*0.2 -> 5.8
A16: 11 | B16: 沈阳市 | C16: 苏家屯区 | D16: C1B7210111 | E16: 苏达线 | F16: K0+070 | G16: K0+230 | H16: 0.2 | I16: 200 | R16: =J16*0.4461+K16*0.1485+L16*0.15*0.004+I16*0.0145+M16*0.145+N16*0.015+O16*0.01+P16*0.16+Q16*0.2 -> 2.9
A17: 12 | B17: 沈阳市 | C17: 苏家屯区 | D17: CTU7210111 | E17: 大洼线 | F17: K0+680 | G17: K0+970 | H17: 0.3 | I17: 300 | R17: =J17*0.4461+K17*0.1485+L17*0.15*0.004+I17*0.0145+M17*0.145+N17*0.015+O17*0.01+P17*0.16+Q17*0.2 -> 4.35
... A21: 16 | B21: 沈阳市 | C21: 苏家屯区 | D21: C149210111 | E21: 邵后线 | F21: K3+220 | G21: K3+670 | H21: 0.5 | I21: 300 | R21: =J21*0.4461+K21*0.1485+L21*0.15*0.004+I21*0.0145+M21*0.145+N21*0.015+O21*0.01+P21*0.16+Q21*0.2 -> 4.35
A22: 17 | B22: 沈阳市 | C22: 浑南区 | D22: C1UD210112 | E22: 曾十线 | F22: K1+400 | G22: K1+500 | H22: 0.1 | P22: 1 | R22: =J22*0.4461+K22*0.1485+L22*0.15*0.004+I22*0.0145+M22*0.145+N22*0.015+O22*0.01+P22*0.16+Q22*0.2 -> 0.16
A23: 18 | B23: 沈阳市 | C23: 浑南区 | D23: C1H7210112 | E23: 房章线 | F23: K0+125 | G23: K1+500 | H23: 1.4 | K23: 4 | R23: =J23*0.4461+K23*0.1485+L23*0.15*0.004+I23*0.0145+M23*0.145+N23*0.015+O23*0.01+P23*0.16+Q23*0.2 -> 0.594
A24: 19 | B24: 沈阳市 | C24: 浑南区 | D24: CTK2210112 | E24: 马上线 | F24: K0+600 | G24: K0+860 | H24: 0.3 | K24: 2 | R24: =J24*0.4461+K24*0.1485+L24*0.15*0.004+I24*0.0145+M24*0.145+N24*0.015+O24*0.01+P24*0.16+Q24*0.2 -> 0.297
A25: 20 | B25: 沈阳市 | C25: 浑南区 | D25: C1R3210112 | E25: 高兴线 | F25: K0+500 | G25: K0+600 | H25: 0.1 | K25: 2 | R25: =J25*0.4461+K25*0.1485+L25*0.15*0.004+I25*0.0145+M25*0.145+N25*0.015+O25*0.01+P25*0.16+Q25*0.2 -> 0.297
A26: 21 | B26: 沈阳市 | C26: 浑南区 | D26: C1T1210112 | E26: 赵东线 | F26: K0+100 | G26: K1+400 | H26: 1.3 | K26: 4 | R26: =J26*0.4461+K26*0.1485+L26*0.15*0.004+I26*0.0145+M26*0.145+N26*0.015+O26*0.01+P26*0.16+Q26*0.2 -> 0.594
A27: 22 | B27: 沈阳市 | C27: 浑南区 | D27: C1R8210112 | E27: 长公线 | F27: K0+870 | G27: K1+110 | H27: 0.2 | K27: 2 | R27: =J27*0.4461+K27*0.1485+L27*0.15*0.004+I27*0.0145+M27*0.145+N27*0.015+O27*0.01+P27*0.16+Q27*0.2 -> 0.297
A28: 23 | B28: 沈阳市 | C28: 浑南区 | D28: C1R5210112 | E28: 英东线 | F28: K0+500 | G28: K3+000 | H28: 2.5 | I28: 300 | K28: 4 | R28: =J28*0.4461+K28*0.1485+L28*0.15*0.004+I28*0.0145+M28*0.145+N28*0.015+O28*0.01+P28*0.16+Q28*0.2 -> 4.944
A29: 24 | B29: 沈阳市 | C29: 浑南区 | D29: CTL1210112 | E29: 施收线 | F29: K0+250 | G29: K1+800 | H29: 1.6 | I29: 300 | K29: 2 | R29: =J29*0.4461+K29*0.1485+L29*0.15*0.004+I29*0.0145+M29*0.145+N29*0.015+O29*0.01+P29*0.16+Q29*0.2 -> 4.647
A30: 25 | B30: 沈阳市 | C30: 浑南区 | D30: C1V1210112 | E30: 收兵线 | F30: K0+200 | G30: K0+600 | H30: 0.4 | K30: 2 | R30: =J30*0.4461+K30*0.1485+L30*0.15*0.004+I30*0.0145+M30*0.145+N30*0.015+O30*0.01+P30*0.16+Q30*0.2 -> 0.297
A31: 26 | B31: 沈阳市 | C31: 浑南区 | D31: C1U8210112 | E31: 李收线 | F31: K1+600 | G31: K1+800 | H31: 0.2 | K31: 2 | R31: =J31*0.4461+K31*0.1485+L31*0.15*0.004+I31*0.0145+M31*0.145+N31*0.015+O31*0.01+P31*0.16+Q31*0.2 -> 0.297
A32: 27 | B32: 沈阳市 | C32: 浑南区 | D32: C1H9210112 | E32: 李永线 | F32: K1+400 | G32: K3+700 | H32: 2.3 | K32: 4 | R32: =J32*0.4461+K32*0.1485+L32*0.15*0.004+I32*0.0145+M32*0.145+N32*0.015+O32*0.01+P32*0.16+Q32*0.2 -> 0.594
A33: 28 | B33: 沈阳市 | C33: 浑南区 | D33: C1V6210112 | E33: 高龙线 | F33: K1+800 | G33: K2+000 | H33: 0.2 | K33: 2 | R33: =J33*0.4461+K33*0.1485+L33*0.15*0.004+I33*0.0145+M33*0.145+N33*0.015+O33*0.01+P33*0.16+Q33*0.2 -> 0.297
A34: 29 | B34: 沈阳市 | C34: 浑南区 | D34: CTK7210112 | E34: 龙东线 | F34: K0+600 | G34: K1+400 | H34: 0.8 | K34: 6 | R34: =J34*0.4461+K34*0.1485+L34*0.15*0.004+I34*0.0145+M34*0.145+N34*0.015+O34*0.01+P34*0.16+Q34*0.2 -> 0.891
A35: 30 | B35: 沈阳市 | C35: 浑南区 | D35: C1P7210112 | E35: 潘畜线 | F35: K3+400 | G35: K3+600 | H35: 0.2 | K35: 2 | R35: =J35*0.4461+K35*0.1485+L35*0.15*0.004+I35*0.0145+M35*0.145+N35*0.015+O35*0.01+P35*0.16+Q35*0.2 -> 0.297
A36: 31 | B36: 沈阳市 | C36: 浑南区 | D36: C1T8210112 | E36: 金东线 | F36: K0+050 | G36: K3+050 | H36: 3 | I36: 300 | K36: 10 | R36: =J36*0.4461+K36*0.1485+L36*0.15*0.004+I36*0.0145+M36*0.145+N36*0.015+O36*0.01+P36*0.16+Q36*0.2 -> 5.835
A37: 32 | B37: 沈阳市 | C37: 浑南区 | D37: C1E3210112 | E37: 前魏线 | F37: K1+900 | G37: K4+900 | H37: 3 | I37: 650 | K37: 2 | R37: =J37*0.4461+K37*0.1485+L37*0.15*0.004+I37*0.0145+M37*0.145+N37*0.015+O37*0.01+P37*0.16+Q37*0.2 -> 9.722
A38: 33 | B38: 沈阳市 | C38: 浑南区 | D38: C1E5210112 | E38: 尖小线 | F38: K0+400 | G38: K0+550 | H38: 0.2 | I38: 150 | K38: 2 | R38: =J38*0.4461+K38*0.1485+L38*0.15*0.004+I38*0.0145+M38*0.145+N38*0.015+O38*0.01+P38*0.16+Q38*0.2 -> 2.472
A39: 34 | B39: 沈阳市 | C39: 浑南区 | D39: C1E7210112 | E39: 魏疙线 | F39: K0+500 | G39: K0+600 | H39: 0.1 | I39: 100 | R39: =J39*0.4461+K39*0.1485+L39*0.15*0.004+I39*0.0145+M39*0.145+N39*0.015+O39*0.01+P39*0.16+Q39*0.2 -> 1.45
A40: 35 | B40: 沈阳市 | C40: 浑南区 | D40: C1F2210112 | E40: 常蔡线 | F40: K0+000 | G40: K0+250 | H40: 0.3 | I40: 250 | R40: =J40*0.4461+K40*0.1485+L40*0.15*0.004+I40*0.0145+M40*0.145+N40*0.015+O40*0.01+P40*0.16+Q40*0.2 -> 3.625
A41: 36 | B41: 沈阳市 | C41: 辽中区 | D41: CJT2210122 | E41: 马郭线 | F41: K0+000 | G41: K1+200 | H41: 1.2 | I41: 70 | N41: 4 | R41: =J41*0.4461+K41*0.1485+L41*0.15*0.004+I41*0.0145+M41*0.145+N41*0.015+O41*0.01+P41*0.16+Q41*0.2 -> 1.075
A42: 37 | B42: 沈阳市 | C42: 辽中区 | D42: CTX8210122 | E42: 腰三线 | F42: K0+000 | G42: K1+590 | H42: 1.6 | I42: 40 | N42: 2 | Q42: 4 | R42: =J42*0.4461+K42*0.1485+L42*0.15*0.004+I42*0.0145+M42*0.145+N42*0.015+O42*0.01+P42*0.16+Q42*0.2 -> 1.41
A43: 38 | B43: 沈阳市 | C43: 辽中区 | D43: CTPH210122 | E43: 黄岔线 | F43: K0+500 | G43: K0+600 | H43: 0.1 | I43: 80 | N43: 2 | R43: =J43*0.4461+K43*0.1485+L43*0.15*0.004+I43*0.0145+M43*0.145+N43*0.015+O43*0.01+P43*0.16+Q43*0.2 -> 1.19
...

Sheet 鞍山2019
A1: 辽宁省2019年村级公路安防工程预安排计划
A2: 序号 | B2: 市 | C2: 县 | D2: 公路编号 | E2: 路线 名称 | F2: 起点 桩号 | G2: 终点 桩号 | H2: 里程 （公里） | I2: 处置工程数量 | R2: 投资 估算 （万元）
I3: 钢护栏长度（米） | J3: 标志数量 | L3: 标线 长度（米） | M3: 警示诱导设施 | Q3: 减速丘（个）
J4: 悬臂式（个） | K4: 单柱式（个） | M4: 线形诱导标（个） | N4: 道口 标柱（个） | O4: 示警桩（个） | P4: 凸面反光镜（个）
H5: =SUM(H6:H179) -> 168.4 | I5: =SUM(I6:I179) -> 58490 | J5: =SUM(J6:J179) -> 0 | K5: =SUM(K6:K179) -> 303 | L5: =SUM(L6:L179) -> 0 | M5: =SUM(M6:M179) -> 46 | N5: =SUM(N6:N179) -> 72 | O5: =SUM(O6:O179) -> 0 | ... R5: =SUM(R6:R179) -> 908.8105
A6: 1 | B6: 鞍山市 | C6: 海城市 | D6: CLT6210381 | E6: 朱金线 | F6: K0+000 | G6: K2+000 | H6: 2 | I6: 830 | K6: 5 | R6: =J6*0.4461+K6*0.1485+L6*0.15*0.004+I6*0.0145+M6*0.145+N6*0.015+O6*0.01+P6*0.16+Q6*0.2 -> 12.7775
A7: 2 | B7: 鞍山市 | C7: 海城市 | D7: CLT5210381 | E7: 朱二线 | F7: K0+000 | G7: K2+000 | H7: 2 | I7: 290 | K7: 3 | Q7: 2 | R7: =J7*0.4461+K7*0.1485+L7*0.15*0.004+I7*0.0145+M7*0.145+N7*0.015+O7*0.01+P7*0.16+Q7*0.2 -> 5.0505
A8: 3 | B8: 鞍山市 | C8: 海城市 | D8: CLT4210381 | E8: 庙头线 | F8: K0+000 | G8: K1+500 | H8: 1.5 | I8: 180 | K8: 1 | R8: =J8*0.4461+K8*0.1485+L8*0.15*0.004+I8*0.0145+M8*0.145+N8*0.015+O8*0.01+P8*0.16+Q8*0.2 -> 2.7585
A9: 4 | B9: 鞍山市 | C9: 海城市 | D9: CLTD210381 | E9: 大西线 | F9: K0+000 | G9: K1+500 | H9: 1.5 | I9: 60 | K9: 5 | N9: 2 | Q9: 2 | R9: =J9*0.4461+K9*0.1485+L9*0.15*0.004+I9*0.0145+M9*0.145+N9*0.015+O9*0.01+P9*0.16+Q9*0.2 -> 2.0425
A10: 5 | B10: 鞍山市 | C10: 海城市 | D10: CLSC210381 | E10: 里李线 | F10: K0+000 | G10: K1+500 | H10: 1.5 | I10: 500 | K10: 2 | R10: =J10*0.4461+K10*0.1485+L10*0.15*0.004+I10*0.0145+M10*0.145+N10*0.015+O10*0.01+P10*0.16+Q10*0.2 -> 7.547
A11: 6 | B11: 鞍山市 | C11: 海城市 | D11: CLSE210381 | E11: 营大线 | F11: K0+000 | G11: K1+000 | H11: 1 | I11: 40 | R11: =J11*0.4461+K11*0.1485+L11*0.15*0.004+I11*0.0145+M11*0.145+N11*0.015+O11*0.01+P11*0.16+Q11*0.2 -> 0.58
A12: 7 | B12: 鞍山市 | C12: 海城市 | D12: C3UO210381 | E12: 孙石线 | F12: K0+000 | G12: K2+500 | H12: 2.5 | I12: 1190 | K12: 6 | Q12: 2 | R12: =J12*0.4461+K12*0.1485+L12*0.15*0.004+I12*0.0145+M12*0.145+N12*0.015+O12*0.01+P12*0.16+Q12*0.2 -> 18.546
A13: 8 | B13: 鞍山市 | C13: 海城市 | D13: C3UQ210381 | E13: 石东线 | F13: K0+000 | G13: K2+800 | H13: 2.8 | I13: 340 | K13: 4 | Q13: 2 | R13: =J13*0.4461+K13*0.1485+L13*0.15*0.004+I13*0.0145+M13*0.145+N13*0.015+O13*0.01+P13*0.16+Q13*0.2 -> 5.924
A14: 9 | B14: 鞍山市 | C14: 海城市 | D14: C3UY210381 | E14: 夺老线 | F14: K0+000 | G14: K2+000 | H14: 2 | I14: 280 | K14: 2 | Q14: 2 | R14: =J14*0.4461+K14*0.1485+L14*0.15*0.004+I14*0.0145+M14*0.145+N14*0.015+O14*0.01+P14*0.16+Q14*0.2 -> 4.757
A15: 10 | B15: 鞍山市 | C15: 海城市 | D15: C3V8210381 | E15: 桐王线 | F15: K0+000 | G15: K1+000 | H15: 1 | I15: 210 | R15: =J15*0.4461+K15*0.1485+L15*0.15*0.004+I15*0.0145+M15*0.145+N15*0.015+O15*0.01+P15*0.16+Q15*0.2 -> 3.045
A16: 11 | B16: 鞍山市 | C16: 海城市 | D16: C3TI210381 | E16: 吉楼线 | F16: K0+500 | G16: K1+500 | H16: 1 | I16: 190 | K16: 2 | R16: =J16*0.4461+K16*0.1485+L16*0.15*0.004+I16*0.0145+M16*0.145+N16*0.015+O16*0.01+P16*0.16+Q16*0.2 -> 3.052
A17: 12 | B17: 鞍山市 | C17: 海城市 | D17: C3TI210381 | E17: 吉楼线 | F17: K3+000 | G17: K4+000 | H17: 1 | I17: 80 | R17: =J17*0.4461+K17*0.1485+L17*0.15*0.004+I17*0.0145+M17*0.145+N17*0.015+O17*0.01+P17*0.16+Q17*0.2 -> 1.16
A18: 13 | B18: 鞍山市 | C18: 海城市 | D18: C3TI210381 | E18: 吉楼线 | F18: K2+500 | G18: K2+800 | H18: 0.3 | I18: 170 | R18: =J18*0.4461+K18*0.1485+L18*0.15*0.004+I18*0.0145+M18*0.145+N18*0.015+O18*0.01+P18*0.16+Q18*0.2 -> 2.465
A19: 14 | B19: 鞍山市 | C19: 海城市 | D19: CLRZ210381 | E19: 韩蚂线 | F19: K1+800 | G19: K3+200 | H19: 1.4 | I19: 260 | R19: =J19*0.4461+K19*0.1485+L19*0.15*0.004+I19*0.0145+M19*0.145+N19*0.015+O19*0.01+P19*0.16+Q19*0.2 -> 3.77
A20: 15 | B20: 鞍山市 | C20: 海城市 | D20: CLS0210381 | E20: 东甘线 | F20: K2+500 | G20: K3+000 | H20: 0.5 | I20: 128 | R20: =J20*0.4461+K20*0.1485+L20*0.15*0.004+I20*0.0145+M20*0.145+N20*0.015+O20*0.01+P20*0.16+Q20*0.2 -> 1.856
A21: 16 | B21: 鞍山市 | C21: 海城市 | D21: CLS1210381 | E21: 前韩线 | F21: K1+800 | G21: K2+300 | H21: 0.5 | I21: 190 | R21: =J21*0.4461+K21*0.1485+L21*0.15*0.004+I21*0.0145+M21*0.145+N21*0.015+O21*0.01+P21*0.16+Q21*0.2 -> 2.755
A22: 17 | B22: 鞍山市 | C22: 海城市 | D22: CLPC210381 | E22: 八西线 | F22: K0+000 | G22: K2+000 | H22: 1.5 | I22: 186 | K22: 2 | R22: =J22*0.4461+K22*0.1485+L22*0.15*0.004+I22*0.0145+M22*0.145+N22*0.015+O22*0.01+P22*0.16+Q22*0.2 -> 2.994
A23: 18 | B23: 鞍山市 | C23: 海城市 | D23: CLPI210381 | E23: 耿郭线 | F23: K2+000 | G23: K4+000 | H23: 2 | I23: 260 | R23: =J23*0.4461+K23*0.1485+L23*0.15*0.004+I23*0.0145+M23*0.145+N23*0.015+O23*0.01+P23*0.16+Q23*0.2 -> 3.77
A24: 19 | B24: 鞍山市 | C24: 海城市 | D24: CLPF210381 | E24: 下外线 | F24: K2+500 | G24: K4+000 | H24: 1.5 | I24: 200 | K24: 6 | Q24: 2 | R24: =J24*0.4461+K24*0.1485+L24*0.15*0.004+I24*0.0145+M24*0.145+N24*0.015+O24*0.01+P24*0.16+Q24*0.2 -> 4.191
A25: 20 | B25: 鞍山市 | C25: 海城市 | D25: CLPG210381 | E25: 前太线 | F25: K0+000 | G25: K2+000 | H25: 2 | I25: 110 | R25: =J25*0.4461+K25*0.1485+L25*0.15*0.004+I25*0.0145+M25*0.145+N25*0.015+O25*0.01+P25*0.16+Q25*0.2 -> 1.595
A26: 21 | B26: 鞍山市 | C26: 海城市 | D26: C3QX210381 | E26: 北古线 | F26: K0+000 | G26: K3+000 | H26: 3 | I26: 170 | K26: 4 | Q26: 2 | R26: =J26*0.4461+K26*0.1485+L26*0.15*0.004+I26*0.0145+M26*0.145+N26*0.015+O26*0.01+P26*0.16+Q26*0.2 -> 3.459
A27: 22 | B27: 鞍山市 | C27: 海城市 | D27: C3R2210381 | E27: 山莫线 | F27: K0+000 | G27: K2+000 | H27: 2 | I27: 342 | K27: 4 | Q27: 2 | R27: =J27*0.4461+K27*0.1485+L27*0.15*0.004+I27*0.0145+M27*0.145+N27*0.015+O27*0.01+P27*0.16+Q27*0.2 -> 5.953
A28: 23 | B28: 鞍山市 | C28: 海城市 | D28: C3SF210381 | E28: 外屯线 | F28: K0+000 | G28: K1+000 | H28: 1 | I28: 172 | K28: 2 | Q28: 2 | R28: =J28*0.4461+K28*0.1485+L28*0.15*0.004+I28*0.0145+M28*0.145+N28*0.015+O28*0.01+P28*0.16+Q28*0.2 -> 3.191
A29: 24 | B29: 鞍山市 | C29: 海城市 | D29: C3Q0210381 | E29: 王王线 | F29: K0+000 | G29: K1+100 | H29: 1.1 | I29: 64 | K29: 3 | N29: 6 | R29: =J29*0.4461+K29*0.1485+L29*0.15*0.004+I29*0.0145+M29*0.145+N29*0.015+O29*0.01+P29*0.16+Q29*0.2 -> 1.4635
A30: 25 | B30: 鞍山市 | C30: 海城市 | D30: C3PZ210381 | E30: 前马线 | F30: K0+000 | G30: K3+000 | H30: 3 | I30: 60 | K30: 7 | N30: 16 | Q30: 2 | R30: =J30*0.4461+K30*0.1485+L30*0.15*0.004+I30*0.0145+M30*0.145+N30*0.015+O30*0.01+P30*0.16+Q30*0.2 -> 2.5495
A31: 26 | B31: 鞍山市 | C31: 海城市 | D31: C3Q7210381 | E31: 南开线 | F31: K0+000 | G31: K3+000 | H31: 3 | I31: 124 | K31: 9 | Q31: 2 | R31: =J31*0.4461+K31*0.1485+L31*0.15*0.004+I31*0.0145+M31*0.145+N31*0.015+O31*0.01+P31*0.16+Q31*0.2 -> 3.5345
A32: 27 | B32: 鞍山市 | C32: 海城市 | D32: C3Q7210381 | E32: 南开线 | F32: K3+000 | G32: K6+000 | H32: 3 | I32: 40 | K32: 1 | R32: =J32*0.4461+K32*0.1485+L32*0.15*0.004+I32*0.0145+M32*0.145+N32*0.015+O32*0.01+P32*0.16+Q32*0.2 -> 0.7285
A33: 28 | B33: 鞍山市 | C33: 海城市 | D33: C3P7210381 | E33: 中得线 | F33: K3+000 | G33: K3+900 | H33: 0.9 | I33: 124 | K33: 2 | R33: =J33*0.4461+K33*0.1485+L33*0.15*0.004+I33*0.0145+M33*0.145+N33*0.015+O33*0.01+P33*0.16+Q33*0.2 -> 2.095
A34: 29 | B34: 鞍山市 | C34: 海城市 | D34: C3S6210381 | E34: 黑王线 | F34: K0+000 | G34: K3+000 | H34: 3 | I34: 24 | K34: 3 | Q34: 2 | R34: =J34*0.4461+K34*0.1485+L34*0.15*0.004+I34*0.0145+M34*0.145+N34*0.015+O34*0.01+P34*0.16+Q34*0.2 -> 1.1935
A35: 30 | B35: 鞍山市 | C35: 海城市 | D35: C3S6210381 | E35: 黑王线 | F35: K3+000 | G35: K4+400 | H35: 1.4 | I35: 120 | K35: 1 | N35: 4 | R35: =J35*0.4461+K35*0.1485+L35*0.15*0.004+I35*0.0145+M35*0.145+N35*0.015+O35*0.01+P35*0.16+Q35*0.2 -> 1.9485
A36: 31 | B36: 鞍山市 | C36: 岫岩县 | D36: C3HN210323 | E36: 李卧线 | F36: 100 | G36: 800 | H36: =(G36-F36)/1000 -> 0.7 | I36: 540 | R36: =J36*0.4461+K36*0.1485+L36*0.15*0.004+I36*0.0145+M36*0.145+N36*0.015+O36*0.01+P36*0.16+Q36*0.2 -> 7.83
A37: 32 | B37: 鞍山市 | C37: 岫岩县 | D37: C3HL210323 | E37: 后罗线 | F37: 1100 | G37: 3200 | H37: =(G37-F37)/1000 -> 2.1 | I37: 768 | R37: =J37*0.4461+K37*0.1485+L37*0.15*0.004+I37*0.0145+M37*0.145+N37*0.015+O37*0.01+P37*0.16+Q37*0.2 -> 11.136
A38: 33 | B38: 鞍山市 | C38: 岫岩县 | D38: C3MO210323 | E38: 黄石线 | F38: 1600 | G38: 2000 | H38: =(G38-F38)/1000 -> 0.4 | I38: 300 | R38: =J38*0.4461+K38*0.1485+L38*0.15*0.004+I38*0.0145+M38*0.145+N38*0.015+O38*0.01+P38*0.16+Q38*0.2 -> 4.35
A39: 34 | B39: 鞍山市 | C39: 岫岩县 | D39: C3MV210323 | E39: 火东线 | F39: 1000 | G39: 2200 | H39: =(G39-F39)/1000 -> 1.2 | I39: 784 | K39: 4 | R39: =J39*0.4461+K39*0.1485+L39*0.15*0.004+I39*0.0145+M39*0.145+N39*0.015+O39*0.01+P39*0.16+Q39*0.2 -> 11.962
A40: 35 | B40: 鞍山市 | C40: 岫岩县 | D40: C3LY210323 | E40: 永林线 | F40: 0 | G40: 3000 | H40: =(G40-F40)/1000 -> 3 | I40: 3000 | R40: =J40*0.4461+K40*0.1485+L40*0.15*0.004+I40*0.0145+M40*0.145+N40*0.015+O40*0.01+P40*0.16+Q40*0.2 -> 43.5
...

Sheet 明细
A1: 附表4-2
A2: 朝阳市2024年农村公路安防工程建议计划
A3: 序号 | B3: 市 | C3: 县 | D3: 路线 名称 | E3: 行政等级 | F3: 起点桩号 | G3: 终点桩号 | H3: 里程 （公里） | I3: 处置工程数量 | R3: 投资 估算 （万元） | S3: 是否为三年调查库中项目
I4: 钢护栏长度（米） | J4: 标志数量 | L4: 标线 长度（米） | M4: 警示诱导设施 | Q4: 减速丘（个）
J5: 悬臂式（个） | K5: 单柱式（个） | M5: 线形诱导标（个） | N5: 道口 标柱（个） | O5: 示警桩（个） | P5: 凸面反光镜（个）
A6: 全市汇总 | H6: =SUM(H7:H10) -> 182.21 | I6: =SUM(I7:I10) -> 59225 | J6: =SUM(J7:J10) -> 10 | K6: =SUM(K7:K10) -> 4 | L6: =SUM(L7:L10) -> 0 | M6: =SUM(M7:M10) -> 28 | N6: =SUM(N7:N10) -> 578 | O6: =SUM(O7:O10) -> 54 | ... R6: =SUM(R7:R10) -> 877.3
B7: 县级 | H7: =SUMIFS(H:H,$E:$E,$B7) -> 53.4 | I7: =SUMIFS(I:I,$E:$E,$B7) -> 11888 | J7: =SUMIFS(J:J,$E:$E,$B7) -> 8 | K7: =SUMIFS(K:K,$E:$E,$B7) -> 0 | L7: =SUMIFS(L:L,$E:$E,$B7) -> 0 | M7: =SUMIFS(M:M,$E:$E,$B7) -> 28 | N7: =SUMIFS(N:N,$E:$E,$B7) -> 578 | O7: =SUMIFS(O:O,$E:$E,$B7) -> 44 | P7: =SUMIFS(P:P,$E:$E,$B7) -> 1 | Q7: =SUMIFS(Q:Q,$E:$E,$B7) -> 0 | R7: =ROUND(SUMIFS(R:R,$E:$E,$B7),1) -> 189.3
B8: 乡级 | H8: =SUMIFS(H:H,$E:$E,$B8) -> 45.71 | I8: =SUMIFS(I:I,$E:$E,$B8) -> 13992 | J8: =SUMIFS(J:J,$E:$E,$B8) -> 0 | K8: =SUMIFS(K:K,$E:$E,$B8) -> 0 | L8: =SUMIFS(L:L,$E:$E,$B8) -> 0 | M8: =SUMIFS(M:M,$E:$E,$B8) -> 0 | N8: =SUMIFS(N:N,$E:$E,$B8) -> 0 | O8: =SUMIFS(O:O,$E:$E,$B8) -> 0 | P8: =SUMIFS(P:P,$E:$E,$B8) -> 0 | Q8: =SUMIFS(Q:Q,$E:$E,$B8) -> 0 | R8: =ROUND(SUMIFS(R:R,$E:$E,$B8),1) -> 202.9
B9: 村级 | H9: =SUMIFS(H:H,$E:$E,$B9) -> 67.9 | I9: =SUMIFS(I:I,$E:$E,$B9) -> 23493 | J9: =SUMIFS(J:J,$E:$E,$B9) -> 2 | K9: =SUMIFS(K:K,$E:$E,$B9) -> 4 | L9: =SUMIFS(L:L,$E:$E,$B9) -> 0 | M9: =SUMIFS(M:M,$E:$E,$B9) -> 0 | N9: =SUMIFS(N:N,$E:$E,$B9) -> 0 | O9: =SUMIFS(O:O,$E:$E,$B9) -> 10 | P9: =SUMIFS(P:P,$E:$E,$B9) -> 0 | Q9: =SUMIFS(Q:Q,$E:$E,$B9) -> 0 | R9: =ROUND(SUMIFS(R:R,$E:$E,$B9),1) -> 342.2
B10: 路网外 | H10: =SUMIFS(H:H,$E:$E,$B10) -> 15.2 | I10: =SUMIFS(I:I,$E:$E,$B10) -> 9852 | J10: =SUMIFS(J:J,$E:$E,$B10) -> 0 | K10: =SUMIFS(K:K,$E:$E,$B10) -> 0 | L10: =SUMIFS(L:L,$E:$E,$B10) -> 0 | M10: =SUMIFS(M:M,$E:$E,$B10) -> 0 | N10: =SUMIFS(N:N,$E:$E,$B10) -> 0 | O10: =SUMIFS(O:O,$E:$E,$B10) -> 0 | P10: =SUMIFS(P:P,$E:$E,$B10) -> 0 | Q10: =SUMIFS(Q:Q,$E:$E,$B10) -> 0 | R10: =ROUND(SUMIFS(R:R,$E:$E,$B10),1) -> 142.9
A11: =ROW()-10 -> 1 | B11: 朝阳 | C11: 凌源市 | D11: 宋榆线 | E11: 县级 | F11: K1+500 | G11: K1+910 | N11: 16 | R11: =J11*0.4461+K11*0.1485+L11*0.15*0.004+I11*0.0145+M11*0.145+N11*0.015+O11*0.01+P11*0.16+Q11*0.2 -> 0.24 | S11: 是
A12: =ROW()-10 -> 2 | B12: 朝阳 | C12: 凌源市 | D12: 宋榆线 | E12: 县级 | F12: K1+930 | G12: K2+002 | H12: 0.1 | I12: 72 | R12: =J12*0.4461+K12*0.1485+L12*0.15*0.004+I12*0.0145+M12*0.145+N12*0.015+O12*0.01+P12*0.16+Q12*0.2 -> 1.044 | S12: 是
A13: =ROW()-10 -> 3 | B13: 朝阳 | C13: 凌源市 | D13: 宋榆线 | E13: 县级 | F13: K2+160 | G13: K3+330 | N13: 12 | R13: =J13*0.4461+K13*0.1485+L13*0.15*0.004+I13*0.0145+M13*0.145+N13*0.015+O13*0.01+P13*0.16+Q13*0.2 -> 0.18 | S13: 是
A14: =ROW()-10 -> 4 | B14: 朝阳 | C14: 凌源市 | D14: 宋榆线 | E14: 县级 | F14: K3+350 | G14: K3+522 | H14: 0.2 | I14: 172 | R14: =J14*0.4461+K14*0.1485+L14*0.15*0.004+I14*0.0145+M14*0.145+N14*0.015+O14*0.01+P14*0.16+Q14*0.2 -> 2.494 | S14: 是
A15: =ROW()-10 -> 5 | B15: 朝阳 | C15: 凌源市 | D15: 宋榆线 | E15: 县级 | F15: K3+540 | G15: K7+800 | N15: 44 | R15: =J15*0.4461+K15*0.1485+L15*0.15*0.004+I15*0.0145+M15*0.145+N15*0.015+O15*0.01+P15*0.16+Q15*0.2 -> 0.66 | S15: 是
A16: =ROW()-10 -> 6 | B16: 朝阳 | C16: 凌源市 | D16: 凌边线 | E16: 县级 | F16: K6+510 | G16: K7+250 | N16: 16 | R16: =J16*0.4461+K16*0.1485+L16*0.15*0.004+I16*0.0145+M16*0.145+N16*0.015+O16*0.01+P16*0.16+Q16*0.2 -> 0.24 | S16: 是
A17: =ROW()-10 -> 7 | B17: 朝阳 | C17: 凌源市 | D17: 凌边线 | E17: 县级 | F17: K7+930 | G17: K7+980 | H17: 0.1 | I17: 52 | R17: =J17*0.4461+K17*0.1485+L17*0.15*0.004+I17*0.0145+M17*0.145+N17*0.015+O17*0.01+P17*0.16+Q17*0.2 -> 0.754 | S17: 是
A18: =ROW()-10 -> 8 | B18: 朝阳 | C18: 凌源市 | D18: 凌边线 | E18: 县级 | F18: K9+080 | G18: K11+280 | N18: 20 | R18: =J18*0.4461+K18*0.1485+L18*0.15*0.004+I18*0.0145+M18*0.145+N18*0.015+O18*0.01+P18*0.16+Q18*0.2 -> 0.3 | S18: 是
A19: =ROW()-10 -> 9 | B19: 朝阳 | C19: 凌源市 | D19: 凌边线 | E19: 县级 | F19: K11+500 | G19: K11+580 | H19: 0.1 | I19: 80 | R19: =J19*0.4461+K19*0.1485+L19*0.15*0.004+I19*0.0145+M19*0.145+N19*0.015+O19*0.01+P19*0.16+Q19*0.2 -> 1.16 | S19: 是
A20: =ROW()-10 -> 10 | B20: 朝阳 | C20: 凌源市 | D20: 凌边线 | E20: 县级 | F20: K13+320 | G20: K21+640 | N20: 52 | R20: =J20*0.4461+K20*0.1485+L20*0.15*0.004+I20*0.0145+M20*0.145+N20*0.015+O20*0.01+P20*0.16+Q20*0.2 -> 0.78 | S20: 是
A21: =ROW()-10 -> 11 | B21: 朝阳 | C21: 凌源市 | D21: 南五线 | E21: 县级 | F21: K13+650 | G21: K15+420 | N21: 88 | R21: =J21*0.4461+K21*0.1485+L21*0.15*0.004+I21*0.0145+M21*0.145+N21*0.015+O21*0.01+P21*0.16+Q21*0.2 -> 1.32 | S21: 是
A22: =ROW()-10 -> 12 | B22: 朝阳 | C22: 凌源市 | D22: 南五线 | E22: 县级 | F22: K15+730 | G22: K15+818 | H22: 0.1 | I22: 88 | R22: =J22*0.4461+K22*0.1485+L22*0.15*0.004+I22*0.0145+M22*0.145+N22*0.015+O22*0.01+P22*0.16+Q22*0.2 -> 1.276 | S22: 是
A23: =ROW()-10 -> 13 | B23: 朝阳 | C23: 凌源市 | D23: 南五线 | E23: 县级 | F23: K15+740 | G23: K15+800 | H23: 0.1 | I23: 60 | R23: =J23*0.4461+K23*0.1485+L23*0.15*0.004+I23*0.0145+M23*0.145+N23*0.015+O23*0.01+P23*0.16+Q23*0.2 -> 0.87 | S23: 是
A24: =ROW()-10 -> 14 | B24: 朝阳 | C24: 凌源市 | D24: 南五线 | E24: 县级 | F24: K15+85 | G24: K17+600 | N24: 20 | R24: =J24*0.4461+K24*0.1485+L24*0.15*0.004+I24*0.0145+M24*0.145+N24*0.015+O24*0.01+P24*0.16+Q24*0.2 -> 0.3 | S24: 是
A25: =ROW()-10 -> 15 | B25: 朝阳 | C25: 凌源市 | D25: 南五线 | E25: 县级 | F25: K17+740 | G25: K17+880 | H25: 0.1 | I25: 280 | R25: =J25*0.4461+K25*0.1485+L25*0.15*0.004+I25*0.0145+M25*0.145+N25*0.015+O25*0.01+P25*0.16+Q25*0.2 -> 4.06 | S25: 是
A26: =ROW()-10 -> 16 | B26: 朝阳 | C26: 凌源市 | D26: 南五线 | E26: 县级 | F26: K18+390 | G26: K19+800 | N26: 20 | R26: =J26*0.4461+K26*0.1485+L26*0.15*0.004+I26*0.0145+M26*0.145+N26*0.015+O26*0.01+P26*0.16+Q26*0.2 -> 0.3 | S26: 是
A27: =ROW()-10 -> 17 | B27: 朝阳 | C27: 凌源市 | D27: 南五线 | E27: 县级 | F27: K19+900 | G27: K20+180 | H27: 0.3 | I27: 280 | R27: =J27*0.4461+K27*0.1485+L27*0.15*0.004+I27*0.0145+M27*0.145+N27*0.015+O27*0.01+P27*0.16+Q27*0.2 -> 4.06 | S27: 是
A28: =ROW()-10 -> 18 | B28: 朝阳 | C28: 凌源市 | D28: 南五线 | E28: 县级 | F28: K20+35 | G28: K20+622 | H28: 0.3 | I28: 272 | N28: 4 | R28: =J28*0.4461+K28*0.1485+L28*0.15*0.004+I28*0.0145+M28*0.145+N28*0.015+O28*0.01+P28*0.16+Q28*0.2 -> 4.004 | S28: 是
A29: =ROW()-10 -> 19 | B29: 朝阳 | C29: 凌源市 | D29: 南五线 | E29: 县级 | F29: K20+550 | G29: K20+630 | H29: 0.1 | I29: 80 | R29: =J29*0.4461+K29*0.1485+L29*0.15*0.004+I29*0.0145+M29*0.145+N29*0.015+O29*0.01+P29*0.16+Q29*0.2 -> 1.16 | S29: 是
A30: =ROW()-10 -> 20 | B30: 朝阳 | C30: 凌源市 | D30: 南五线 | E30: 县级 | F30: K20+700 | G30: K21+300 | H30: 0.3 | I30: 400 | R30: =J30*0.4461+K30*0.1485+L30*0.15*0.004+I30*0.0145+M30*0.145+N30*0.015+O30*0.01+P30*0.16+Q30*0.2 -> 5.8 | S30: 是
A31: =ROW()-10 -> 21 | B31: 朝阳 | C31: 凌源市 | D31: 南五线 | E31: 县级 | F31: K21+120 | G31: K23+200 | N31: 36 | R31: =J31*0.4461+K31*0.1485+L31*0.15*0.004+I31*0.0145+M31*0.145+N31*0.015+O31*0.01+P31*0.16+Q31*0.2 -> 0.54 | S31: 是
A32: =ROW()-10 -> 22 | B32: 朝阳 | C32: 凌源市 | D32: 南五线 | E32: 县级 | F32: k23+300 | G32: K23+500 | H32: 0.2 | I32: 200 | R32: =J32*0.4461+K32*0.1485+L32*0.15*0.004+I32*0.0145+M32*0.145+N32*0.015+O32*0.01+P32*0.16+Q32*0.2 -> 2.9 | S32: 是
A33: =ROW()-10 -> 23 | B33: 朝阳 | C33: 凌源市 | D33: 南五线 | E33: 县级 | F33: K24+000 | G33: K24+330 | N33: 8 | R33: =J33*0.4461+K33*0.1485+L33*0.15*0.004+I33*0.0145+M33*0.145+N33*0.015+O33*0.01+P33*0.16+Q33*0.2 -> 0.12 | S33: 是
A34: =ROW()-10 -> 24 | B34: 朝阳 | C34: 凌源市 | D34: 南五线 | E34: 县级 | F34: K24+520 | G34: K24+960 | H34: 0.4 | I34: 440 | R34: =J34*0.4461+K34*0.1485+L34*0.15*0.004+I34*0.0145+M34*0.145+N34*0.015+O34*0.01+P34*0.16+Q34*0.2 -> 6.38 | S34: 是
A35: =ROW()-10 -> 25 | B35: 朝阳 | C35: 凌源市 | D35: 南五线 | E35: 县级 | F35: K25+180 | G35: K28+210 | N35: 44 | R35: =J35*0.4461+K35*0.1485+L35*0.15*0.004+I35*0.0145+M35*0.145+N35*0.015+O35*0.01+P35*0.16+Q35*0.2 -> 0.66 | S35: 是
A36: =ROW()-10 -> 26 | B36: 朝阳 | C36: 凌源市 | D36: 四百线 | E36: 县级 | F36: k16+240 | G36: K18+750 | N36: 176 | R36: =J36*0.4461+K36*0.1485+L36*0.15*0.004+I36*0.0145+M36*0.145+N36*0.015+O36*0.01+P36*0.16+Q36*0.2 -> 2.64 | S36: 是
A37: =ROW()-10 -> 27 | B37: 朝阳 | C37: 凌源市 | D37: 叨柏线 | E37: 乡级 | F37: k8+000 | G37: k9+600 | H37: 1.6 | I37: 1200 | R37: =J37*0.4461+K37*0.1485+L37*0.15*0.004+I37*0.0145+M37*0.145+N37*0.015+O37*0.01+P37*0.16+Q37*0.2 -> 17.4 | S37: 否
A38: =ROW()-10 -> 28 | B38: 朝阳 | C38: 凌源市 | D38: 坤碾线 | E38: 乡级 | F38: k26+600 | G38: k27+000 | H38: 0.4 | I38: 248 | R38: =J38*0.4461+K38*0.1485+L38*0.15*0.004+I38*0.0145+M38*0.145+N38*0.015+O38*0.01+P38*0.16+Q38*0.2 -> 3.596 | S38: 否
A39: =ROW()-10 -> 29 | B39: 朝阳 | C39: 凌源市 | D39: 坤碾线 | E39: 乡级 | F39: k27+300 | G39: k27+600 | H39: 0.3 | I39: 60 | R39: =J39*0.4461+K39*0.1485+L39*0.15*0.004+I39*0.0145+M39*0.145+N39*0.015+O39*0.01+P39*0.16+Q39*0.2 -> 0.87 | S39: 否
A40: =ROW()-10 -> 30 | B40: 朝阳 | C40: 凌源市 | D40: 雹郭线 | E40: 乡级 | F40: k4+600 | G40: k5+000 | H40: 0.4 | I40: 400 | R40: =J40*0.4461+K40*0.1485+L40*0.15*0.004+I40*0.0145+M40*0.145+N40*0.015+O40*0.01+P40*0.16+Q40*0.2 -> 5.8 | S40: 是
...

Sheet 本溪2020
A1: 辽宁省2019年村级公路安防工程预安排计划
A2: 序号 | B2: 市 | C2: 县 | D2: 公路编号 | E2: 路线 名称 | F2: 起点 桩号 | G2: 终点 桩号 | H2: 里程 （公里） | I2: 处置工程数量 | R2: 投资 估算 （万元）
I3: 钢护栏长度（米） | J3: 标志数量 | L3: 标线 长度（米） | M3: 警示诱导设施 | Q3: 减速丘（个）
J4: 悬臂式（个） | K4: 单柱式（个） | M4: 线形诱导标（个） | N4: 道口 标柱（个） | O4: 示警桩（个） | P4: 凸面反光镜（个） | R4: 燃油税 | S4: 车购税
H5: =SUM(H6:H111) -> 143.3 | I5: =SUM(I6:I111) -> 36733 | J5: =SUM(J6:J111) -> 0 | K5: =SUM(K6:K111) -> 331 | L5: =SUM(L6:L111) -> 0 | M5: =SUM(M6:M111) -> 21 | N5: =SUM(N6:N111) -> 146 | O5: =SUM(O6:O111) -> 6 | ... R5: =SUM(R6:R111) -> 589.1
A6: 1 | B6: 本溪市 | C6: 本溪县 | D6: C53C210521 | E6: 本敬线 | F6: K0+000 | G6: K1+000 | H6: 1 | I6: 240 | K6: 2 | R6: 3.8
A7: 2 | B7: 本溪市 | C7: 本溪县 | D7: C5T1210521 | E7: 河北线 | F7: K0+200 | G7: K0+400 | H7: 0.2 | I7: 72 | R7: 1
A8: 3 | B8: 本溪市 | C8: 本溪县 | D8: C5A4210521 | E8: 长边线 | F8: K0+000 | G8: K2+000 | H8: 2 | I8: 1080 | K8: 4 | R8: 16.3
A9: 4 | B9: 本溪市 | C9: 本溪县 | D9: C5A5210521 | E9: 红大线 | F9: K0+000 | G9: K1+300 | H9: 1.3 | I9: 68 | K9: 3 | R9: 1.4
A10: 5 | B10: 本溪市 | C10: 本溪县 | D10: C5A6210521 | E10: 东洋线 | F10: K0+000 | G10: K1+300 | H10: 1.3 | I10: 160 | K10: 5 | R10: 3.1
A11: 6 | B11: 本溪市 | C11: 本溪县 | D11: C5A7210521 | E11: 荒边线 | F11: K0+000 | G11: K1+400 | H11: 1.4 | I11: 770 | K11: 3 | P11: 1 | R11: 11.8
A12: 7 | B12: 本溪市 | C12: 本溪县 | D12: C5A8210521 | E12: 荒汪线 | F12: K0+000 | G12: K1+200 | H12: 1.2 | I12: 820 | K12: 7 | R12: 12.9
A13: 8 | B13: 本溪市 | C13: 本溪县 | D13: C5X7210521 | E13: 河西线 | F13: K0+000 | G13: K1+300 | H13: 1.3 | I13: 710 | K13: 2 | R13: 10.6
A14: 9 | B14: 本溪市 | C14: 本溪县 | D14: C597210521 | E14: 兰于线 | F14: K0+000 | G14: K1+100 | H14: 1.1 | I14: 560 | K14: 4 | Q14: 2 | R14: 9.1
A15: 10 | B15: 本溪市 | C15: 本溪县 | D15: C598210521 | E15: 汤城线 | F15: K23+400 | G15: K26+300 | H15: 2.9 | I15: 300 | K15: 6 | P15: 1 | R15: 5.4
A16: 11 | B16: 本溪市 | C16: 本溪县 | D16: C5V8210521 | E16: 柳铁线 | F16: K0+000 | G16: K0+900 | H16: 0.9 | I16: 44 | K16: 4 | R16: 1.2
A17: 12 | B17: 本溪市 | C17: 本溪县 | D17: C52Z210521 | E17: 西碱线 | F17: K0+000 | G17: K0+600 | H17: 0.6 | I17: 136 | K17: 4 | R17: 2.6
A18: 13 | B18: 本溪市 | C18: 本溪县 | D18: C5C2210521 | E18: 王排线 | F18: K0+000 | G18: K1+700 | H18: 1.4 | I18: 100 | K18: 4 | R18: 2
A19: 14 | B19: 本溪市 | C19: 本溪县 | D19: C5S9210521 | E19: 铁西线 | F19: K0+000 | G19: K1+300 | H19: 1.3 | I19: 144 | K19: 4 | R19: 2.7
A20: 15 | B20: 本溪市 | C20: 本溪县 | D20: C5B4210521 | E20: 民金线 | F20: K0+000 | G20: K1+000 | H20: 1 | I20: 160 | K20: 3 | R20: 2.8
A21: 16 | B21: 本溪市 | C21: 本溪县 | D21: C516210521 | E21: 田西线 | F21: K0+000 | G21: K1+500 | H21: 1.5 | I21: 1280 | K21: 2 | R21: 18.9
A22: 17 | B22: 本溪市 | C22: 本溪县 | D22: C52L210521 | E22: 盘杨线 | F22: K0+000 | G22: K1+200 | H22: 1.2 | I22: 156 | K22: 3 | R22: 2.7
A23: 18 | B23: 本溪市 | C23: 本溪县 | D23: C518210521 | E23: 田本线 | F23: K0+000 | G23: K2+700 | H23: 2.7 | I23: 496 | K23: 7 | N23: 4 | P23: 1 | R23: 8.5
A24: 19 | B24: 本溪市 | C24: 本溪县 | D24: C5C3210521 | E24: 魏孙线 | F24: K0+000 | G24: K1+500 | H24: 1.5 | I24: 340 | K24: 4 | N24: 4 | R24: 5.6
A25: 20 | B25: 本溪市 | C25: 本溪县 | D25: C5C7210521 | E25: 太荒线 | F25: K0+000 | G25: K2+900 | H25: 2.9 | I25: 792 | K25: 15 | M25: 15 | N25: 2 | P25: 1 | R25: 16.1
A26: 21 | B26: 本溪市 | C26: 本溪县 | D26: C5V1210521 | E26: 大冰线 | F26: K0+000 | G26: K2+600 | H26: 2.6 | I26: 404 | K26: 6 | N26: 4 | R26: 6.8
A27: 22 | B27: 本溪市 | C27: 本溪县 | D27: C5B8210521 | E27: 北蛤线 | F27: K0+000 | G27: K2+200 | H27: 2.2 | I27: 644 | K27: 5 | N27: 4 | R27: 10.1
A28: 23 | B28: 本溪市 | C28: 本溪县 | D28: C5C6210521 | E28: 张茅线 | F28: K0+000 | G28: K2+200 | H28: 2.2 | I28: 304 | K28: 5 | R28: 5.2
A29: 24 | B29: 本溪市 | C29: 本溪县 | D29: C5T2210521 | E29: 本沟线 | F29: K0+000 | G29: K1+000 | H29: 1 | I29: 120 | K29: 6 | N29: 2 | P29: 1 | R29: 2.8
A30: 25 | B30: 本溪市 | C30: 本溪县 | D30: C5T5210521 | E30: 石茅线 | F30: K0+000 | G30: K1+100 | H30: 1.1 | I30: 428 | K30: 5 | P30: 1 | R30: 7.1
A31: 26 | B31: 本溪市 | C31: 本溪县 | D31: C5R5210521 | E31: 后围线 | F31: K0+000 | G31: K0+700 | H31: 0.7 | I31: 84 | K31: 2 | N31: 2 | R31: 1.5
A32: 27 | B32: 本溪市 | C32: 本溪县 | D32: C517210521 | E32: 后崴线 | F32: K0+000 | G32: K1+800 | H32: 1.8 | I32: 80 | K32: 4 | N32: 4 | R32: 1.8
A33: 28 | B33: 本溪市 | C33: 本溪县 | D33: C5M910521 | E33: 松养线 | F33: K0+000 | G33: K0+400 | H33: 0.4 | I33: 48 | K33: 3 | R33: 1.1
A34: 29 | B34: 本溪市 | C34: 本溪县 | D34: C5C9210521 | E34: 安老线 | F34: K0+000 | G34: K1+200 | H34: 1.2 | I34: 372 | K34: 2 | N34: 4 | R34: 5.8
A35: 30 | B35: 本溪市 | C35: 本溪县 | D35: C5D2210521 | E35: 花花线 | F35: K0+000 | G35: K2+900 | H35: 2.9 | I35: 400 | K35: 5 | N35: 8 | R35: 6.7
A36: 31 | B36: 本溪市 | C36: 本溪县 | D36: C5D5210521 | E36: 磙蒿线 | F36: K0+000 | G36: K1+000 | H36: 1 | I36: 100 | K36: 3 | N36: 4 | R36: 2
A37: 32 | B37: 本溪市 | C37: 本溪县 | D37: C52Y210521 | E37: 三碾线 | F37: K0+000 | G37: K1+000 | H37: 1 | I37: 92 | K37: 3 | N37: 4 | R37: 1.8
A38: 33 | B38: 本溪市 | C38: 本溪县 | D38: C5D4210521 | E38: 田于线 | F38: K0+000 | G38: K2+900 | H38: 2.9 | I38: 604 | K38: 6 | N38: 4 | R38: 9.7
A39: 34 | B39: 本溪市 | C39: 本溪县 | D39: C5D4210521 | E39: 田于线 | F39: K2+900 | G39: K3+200 | H39: 0.3 | I39: 100 | K39: 2 | R39: 1.7
A40: 35 | B40: 本溪市 | C40: 本溪县 | D40: C5D7210521 | E40: 红李线 | F40: K0+000 | G40: K1+000 | H40: 1 | I40: 760 | K40: 3 | N40: 4 | R40: 11.5
...

Sheet 丹东2019
A1: 辽宁省2019年村级公路安防工程预安排计划
A2: 序号 | B2: 市 | C2: 县 | D2: 公路编号 | E2: 路线 名称 | F2: 起点 桩号 | G2: 终点 桩号 | H2: 里程 （公里） | I2: 处置工程数量 | R2: 投资 估算 （万元）
I3: 钢护栏长度（米） | J3: 标志数量 | L3: 标线 长度（米） | M3: 警示诱导设施 | Q3: 减速丘（个）
J4: 悬臂式（个） | K4: 单柱式（个） | M4: 线形诱导标（个） | N4: 道口 标柱（个） | O4: 示警桩（个） | P4: 凸面反光镜（个）
B5: 丹东市 | D5: 合计 | H5: =SUM(H6:H229) -> 154.2 | I5: =SUM(I6:I229) -> 67606 | J5: =SUM(J6:J229) -> 0 | K5: =SUM(K6:K229) -> 487 | L5: =SUM(L6:L229) -> 0 | M5: =SUM(M6:M229) -> 29 | N5: =SUM(N6:N229) -> 66 | O5: =SUM(O6:O229) -> 32 | ... R5: =SUM(R6:R229) -> 1060.1215
A6: 1 | B6: 丹东市 | C6: 东港市 | D6: CQA7210681 | E6: 小孵线 | F6: K0+800 | G6: K0+900 | H6: 0.1 | K6: 2 | R6: =J6*0.4461+K6*0.1485+L6*0.15*0.004+I6*0.0145+M6*0.145+N6*0.015+O6*0.01+P6*0.16+Q6*0.2 -> 0.297
A7: 2 | B7: 丹东市 | C7: 东港市 | D7: CQA5210681 | E7: 范庙线 | F7: K0+000 | G7: K2+400 | H7: 2.4 | K7: 12 | R7: =J7*0.4461+K7*0.1485+L7*0.15*0.004+I7*0.0145+M7*0.145+N7*0.015+O7*0.01+P7*0.16+Q7*0.2 -> 1.782
A8: 3 | B8: 丹东市 | C8: 东港市 | D8: CQC8210681 | E8: 范由线 | F8: K0+000 | G8: K1+100 | H8: 1.1 | I8: 32 | K8: 6 | R8: =J8*0.4461+K8*0.1485+L8*0.15*0.004+I8*0.0145+M8*0.145+N8*0.015+O8*0.01+P8*0.16+Q8*0.2 -> 1.355
A9: 4 | B9: 丹东市 | C9: 东港市 | D9: CQC8210681 | E9: 范由线 | F9: K2+000 | G9: K2+300 | H9: 0.3 | K9: 4 | R9: =J9*0.4461+K9*0.1485+L9*0.15*0.004+I9*0.0145+M9*0.145+N9*0.015+O9*0.01+P9*0.16+Q9*0.2 -> 0.594
A10: 5 | B10: 丹东市 | C10: 东港市 | D10: CQC8210681 | E10: 范由线 | F10: K3+000 | G10: K3+100 | H10: 0.1 | I10: 48 | K10: 1 | R10: =J10*0.4461+K10*0.1485+L10*0.15*0.004+I10*0.0145+M10*0.145+N10*0.015+O10*0.01+P10*0.16+Q10*0.2 -> 0.8445
A11: 6 | B11: 丹东市 | C11: 东港市 | D11: C6R3210681 | E11: 楼小线 | F11: K0+000 | G11: K0+100 | H11: 0.1 | K11: 1 | R11: =J11*0.4461+K11*0.1485+L11*0.15*0.004+I11*0.0145+M11*0.145+N11*0.015+O11*0.01+P11*0.16+Q11*0.2 -> 0.1485
A12: 7 | B12: 丹东市 | C12: 东港市 | D12: C6R3210681 | E12: 楼小线 | F12: K0+600 | G12: K0+700 | H12: 0.1 | K12: 2 | R12: =J12*0.4461+K12*0.1485+L12*0.15*0.004+I12*0.0145+M12*0.145+N12*0.015+O12*0.01+P12*0.16+Q12*0.2 -> 0.297
A13: 8 | B13: 丹东市 | C13: 东港市 | D13: C6R3210681 | E13: 楼小线 | F13: K1+200 | G13: K1+300 | H13: 0.1 | K13: 3 | R13: =J13*0.4461+K13*0.1485+L13*0.15*0.004+I13*0.0145+M13*0.145+N13*0.015+O13*0.01+P13*0.16+Q13*0.2 -> 0.4455
A14: 9 | B14: 丹东市 | C14: 东港市 | D14: C6R3210681 | E14: 楼小线 | F14: K2+500 | G14: K2+700 | H14: 0.2 | I14: 152 | K14: 3 | R14: =J14*0.4461+K14*0.1485+L14*0.15*0.004+I14*0.0145+M14*0.145+N14*0.015+O14*0.01+P14*0.16+Q14*0.2 -> 2.6495
A15: 10 | B15: 丹东市 | C15: 东港市 | D15: C6R3210681 | E15: 楼小线 | F15: K2+900 | G15: K4+400 | H15: 1.5 | K15: 7 | R15: =J15*0.4461+K15*0.1485+L15*0.15*0.004+I15*0.0145+M15*0.145+N15*0.015+O15*0.01+P15*0.16+Q15*0.2 -> 1.0395
A16: 11 | B16: 丹东市 | C16: 东港市 | D16: C6R3210681 | E16: 楼小线 | F16: K4+600 | G16: K4+700 | H16: 0.1 | K16: 3 | R16: =J16*0.4461+K16*0.1485+L16*0.15*0.004+I16*0.0145+M16*0.145+N16*0.015+O16*0.01+P16*0.16+Q16*0.2 -> 0.4455
A17: 12 | B17: 丹东市 | C17: 东港市 | D17: CQAK210681 | E17: 楼盖线 | F17: K0+000 | G17: K0+500 | H17: 0.5 | I17: 140 | K17: 3 | R17: =J17*0.4461+K17*0.1485+L17*0.15*0.004+I17*0.0145+M17*0.145+N17*0.015+O17*0.01+P17*0.16+Q17*0.2 -> 2.4755
A18: 13 | B18: 丹东市 | C18: 东港市 | D18: CQAK210681 | E18: 楼盖线 | F18: K0+800 | G18: K1+000 | H18: 0.2 | K18: 3 | R18: =J18*0.4461+K18*0.1485+L18*0.15*0.004+I18*0.0145+M18*0.145+N18*0.015+O18*0.01+P18*0.16+Q18*0.2 -> 0.4455
A19: 14 | B19: 丹东市 | C19: 东港市 | D19: CQAZ210681 | E19: 小医线 | F19: K0+000 | G19: K0+300 | H19: 0.3 | I19: 280 | K19: 2 | R19: =J19*0.4461+K19*0.1485+L19*0.15*0.004+I19*0.0145+M19*0.145+N19*0.015+O19*0.01+P19*0.16+Q19*0.2 -> 4.357
A20: 15 | B20: 丹东市 | C20: 东港市 | D20: CQAZ210681 | E20: 小医线 | F20: K0+700 | G20: K1+000 | H20: 0.3 | K20: 4 | R20: =J20*0.4461+K20*0.1485+L20*0.15*0.004+I20*0.0145+M20*0.145+N20*0.015+O20*0.01+P20*0.16+Q20*0.2 -> 0.594
A21: 16 | B21: 丹东市 | C21: 东港市 | D21: C6R6210681 | E21: 三李线 | F21: K0+000 | G21: K0+500 | H21: 0.5 | I21: 500 | K21: 4 | N21: 2 | R21: =J21*0.4461+K21*0.1485+L21*0.15*0.004+I21*0.0145+M21*0.145+N21*0.015+O21*0.01+P21*0.16+Q21*0.2 -> 7.874
A22: 17 | B22: 丹东市 | C22: 东港市 | D22: C6R6210681 | E22: 三李线 | F22: K0+500 | G22: K3+500 | H22: 3 | I22: 1700 | K22: 6 | R22: =J22*0.4461+K22*0.1485+L22*0.15*0.004+I22*0.0145+M22*0.145+N22*0.015+O22*0.01+P22*0.16+Q22*0.2 -> 25.541
A23: 18 | B23: 丹东市 | C23: 东港市 | D23: C6E3210681 | E23: 东常线 | F23: K0+000 | G23: K0+100 | H23: 0.1 | K23: 1 | R23: =J23*0.4461+K23*0.1485+L23*0.15*0.004+I23*0.0145+M23*0.145+N23*0.015+O23*0.01+P23*0.16+Q23*0.2 -> 0.1485
A24: 19 | B24: 丹东市 | C24: 东港市 | D24: C6E3210681 | E24: 东常线 | F24: K1+600 | G24: K1+700 | H24: 0.1 | K24: 3 | N24: 2 | R24: =J24*0.4461+K24*0.1485+L24*0.15*0.004+I24*0.0145+M24*0.145+N24*0.015+O24*0.01+P24*0.16+Q24*0.2 -> 0.4755
A25: 20 | B25: 丹东市 | C25: 东港市 | D25: C6E3210681 | E25: 东常线 | F25: K2+300 | G25: K2+400 | H25: 0.1 | K25: 2 | R25: =J25*0.4461+K25*0.1485+L25*0.15*0.004+I25*0.0145+M25*0.145+N25*0.015+O25*0.01+P25*0.16+Q25*0.2 -> 0.297
A26: 21 | B26: 丹东市 | C26: 东港市 | D26: C6EZ210681 | E26: 万楼线 | F26: K0+000 | G26: K1+400 | H26: 1.4 | K26: 6 | R26: =J26*0.4461+K26*0.1485+L26*0.15*0.004+I26*0.0145+M26*0.145+N26*0.015+O26*0.01+P26*0.16+Q26*0.2 -> 0.891
A27: 22 | B27: 丹东市 | C27: 东港市 | D27: C6EY210681 | E27: 孙通线 | F27: K1+800 | G27: K1+900 | H27: 0.1 | K27: 1 | R27: =J27*0.4461+K27*0.1485+L27*0.15*0.004+I27*0.0145+M27*0.145+N27*0.015+O27*0.01+P27*0.16+Q27*0.2 -> 0.1485
A28: 23 | B28: 丹东市 | C28: 东港市 | D28: C6KV210681 | E28: 张小线 | F28: K0+000 | G28: K0+500 | H28: 0.5 | I28: 100 | K28: 3 | R28: =J28*0.4461+K28*0.1485+L28*0.15*0.004+I28*0.0145+M28*0.145+N28*0.015+O28*0.01+P28*0.16+Q28*0.2 -> 1.8955
A29: 24 | B29: 丹东市 | C29: 东港市 | D29: C6KV210681 | E29: 张小线 | F29: K0+800 | G29: K1+100 | H29: 0.3 | I29: 132 | K29: 1 | R29: =J29*0.4461+K29*0.1485+L29*0.15*0.004+I29*0.0145+M29*0.145+N29*0.015+O29*0.01+P29*0.16+Q29*0.2 -> 2.0625
A30: 25 | B30: 丹东市 | C30: 东港市 | D30: C6KS210681 | E30: 吕大线 | F30: K0+000 | G30: K0+800 | H30: 0.8 | K30: 5 | R30: =J30*0.4461+K30*0.1485+L30*0.15*0.004+I30*0.0145+M30*0.145+N30*0.015+O30*0.01+P30*0.16+Q30*0.2 -> 0.7425
A31: 26 | B31: 丹东市 | C31: 东港市 | D31: C6KS210681 | E31: 吕大线 | F31: K1+300 | G31: K1+900 | H31: 0.6 | I31: 340 | K31: 4 | R31: =J31*0.4461+K31*0.1485+L31*0.15*0.004+I31*0.0145+M31*0.145+N31*0.015+O31*0.01+P31*0.16+Q31*0.2 -> 5.524
A32: 27 | B32: 丹东市 | C32: 东港市 | D32: C6O1210681 | E32: 庙西线 | F32: K0+300 | G32: K0+400 | H32: 0.1 | I32: 68 | R32: =J32*0.4461+K32*0.1485+L32*0.15*0.004+I32*0.0145+M32*0.145+N32*0.015+O32*0.01+P32*0.16+Q32*0.2 -> 0.986
A33: 28 | B33: 丹东市 | C33: 东港市 | D33: C6O1210681 | E33: 庙西线 | F33: K0+700 | G33: K1+100 | H33: 0.4 | K33: 2 | R33: =J33*0.4461+K33*0.1485+L33*0.15*0.004+I33*0.0145+M33*0.145+N33*0.015+O33*0.01+P33*0.16+Q33*0.2 -> 0.297
A34: 29 | B34: 丹东市 | C34: 东港市 | D34: C6O1210681 | E34: 庙西线 | F34: K1+700 | G34: K1+800 | H34: 0.1 | K34: 3 | N34: 2 | R34: =J34*0.4461+K34*0.1485+L34*0.15*0.004+I34*0.0145+M34*0.145+N34*0.015+O34*0.01+P34*0.16+Q34*0.2 -> 0.4755
A35: 30 | B35: 丹东市 | C35: 东港市 | D35: C6O1210681 | E35: 庙西线 | F35: K2+200 | G35: K2+300 | H35: 0.1 | K35: 2 | R35: =J35*0.4461+K35*0.1485+L35*0.15*0.004+I35*0.0145+M35*0.145+N35*0.015+O35*0.01+P35*0.16+Q35*0.2 -> 0.297
A36: 31 | B36: 丹东市 | C36: 东港市 | D36: C6O1210681 | E36: 庙西线 | F36: K3+200 | G36: K3+400 | H36: 0.2 | K36: 2 | R36: =J36*0.4461+K36*0.1485+L36*0.15*0.004+I36*0.0145+M36*0.145+N36*0.015+O36*0.01+P36*0.16+Q36*0.2 -> 0.297
A37: 32 | B37: 丹东市 | C37: 东港市 | D37: C6O1210681 | E37: 庙西线 | F37: K4+000 | G37: K4+500 | H37: 0.5 | K37: 2 | R37: =J37*0.4461+K37*0.1485+L37*0.15*0.004+I37*0.0145+M37*0.145+N37*0.015+O37*0.01+P37*0.16+Q37*0.2 -> 0.297
A38: 33 | B38: 丹东市 | C38: 东港市 | D38: C6O1210681 | E38: 庙西线 | F38: K4+700 | G38: K4+800 | H38: 0.1 | K38: 2 | R38: =J38*0.4461+K38*0.1485+L38*0.15*0.004+I38*0.0145+M38*0.145+N38*0.015+O38*0.01+P38*0.16+Q38*0.2 -> 0.297
A39: 34 | B39: 丹东市 | C39: 东港市 | D39: C6M8210681 | E39: 小董线 | F39: K0+000 | G39: K0+700 | H39: 0.7 | I39: 450 | R39: =J39*0.4461+K39*0.1485+L39*0.15*0.004+I39*0.0145+M39*0.145+N39*0.015+O39*0.01+P39*0.16+Q39*0.2 -> 6.525
A40: 35 | B40: 丹东市 | C40: 东港市 | D40: C6M8210681 | E40: 小董线 | F40: K1+000 | G40: K1+300 | H40: 0.3 | I40: 216 | R40: =J40*0.4461+K40*0.1485+L40*0.15*0.004+I40*0.0145+M40*0.145+N40*0.015+O40*0.01+P40*0.16+Q40*0.2 -> 3.132
...

Sheet 锦州2019
A1: 辽宁省2019年村级公路安防工程预安排计划
A2: 序号 | B2: 市 | C2: 县 | D2: 公路编号 | E2: 路线 名称 | F2: 起点 桩号 | G2: 终点 桩号 | H2: 里程 （公里） | I2: 处置工程数量 | R2: 投资 估算 （万元）
I3: 钢护栏长度（米） | J3: 标志数量 | L3: 标线 长度（米） | M3: 警示诱导设施 | Q3: 减速丘（个）
J4: 悬臂式（个） | K4: 单柱式（个） | M4: 线形诱导标（个） | N4: 道口 标柱（个） | O4: 示警桩（个） | P4: 凸面反光镜（个）
H5: =SUM(H6:H153) -> 96 | I5: =SUM(I6:I153) -> 39320 | J5: =SUM(J6:J153) -> 1 | K5: =SUM(K6:K153) -> 483 | L5: =SUM(L6:L153) -> 0 | M5: =SUM(M6:M153) -> 0 | N5: =SUM(N6:N153) -> 252 | O5: =SUM(O6:O153) -> 0 | ... R5: =SUM(R6:R153) -> 648.0106
A6: 1 | B6: 锦州市 | C6: 黑山县 | D6: C701210726 | E6: 黄西线 | F6: K1+200 | G6: K2+800 | H6: 1.6 | I6: 800 | K6: 16 | R6: =J6*0.4461+K6*0.1485+L6*0.15*0.004+I6*0.0145+M6*0.145+N6*0.015+O6*0.01+P6*0.16+Q6*0.2 -> 13.976
A7: 2 | B7: 锦州市 | C7: 黑山县 | D7: CQ1D210726 | E7: 芳北线 | F7: K2+600 | G7: K3+700 | H7: 1.1 | I7: 600 | K7: 10 | R7: =J7*0.4461+K7*0.1485+L7*0.15*0.004+I7*0.0145+M7*0.145+N7*0.015+O7*0.01+P7*0.16+Q7*0.2 -> 10.185
A8: 3 | B8: 锦州市 | C8: 黑山县 | D8: C798210726 | E8: 蛇朝线 | F8: K2+300 | G8: K3+300 | H8: 1 | I8: 600 | K8: 15 | N8: 8 | R8: =J8*0.4461+K8*0.1485+L8*0.15*0.004+I8*0.0145+M8*0.145+N8*0.015+O8*0.01+P8*0.16+Q8*0.2 -> 11.0475
A9: 4 | B9: 锦州市 | C9: 黑山县 | D9: C7A2210726 | E9: 古半线 | F9: K1+000 | G9: K1+800 | H9: 0.8 | I9: 500 | K9: 8 | N9: 4 | R9: =J9*0.4461+K9*0.1485+L9*0.15*0.004+I9*0.0145+M9*0.145+N9*0.015+O9*0.01+P9*0.16+Q9*0.2 -> 8.498
A10: 5 | B10: 锦州市 | C10: 黑山县 | D10: CQ14210726 | E10: 羊丛线 | F10: K3+200 | G10: K4+200 | H10: 1 | I10: 544 | K10: 5 | N10: 8 | R10: =J10*0.4461+K10*0.1485+L10*0.15*0.004+I10*0.0145+M10*0.145+N10*0.015+O10*0.01+P10*0.16+Q10*0.2 -> 8.7505
A11: 6 | B11: 锦州市 | C11: 黑山县 | D11: CQ30210726 | E11: 二龙线 | F11: K0+500 | G11: K2+700 | H11: 2.2 | I11: 1200 | K11: 2 | N11: 4 | R11: =J11*0.4461+K11*0.1485+L11*0.15*0.004+I11*0.0145+M11*0.145+N11*0.015+O11*0.01+P11*0.16+Q11*0.2 -> 17.757
A12: 7 | B12: 锦州市 | C12: 黑山县 | D12: CQ56210726 | E12: 胡稍线 | F12: K0+500 | G12: K1+500 | H12: 1 | I12: 1500 | K12: 5 | N12: 8 | R12: =J12*0.4461+K12*0.1485+L12*0.15*0.004+I12*0.0145+M12*0.145+N12*0.015+O12*0.01+P12*0.16+Q12*0.2 -> 22.6125
A13: 8 | B13: 锦州市 | C13: 黑山县 | D13: CQ97210726 | E13: 王半线 | F13: K3+600 | G13: K6+550 | H13: 0.8 | I13: 250 | K13: 5 | R13: =J13*0.4461+K13*0.1485+L13*0.15*0.004+I13*0.0145+M13*0.145+N13*0.015+O13*0.01+P13*0.16+Q13*0.2 -> 4.3675
A14: 9 | B14: 锦州市 | C14: 黑山县 | D14: C756210726 | E14: 侯曹线 | F14: K6+000 | G14: K8+400 | H14: 1.1 | I14: 700 | K14: 17 | N14: 12 | R14: =J14*0.4461+K14*0.1485+L14*0.15*0.004+I14*0.0145+M14*0.145+N14*0.015+O14*0.01+P14*0.16+Q14*0.2 -> 12.8545
A15: 10 | B15: 锦州市 | C15: 黑山县 | D15: CQ98210726 | E15: 半东线 | F15: K0+500 | G15: K1+500 | H15: 1.5 | I15: 1000 | K15: 6 | N15: 4 | R15: 15.45
A16: 11 | B16: 锦州市 | C16: 黑山县 | D16: CQ7A210726 | E16: 稍小线 | F16: K12+400 | G16: K14+300 | H16: 1.9 | I16: 1160 | K16: 8 | N16: 4 | R16: =J16*0.4461+K16*0.1485+L16*0.15*0.004+I16*0.0145+M16*0.145+N16*0.015+O16*0.01+P16*0.16+Q16*0.2 -> 18.068
A17: 12 | B17: 锦州市 | C17: 黑山县 | D17: CQ64210726 | E17: 东贺线 | F17: K2+200 | G17: K2+600 | H17: 0.6 | I17: 200 | K17: 5 | N17: 8 | R17: =J17*0.4461+K17*0.1485+L17*0.15*0.004+I17*0.0145+M17*0.145+N17*0.015+O17*0.01+P17*0.16+Q17*0.2 -> 3.7625
A18: 13 | B18: 锦州市 | C18: 黑山县 | D18: CQ91210726 | E18: 三京线 | F18: K0+500 | G18: K0+700 | H18: 0.2 | I18: 100 | K18: 6 | N18: 4 | R18: =J18*0.4461+K18*0.1485+L18*0.15*0.004+I18*0.0145+M18*0.145+N18*0.015+O18*0.01+P18*0.16+Q18*0.2 -> 2.401
A19: 14 | B19: 锦州市 | C19: 黑山县 | D19: CQ90210726 | E19: 东二线 | F19: K2+500 | G19: K3+000 | H19: 0.5 | I19: 300 | K19: 13 | N19: 8 | R19: =J19*0.4461+K19*0.1485+L19*0.15*0.004+I19*0.0145+M19*0.145+N19*0.015+O19*0.01+P19*0.16+Q19*0.2 -> 6.4005
A20: 15 | B20: 锦州市 | C20: 黑山县 | D20: C751210726 | E20: 二小线 | F20: K4+400 | G20: K5+200 | H20: 0.8 | I20: 400 | K20: 17 | N20: 4 | R20: =J20*0.4461+K20*0.1485+L20*0.15*0.004+I20*0.0145+M20*0.145+N20*0.015+O20*0.01+P20*0.16+Q20*0.2 -> 8.3845
A21: 16 | B21: 锦州市 | C21: 黑山县 | D21: C707210726 | E21: 小房线 | F21: K1+400 | G21: K2+000 | H21: 0.6 | I21: 300 | K21: 15 | N21: 24 | R21: =J21*0.4461+K21*0.1485+L21*0.15*0.004+I21*0.0145+M21*0.145+N21*0.015+O21*0.01+P21*0.16+Q21*0.2 -> 6.9375
A22: 17 | B22: 锦州市 | C22: 黑山县 | D22: C711210726 | E22: 团张线 | F22: K3+500 | G22: K4+000 | H22: 0.5 | I22: 500 | K22: 8 | N22: 20 | R22: =J22*0.4461+K22*0.1485+L22*0.15*0.004+I22*0.0145+M22*0.145+N22*0.015+O22*0.01+P22*0.16+Q22*0.2 -> 8.738
A23: 18 | B23: 锦州市 | C23: 黑山县 | D23: C710210726 | E23: 双六线 | F23: K0+300 | G23: K1+600 | H23: 0.5 | I23: 300 | K23: 7 | N23: 16 | R23: =J23*0.4461+K23*0.1485+L23*0.15*0.004+I23*0.0145+M23*0.145+N23*0.015+O23*0.01+P23*0.16+Q23*0.2 -> 5.6295
A24: 19 | B24: 锦州市 | C24: 黑山县 | D24: C714210726 | E24: 兴上线 | F24: K1+700 | G24: K1+800 | H24: 1.1 | I24: 600 | K24: 6 | N24: 24 | R24: =J24*0.4461+K24*0.1485+L24*0.15*0.004+I24*0.0145+M24*0.145+N24*0.015+O24*0.01+P24*0.16+Q24*0.2 -> 9.951
A25: 20 | B25: 锦州市 | C25: 黑山县 | D25: CQ6B210726 | E25: 薛东线 | F25: K5+400 | G25: K6+600 | H25: 1.2 | I25: 800 | K25: 8 | N25: 24 | R25: =J25*0.4461+K25*0.1485+L25*0.15*0.004+I25*0.0145+M25*0.145+N25*0.015+O25*0.01+P25*0.16+Q25*0.2 -> 13.148
A26: 21 | B26: 锦州市 | C26: 黑山县 | D26: CQ7B210726 | E26: 小后线 | F26: K4+900 | G26: K5+400 | H26: 0.5 | I26: 300 | K26: 6 | N26: 4 | R26: =J26*0.4461+K26*0.1485+L26*0.15*0.004+I26*0.0145+M26*0.145+N26*0.015+O26*0.01+P26*0.16+Q26*0.2 -> 5.301
A27: 22 | B27: 锦州市 | C27: 黑山县 | D27: C719210726 | E27: 杏后线 | F27: K2+400 | G27: K3+900 | H27: 1.5 | I27: 900 | K27: 13 | N27: 8 | R27: =J27*0.4461+K27*0.1485+L27*0.15*0.004+I27*0.0145+M27*0.145+N27*0.015+O27*0.01+P27*0.16+Q27*0.2 -> 15.1005
... A30: 25 | B30: 锦州市 | C30: 黑山县 | D30: C721210726 | E30: 张新线 | F30: K2+300 | G30: K3+100 | H30: 0.8 | I30: 300 | K30: 13 | N30: 28 | R30: =J30*0.4461+K30*0.1485+L30*0.15*0.004+I30*0.0145+M30*0.145+N30*0.015+O30*0.01+P30*0.16+Q30*0.2 -> 6.7005
A31: 26 | B31: 锦州市 | C31: 北镇市 | D31: CX8L201782 | E31: 东石线 | F31: K0+000 | G31: K1+000 | H31: 1 | I31: 50 | K31: 11 | R31: =J31*0.4461+K31*0.1485+L31*0.15*0.004+I31*0.0145+M31*0.145+N31*0.015+O31*0.01+P31*0.16+Q31*0.2 -> 2.3585
A32: 27 | B32: 锦州市 | C32: 北镇市 | D32: CX8L201782 | E32: 东石线 | F32: K1+400 | G32: K3+400 | H32: 2 | I32: 620 | K32: 3 | R32: =J32*0.4461+K32*0.1485+L32*0.15*0.004+I32*0.0145+M32*0.145+N32*0.015+O32*0.01+P32*0.16+Q32*0.2 -> 9.4355
A33: 28 | B33: 锦州市 | C33: 北镇市 | D33: CX8M201782 | E33: 东保线 | F33: K0+200 | G33: K1+700 | H33: 1.5 | I33: 84 | K33: 1 | R33: =J33*0.4461+K33*0.1485+L33*0.15*0.004+I33*0.0145+M33*0.145+N33*0.015+O33*0.01+P33*0.16+Q33*0.2 -> 1.3665
A34: 29 | B34: 锦州市 | C34: 北镇市 | D34: CQAF210782 | E34: 白路线 | F34: K0+000 | G34: K2+000 | H34: 2 | I34: 88 | K34: 5 | R34: =J34*0.4461+K34*0.1485+L34*0.15*0.004+I34*0.0145+M34*0.145+N34*0.015+O34*0.01+P34*0.16+Q34*0.2 -> 2.0185
A35: 30 | B35: 锦州市 | C35: 北镇市 | D35: CQAF210782 | E35: 白路线 | F35: K2+400 | G35: K4+400 | H35: 2 | I35: 66 | K35: 11 | R35: =J35*0.4461+K35*0.1485+L35*0.15*0.004+I35*0.0145+M35*0.145+N35*0.015+O35*0.01+P35*0.16+Q35*0.2 -> 2.5905
A36: 31 | B36: 锦州市 | C36: 北镇市 | D36: C7AA210782 | E36: 大罗线 | F36: K0+000 | G36: K1+900 | H36: 1.9 | I36: 420 | R36: =J36*0.4461+K36*0.1485+L36*0.15*0.004+I36*0.0145+M36*0.145+N36*0.015+O36*0.01+P36*0.16+Q36*0.2 -> 6.09
A37: 32 | B37: 锦州市 | C37: 北镇市 | D37: CXBN210782 | E37: 三小线 | F37: K0+400 | G37: K1+100 | H37: 0.7 | I37: 42 | K37: 2 | R37: =J37*0.4461+K37*0.1485+L37*0.15*0.004+I37*0.0145+M37*0.145+N37*0.015+O37*0.01+P37*0.16+Q37*0.2 -> 0.906
A38: 33 | B38: 锦州市 | C38: 北镇市 | D38: CX8H210782 | E38: 闵沈线 | F38: K0+000 | G38: K1+100 | H38: 1.1 | I38: 36 | K38: 4 | R38: =J38*0.4461+K38*0.1485+L38*0.15*0.004+I38*0.0145+M38*0.145+N38*0.015+O38*0.01+P38*0.16+Q38*0.2 -> 1.116
A39: 34 | B39: 锦州市 | C39: 北镇市 | D39: CTXZ210782 | E39: 康高线 | F39: K0+200 | G39: K0+300 | H39: 0.1 | I39: 8 | K39: 2 | R39: =J39*0.4461+K39*0.1485+L39*0.15*0.004+I39*0.0145+M39*0.145+N39*0.015+O39*0.01+P39*0.16+Q39*0.2 -> 0.413
A40: 35 | B40: 锦州市 | C40: 北镇市 | D40: CX8N210782 | E40: 鞍肉线 | F40: K1+300 | G40: K1+700 | H40: 0.4 | I40: 66 | R40: =J40*0.4461+K40*0.1485+L40*0.15*0.004+I40*0.0145+M40*0.145+N40*0.015+O40*0.01+P40*0.16+Q40*0.2 -> 0.957
A41: 36 | B41: 锦州市 | C41: 北镇市 | D41: CXTT210782 | E41: 三鸡线 | F41: K0+000 | G41: K0+400 | H41: 0.4 | I41: 60 | K41: 2 | R41: =J41*0.4461+K41*0.1485+L41*0.15*0.004+I41*0.0145+M41*0.145+N41*0.015+O41*0.01+P41*0.16+Q41*0.2 -> 1.167
A42: 37 | B42: 锦州市 | C42: 北镇市 | D42: CQDR210782 | E42: 高杨线 | F42: K0+000 | G42: K1+800 | H42: 1.8 | I42: 340 | K42: 4 | R42: =J42*0.4461+K42*0.1485+L42*0.15*0.004+I42*0.0145+M42*0.145+N42*0.015+O42*0.01+P42*0.16+Q42*0.2 -> 5.524
...

Sheet 营口2019
A1: 辽宁省2019年村级公路安防工程预安排计划
A2: 序号 | B2: 市 | C2: 县 | D2: 公路编号 | E2: 路线 名称 | F2: 起点 桩号 | G2: 终点 桩号 | H2: 里程 （公里） | I2: 处置工程数量 | R2: 投资 估算 （万元）
I3: 钢护栏长度（米） | J3: 标志数量 | L3: 标线 长度（米） | M3: 警示诱导设施 | Q3: 减速丘（个）
J4: 悬臂式（个） | K4: 单柱式（个） | M4: 线形诱导标（个） | N4: 道口 标柱（个） | O4: 示警桩（个） | P4: 凸面反光镜（个）
H5: =SUM(H6:H71) -> 77.4 | I5: =SUM(I6:I71) -> 16598 | J5: =SUM(J6:J71) -> 0 | K5: =SUM(K6:K71) -> 164 | L5: =SUM(L6:L71) -> 0 | M5: =SUM(M6:M71) -> 0 | N5: =SUM(N6:N71) -> 54 | O5: =SUM(O6:O71) -> 38 | ... R5: =SUM(R6:R71) -> 267.655
A6: 1 | B6: 营口市 | C6: 大石桥市 | D6: C8F3210882 | E6: 爱神线 | F6: K0+000 | G6: 1000 | H6: 1 | I6: 160 | P6: 2 | R6: =J6*0.4461+K6*0.1485+L6*0.15*0.004+I6*0.0145+M6*0.145+N6*0.015+O6*0.01+P6*0.16+Q6*0.2 -> 2.64
A7: 2 | B7: 营口市 | C7: 大石桥市 | D7: C8GU210882 | E7: 黑敬线 | F7: 200 | G7: 400 | H7: 0.2 | K7: 2 | R7: =J7*0.4461+K7*0.1485+L7*0.15*0.004+I7*0.0145+M7*0.145+N7*0.015+O7*0.01+P7*0.16+Q7*0.2 -> 0.297
A8: 3 | B8: 营口市 | C8: 大石桥市 | D8: C8KK211221 | E8: 孟刘线 | F8: 200 | G8: 300 | H8: 0.1 | O8: 8 | R8: =J8*0.4461+K8*0.1485+L8*0.15*0.004+I8*0.0145+M8*0.145+N8*0.015+O8*0.01+P8*0.16+Q8*0.2 -> 0.08
A9: 4 | B9: 营口市 | C9: 大石桥市 | D9: C8NY211221 | E9: 劳李线 | F9: 2400 | G9: 2500 | H9: 0.1 | O9: 8 | R9: =J9*0.4461+K9*0.1485+L9*0.15*0.004+I9*0.0145+M9*0.145+N9*0.015+O9*0.01+P9*0.16+Q9*0.2 -> 0.08
A10: 5 | B10: 营口市 | C10: 大石桥市 | D10: C8EZ210882 | E10: 岫秦线 | F10: 1100 | G10: 1200 | H10: 0.1 | N10: 4 | R10: =J10*0.4461+K10*0.1485+L10*0.15*0.004+I10*0.0145+M10*0.145+N10*0.015+O10*0.01+P10*0.16+Q10*0.2 -> 0.06
A11: 6 | B11: 营口市 | C11: 大石桥市 | D11: C8FI210882 | E11: 党李线 | F11: 0 | G11: 2300 | H11: 2.3 | I11: 1352 | R11: =J11*0.4461+K11*0.1485+L11*0.15*0.004+I11*0.0145+M11*0.145+N11*0.015+O11*0.01+P11*0.16+Q11*0.2 -> 19.604
A12: 7 | B12: 营口市 | C12: 大石桥市 | D12: C8FL210882 | E12: 岫候线 | F12: 500 | G12: 1200 | H12: 0.7 | I12: 44 | R12: =J12*0.4461+K12*0.1485+L12*0.15*0.004+I12*0.0145+M12*0.145+N12*0.015+O12*0.01+P12*0.16+Q12*0.2 -> 0.638
A13: 8 | B13: 营口市 | C13: 大石桥市 | D13: C8FK210882 | E13: 高肖线 | F13: 0 | G13: 1200 | H13: 1.2 | I13: 1292 | R13: =J13*0.4461+K13*0.1485+L13*0.15*0.004+I13*0.0145+M13*0.145+N13*0.015+O13*0.01+P13*0.16+Q13*0.2 -> 18.734
A14: 9 | B14: 营口市 | C14: 大石桥市 | D14: C8FM210882 | E14: 前高线 | F14: 200 | G14: 2100 | H14: 1.9 | I14: 340 | R14: =J14*0.4461+K14*0.1485+L14*0.15*0.004+I14*0.0145+M14*0.145+N14*0.015+O14*0.01+P14*0.16+Q14*0.2 -> 4.93
A15: 10 | B15: 营口市 | C15: 大石桥市 | D15: C8FN210882 | E15: 岫高线 | F15: 600 | G15: 1000 | H15: 0.4 | I15: 60 | R15: =J15*0.4461+K15*0.1485+L15*0.15*0.004+I15*0.0145+M15*0.145+N15*0.015+O15*0.01+P15*0.16+Q15*0.2 -> 0.87
A16: 11 | B16: 营口市 | C16: 大石桥市 | D16: C8FS210882 | E16: 马丁线 | F16: 0 | G16: 1400 | H16: 1.4 | I16: 264 | R16: =J16*0.4461+K16*0.1485+L16*0.15*0.004+I16*0.0145+M16*0.145+N16*0.015+O16*0.01+P16*0.16+Q16*0.2 -> 3.828
A17: 12 | B17: 营口市 | C17: 大石桥市 | D17: C8FT210882 | E17: 卢新线 | F17: 0 | G17: 3000 | H17: 3 | I17: 802 | R17: =J17*0.4461+K17*0.1485+L17*0.15*0.004+I17*0.0145+M17*0.145+N17*0.015+O17*0.01+P17*0.16+Q17*0.2 -> 11.629
A18: 13 | B18: 营口市 | C18: 大石桥市 | D18: C8FT210882 | E18: 卢新线 | F18: 3000 | G18: 4400 | H18: 1.4 | I18: 146 | R18: =J18*0.4461+K18*0.1485+L18*0.15*0.004+I18*0.0145+M18*0.145+N18*0.015+O18*0.01+P18*0.16+Q18*0.2 -> 2.117
A19: 14 | B19: 营口市 | C19: 大石桥市 | D19: C8FU210882 | E19: 马崔线 | F19: 0 | G19: 900 | H19: 0.9 | I19: 96 | R19: =J19*0.4461+K19*0.1485+L19*0.15*0.004+I19*0.0145+M19*0.145+N19*0.015+O19*0.01+P19*0.16+Q19*0.2 -> 1.392
A20: 15 | B20: 营口市 | C20: 大石桥市 | D20: C8G5210882 | E20: 东青线 | F20: 0 | G20: 3000 | H20: 3 | K20: 4 | R20: =J20*0.4461+K20*0.1485+L20*0.15*0.004+I20*0.0145+M20*0.145+N20*0.015+O20*0.01+P20*0.16+Q20*0.2 -> 0.594
A21: 16 | B21: 营口市 | C21: 大石桥市 | D21: C8G5210882 | E21: 东青线 | F21: 3000 | G21: 5000 | H21: 2 | I21: 40 | R21: =J21*0.4461+K21*0.1485+L21*0.15*0.004+I21*0.0145+M21*0.145+N21*0.015+O21*0.01+P21*0.16+Q21*0.2 -> 0.58
A22: 17 | B22: 营口市 | C22: 大石桥市 | D22: C8HD210882 | E22: 连白线 | F22: 0 | G22: 1300 | H22: 1.3 | I22: 126 | R22: =J22*0.4461+K22*0.1485+L22*0.15*0.004+I22*0.0145+M22*0.145+N22*0.015+O22*0.01+P22*0.16+Q22*0.2 -> 1.827
A23: 18 | B23: 营口市 | C23: 大石桥市 | D23: C8HG210882 | E23: 后前线 | F23: 0 | G23: 2000 | H23: 2 | I23: 180 | K23: 2 | R23: =J23*0.4461+K23*0.1485+L23*0.15*0.004+I23*0.0145+M23*0.145+N23*0.015+O23*0.01+P23*0.16+Q23*0.2 -> 2.907
A24: 19 | B24: 营口市 | C24: 大石桥市 | D24: C8HI210882 | E24: 上后线 | F24: 3300 | G24: 5300 | H24: 2 | I24: 264 | R24: =J24*0.4461+K24*0.1485+L24*0.15*0.004+I24*0.0145+M24*0.145+N24*0.015+O24*0.01+P24*0.16+Q24*0.2 -> 3.828
A25: 20 | B25: 营口市 | C25: 大石桥市 | D25: C8HJ210882 | E25: 岫薛线 | F25: 400 | G25: 700 | H25: 0.3 | I25: 56 | R25: =J25*0.4461+K25*0.1485+L25*0.15*0.004+I25*0.0145+M25*0.145+N25*0.015+O25*0.01+P25*0.16+Q25*0.2 -> 0.812
A26: 21 | B26: 营口市 | C26: 大石桥市 | D26: C8HK210882 | E26: 丁自线 | F26: 0 | G26: 1000 | H26: 1 | I26: 192 | R26: =J26*0.4461+K26*0.1485+L26*0.15*0.004+I26*0.0145+M26*0.145+N26*0.015+O26*0.01+P26*0.16+Q26*0.2 -> 2.784
A27: 22 | B27: 营口市 | C27: 大石桥市 | D27: C8HL210882 | E27: 候黄线 | F27: 1700 | G27: 2300 | H27: 0.6 | I27: 104 | R27: =J27*0.4461+K27*0.1485+L27*0.15*0.004+I27*0.0145+M27*0.145+N27*0.015+O27*0.01+P27*0.16+Q27*0.2 -> 1.508
A28: 23 | B28: 营口市 | C28: 大石桥市 | D28: C8HM210882 | E28: 高革线 | F28: 3300 | G28: 6300 | H28: 3 | I28: 152 | K28: 16 | O28: 16 | R28: =J28*0.4461+K28*0.1485+L28*0.15*0.004+I28*0.0145+M28*0.145+N28*0.015+O28*0.01+P28*0.16+Q28*0.2 -> 4.74
A29: 24 | B29: 营口市 | C29: 大石桥市 | D29: C8HM210882 | E29: 高革线 | F29: 6300 | G29: 9300 | H29: 3 | I29: 184 | R29: =J29*0.4461+K29*0.1485+L29*0.15*0.004+I29*0.0145+M29*0.145+N29*0.015+O29*0.01+P29*0.16+Q29*0.2 -> 2.668
A30: 25 | B30: 营口市 | C30: 大石桥市 | D30: C8HN210882 | E30: 吉刘线 | F30: 0 | G30: 1100 | H30: 1.1 | I30: 136 | N30: 4 | R30: =J30*0.4461+K30*0.1485+L30*0.15*0.004+I30*0.0145+M30*0.145+N30*0.015+O30*0.01+P30*0.16+Q30*0.2 -> 2.032
A31: 26 | B31: 营口市 | C31: 大石桥市 | D31: C8I9210882 | E31: 长革线 | F31: 300 | G31: 500 | H31: 0.2 | I31: 60 | R31: =J31*0.4461+K31*0.1485+L31*0.15*0.004+I31*0.0145+M31*0.145+N31*0.015+O31*0.01+P31*0.16+Q31*0.2 -> 0.87
A32: 27 | B32: 营口市 | C32: 大石桥市 | D32: CROB210882 | E32: 岫小线 | F32: 0 | G32: 1300 | H32: 1.3 | I32: 100 | R32: =J32*0.4461+K32*0.1485+L32*0.15*0.004+I32*0.0145+M32*0.145+N32*0.015+O32*0.01+P32*0.16+Q32*0.2 -> 1.45
A33: 28 | B33: 营口市 | C33: 大石桥市 | D33: CR3C210882 | E33: 东小线 | F33: 100 | G33: 300 | H33: 0.2 | P33: 1 | R33: =J33*0.4461+K33*0.1485+L33*0.15*0.004+I33*0.0145+M33*0.145+N33*0.015+O33*0.01+P33*0.16+Q33*0.2 -> 0.16
A34: 29 | B34: 营口市 | C34: 大石桥市 | D34: CR3E210882 | E34: 后郑线 | F34: 0 | G34: 700 | H34: 0.7 | O34: 6 | R34: =J34*0.4461+K34*0.1485+L34*0.15*0.004+I34*0.0145+M34*0.145+N34*0.015+O34*0.01+P34*0.16+Q34*0.2 -> 0.06
A35: 30 | B35: 营口市 | C35: 大石桥市 | D35: CR4U210882 | E35: 后四线 | F35: 0 | G35: 400 | H35: 0.4 | I35: 60 | R35: =J35*0.4461+K35*0.1485+L35*0.15*0.004+I35*0.0145+M35*0.145+N35*0.015+O35*0.01+P35*0.16+Q35*0.2 -> 0.87
A36: 31 | B36: 营口市 | C36: 大石桥市 | D36: CR4V210882 | E36: 大刘线 | F36: 0 | G36: 400 | H36: 0.4 | I36: 376 | R36: =J36*0.4461+K36*0.1485+L36*0.15*0.004+I36*0.0145+M36*0.145+N36*0.015+O36*0.01+P36*0.16+Q36*0.2 -> 5.452
A37: 32 | B37: 营口市 | C37: 大石桥市 | D37: C8CY210882 | E37: 鲍保线 | F37: K0+000 | G37: 1800 | H37: 1.8 | I37: 296 | R37: =J37*0.4461+K37*0.1485+L37*0.15*0.004+I37*0.0145+M37*0.145+N37*0.015+O37*0.01+P37*0.16+Q37*0.2 -> 4.292
A38: 33 | B38: 营口市 | C38: 大石桥市 | D38: C8CZ210882 | E38: 北青线 | F38: 0 | G38: 3000 | H38: 3 | I38: 932 | R38: =J38*0.4461+K38*0.1485+L38*0.15*0.004+I38*0.0145+M38*0.145+N38*0.015+O38*0.01+P38*0.16+Q38*0.2 -> 13.514
A39: 34 | B39: 营口市 | C39: 大石桥市 | D39: C8GA210882 | E39: 沟西线 | F39: 1000 | G39: 4000 | H39: 3 | I39: 592 | R39: =J39*0.4461+K39*0.1485+L39*0.15*0.004+I39*0.0145+M39*0.145+N39*0.015+O39*0.01+P39*0.16+Q39*0.2 -> 8.584
A40: 35 | B40: 营口市 | C40: 大石桥市 | D40: C8GA210882 | E40: 沟西线 | F40: 0 | G40: 700 | H40: 0.7 | I40: 260 | R40: =J40*0.4461+K40*0.1485+L40*0.15*0.004+I40*0.0145+M40*0.145+N40*0.015+O40*0.01+P40*0.16+Q40*0.2 -> 3.77
...

Sheet 阜新2019
A1: 辽宁省2019年村级公路安防工程预安排计划
A2: 序号 | B2: 市 | C2: 县 | D2: 公路编号 | E2: 路线 名称 | F2: 起点 桩号 | G2: 终点 桩号 | H2: 里程 （公里） | I2: 处置工程数量 | R2: 投资 估算 （万元）
I3: 钢护栏长度（米） | J3: 标志数量 | L3: 标线 长度（米） | M3: 警示诱导设施 | Q3: 减速丘（个）
J4: 悬臂式（个） | K4: 单柱式（个） | M4: 线形诱导标（个） | N4: 道口 标柱（个） | O4: 示警桩（个） | P4: 凸面反光镜（个） | R4: 燃油税 | S4: 车购税
H5: =SUM(H6:H1120) -> 822.5 | I5: =SUM(I6:I1120) -> 30750 | J5: =SUM(J6:J1120) -> 0 | K5: =SUM(K6:K1120) -> 3841 | L5: =SUM(L6:L1120) -> 11400 | M5: =SUM(M6:M1120) -> 69 | N5: =SUM(N6:N1120) -> 974 | O5: =SUM(O6:O1120) -> 9 | ... R5: =SUM(R6:R1120) -> 1096.8
A6: 1 | B6: 阜新市 | C6: 阜蒙县 | D6: C94K210921 | E6: 四好线 | F6: k0+000 | G6: k0+100 | H6: 0.1 | K6: 1 | N6: 4 | R6: 0.2
A7: 2 | B7: 阜新市 | C7: 阜蒙县 | D7: C94K210921 | E7: 四好线 | F7: k1+100 | G7: k1+200 | H7: 0.1 | K7: 2 | N7: 4 | R7: 0.4
