Workbook

Sheet 汇总
A1: 附表4-1
A2: 朝阳市2024年农村公路安防工程建议计划汇总表
A3: 市别 | B3: 县别 | C3: 隐患里程 | D3: 处置工程数量 | M3: 投资 估算 （万元） | N3: 备注
D4: 钢护栏（米） | E4: 标志（个） | G4: 标线（米） | H4: 警示诱导设施（个） | L4: 减速丘（个）
E5: 悬臂式 | F5: 单柱式 | H5: 线形诱导标 | I5: 道口标柱 | J5: 示警桩 | K5: 凸面镜
A6: 朝阳市 | C6: =SUM(C7:C12) -> 182.21 | D6: =SUM(D7:D12) -> 59225 | E6: =SUM(E7:E12) -> 10 | F6: =SUM(F7:F12) -> 4 | G6: =SUM(G7:G12) -> 0 | H6: =SUM(H7:H12) -> 28 | I6: =SUM(I7:I12) -> 578 | J6: =SUM(J7:J12) -> 54 | ... M6: =SUM(M7:M12) -> 877.3
B7: 凌源市 | C7: =SUMIFS(明细!H:H,明细!$C:$C,$B7) -> 9.51 | D7: =SUMIFS(明细!I:I,明细!$C:$C,$B7) -> 6882 | E7: =SUMIFS(明细!J:J,明细!$C:$C,$B7) -> 0 | F7: =SUMIFS(明细!K:K,明细!$C:$C,$B7) -> 0 | G7: =SUMIFS(明细!L:L,明细!$C:$C,$B7) -> 0 | H7: =SUMIFS(明细!M:M,明细!$C:$C,$B7) -> 0 | I7: =SUMIFS(明细!N:N,明细!$C:$C,$B7) -> 556 | J7: =SUMIFS(明细!O:O,明细!$C:$C,$B7) -> 0 | K7: =SUMIFS(明细!P:P,明细!$C:$C,$B7) -> 0 | L7: =SUMIFS(明细!Q:Q,明细!$C:$C,$B7) -> 0 | M7: =ROUND(SUMIFS(明细!R:R,明细!$C:$C,$B7),1) -> 108.1
B8: 朝阳县 | C8: =SUMIFS(明细!H:H,明细!$C:$C,$B8) -> 61.3 | D8: =SUMIFS(明细!I:I,明细!$C:$C,$B8) -> 7136 | E8: =SUMIFS(明细!J:J,明细!$C:$C,$B8) -> 0 | F8: =SUMIFS(明细!K:K,明细!$C:$C,$B8) -> 0 | G8: =SUMIFS(明细!L:L,明细!$C:$C,$B8) -> 0 | H8: =SUMIFS(明细!M:M,明细!$C:$C,$B8) -> 0 | I8: =SUMIFS(明细!N:N,明细!$C:$C,$B8) -> 0 | J8: =SUMIFS(明细!O:O,明细!$C:$C,$B8) -> 0 | K8: =SUMIFS(明细!P:P,明细!$C:$C,$B8) -> 0 | L8: =SUMIFS(明细!Q:Q,明细!$C:$C,$B8) -> 0 | M8: =ROUND(SUMIFS(明细!R:R,明细!$C:$C,$B8),1) -> 103.5
B9: 建平县 | C9: =SUMIFS(明细!H:H,明细!$C:$C,$B9) -> 62.6 | D9: =SUMIFS(明细!I:I,明细!$C:$C,$B9) -> 34272 | E9: =SUMIFS(明细!J:J,明细!$C:$C,$B9) -> 8 | F9: =SUMIFS(明细!K:K,明细!$C:$C,$B9) -> 0 | G9: =SUMIFS(明细!L:L,明细!$C:$C,$B9) -> 0 | H9: =SUMIFS(明细!M:M,明细!$C:$C,$B9) -> 28 | I9: =SUMIFS(明细!N:N,明细!$C:$C,$B9) -> 22 | J9: =SUMIFS(明细!O:O,明细!$C:$C,$B9) -> 44 | K9: =SUMIFS(明细!P:P,明细!$C:$C,$B9) -> 1 | L9: =SUMIFS(明细!Q:Q,明细!$C:$C,$B9) -> 0 | M9: =ROUND(SUMIFS(明细!R:R,明细!$C:$C,$B9),1) -> 505.5
B10: 喀左县 | C10: =SUMIFS(明细!H:H,明细!$C:$C,$B10) -> 33.4 | D10: =SUMIFS(明细!I:I,明细!$C:$C,$B10) -> 7423 | E10: =SUMIFS(明细!J:J,明细!$C:$C,$B10) -> 2 | F10: =SUMIFS(明细!K:K,明细!$C:$C,$B10) -> 4 | G10: =SUMIFS(明细!L:L,明细!$C:$C,$B10) -> 0 | H10: =SUMIFS(明细!M:M,明细!$C:$C,$B10) -> 0 | I10: =SUMIFS(明细!N:N,明细!$C:$C,$B10) -> 0 | J10: =SUMIFS(明细!O:O,明细!$C:$C,$B10) -> 10 | K10: =SUMIFS(明细!P:P,明细!$C:$C,$B10) -> 0 | L10: =SUMIFS(明细!Q:Q,明细!$C:$C,$B10) -> 0 | M10: =ROUND(SUMIFS(明细!R:R,明细!$C:$C,$B10),1) -> 109.2
B11: 双塔区 | C11: =SUMIFS(明细!H:H,明细!$C:$C,$B11) -> 3.8 | D11: =SUMIFS(明细!I:I,明细!$C:$C,$B11) -> 700 | E11: =SUMIFS(明细!J:J,明细!$C:$C,$B11) -> 0 | F11: =SUMIFS(明细!K:K,明细!$C:$C,$B11) -> 0 | G11: =SUMIFS(明细!L:L,明细!$C:$C,$B11) -> 0 | H11: =SUMIFS(明细!M:M,明细!$C:$C,$B11) -> 0 | I11: =SUMIFS(明细!N:N,明细!$C:$C,$B11) -> 0 | J11: =SUMIFS(明细!O:O,明细!$C:$C,$B11) -> 0 | K11: =SUMIFS(明细!P:P,明细!$C:$C,$B11) -> 0 | L11: =SUMIFS(明细!Q:Q,明细!$C:$C,$B11) -> 0 | M11: =ROUND(SUMIFS(明细!R:R,明细!$C:$C,$B11),1) -> 10.2
B12: 龙城区 | C12: =SUMIFS(明细!H:H,明细!$C:$C,$B12) -> 11.6 | D12: =SUMIFS(明细!I:I,明细!$C:$C,$B12) -> 2812 | E12: =SUMIFS(明细!J:J,明细!$C:$C,$B12) -> 0 | F12: =SUMIFS(明细!K:K,明细!$C:$C,$B12) -> 0 | G12: =SUMIFS(明细!L:L,明细!$C:$C,$B12) -> 0 | H12: =SUMIFS(明细!M:M,明细!$C:$C,$B12) -> 0 | I12: =SUMIFS(明细!N:N,明细!$C:$C,$B12) -> 0 | J12: =SUMIFS(明细!O:O,明细!$C:$C,$B12) -> 0 | K12: =SUMIFS(明细!P:P,明细!$C:$C,$B12) -> 0 | L12: =SUMIFS(明细!Q:Q,明细!$C:$C,$B12) -> 0 | M12: =ROUND(SUMIFS(明细!R:R,明细!$C:$C,$B12),1) -> 40.8

Sheet 沈阳2019
A1: 辽宁省2019年村级公路安防工程预安排计划
A2: 序号 | B2: 市 | C2: 县 | D2: 公路编号 | E2: 路线 名称 | F2: 起点 桩号 | G2: 终点 桩号 | H2: 里程 （公里） | I2: 处置工程数量 | R2: 投资 估算 （万元）
I3: 钢护栏长度（米） | J3: 标志数量 | L3: 标线 长度（米） | M3: 警示诱导设施 | Q3: 减速丘（个）
J4: 悬臂式（个） | K4: 单柱式（个） | M4: 线形诱导标（个） | N4: 道口 标柱（个） | O4: 示警桩（个） | P4: 凸面反光镜（个）
H5: =SUM(H6:H95) -> 90.7 | I5: =SUM(I6:I95) -> 20422 | J5: =SUM(J6:J95) -> 11 | K5: =SUM(K6:K95) -> 115 | L5: =SUM(L6:L95) -> 0 | M5: =SUM(M6:M95) -> 42 | N5: =SUM(N6:N95) -> 48 | O5: =SUM(O6:O95) -> 107 | ... R5: =SUM(R6:R95) -> 334.9036
A6: 1 | B6: 沈阳市 | C6: 苏家屯区 | D6: C112210111 | E6: 黑林线 | F6: K2+200 | G6: K2+320 | H6: 0.1 | I6: 120 | R6: =J6*0.4461+K6*0.1485+L6*0.15*0.004+I6*0.0145+M6*0.145+N6*0.015+O6*0.01+P6*0.16+Q6*0.2 -> 1.74
A7: 2 | B7: 沈阳市 | C7: 苏家屯区 | D7: C156210111 | E7: 大肖线 | F7: K0+100 | G7: K1+900 | H7: 1.8 | I7: 100 | R7: =J7*0.4461+K7*0.1485+L7*0.15*0.004+I7*0.0145+M7*0.145+N7*0.015+O7*0.01+P7*0.16+Q7*0.2 -> 1.45
A8: 3 | B8: 沈阳市 | C8: 苏家屯区 | D8: C158210111 | E8: 互助线 | F8: K0+100 | G8: K1+300 | H8: 1.2 | I8: 100 | R8: =J8*0.4461+K8*0.1485+L8*0.15*0.004+I8*0.0145+M8*0.145+N8*0.015+O8*0.01+P8*0.16+Q8*0.2 -> 1.45
A9: 4 | B9: 沈阳市 | C9: 苏家屯区 | D9: C160210111 | E9: 宝金线 | F9: K0+300 | G9: K0+570 | H9: 0.3 | I9: 326 | R9: =J9*0.4461+K9*0.1485+L9*0.15*0.004+I9*0.0145+M9*0.145+N9*0.015+O9*0.01+P9*0.16+Q9*0.2 -> 4.727
A10: 5 | B10: 沈阳市 | C10: 苏家屯区 | D10: C190210111 | E10: 羿互线 | F10: K2+000 | G10: K2+600 | H10: 0.6 | I10: 580 | R10: =J10*0.4461+K10*0.1485+L10*0.15*0.004+I10*0.0145+M10*0.145+N10*0.015+O10*0.01+P10*0.16+Q10*0.2 -> 8.41
A11: 6 | B11: 沈阳市 | C11: 苏家屯区 | D11: CTT4210111 | E11: 羿宝线 | F11: K0+470 | G11: K0+710 | H11: 0.2 | I11: 350 | R11: =J11*0.4461+K11*0.1485+L11*0.15*0.004+I11*0.0145+M11*0.145+N11*0.015+O11*0.01+P11*0.16+Q11*0.2 -> 5.075
A12: 7 | B12: 沈阳市 | C12: 苏家屯区 | D12: C1B9210111 | E12: 王拉线 | F12: K1+000 | G12: K1+300 | H12: 0.3 | I12: 300 | R12: =J12*0.4461+K12*0.1485+L12*0.15*0.004+I12*0.0145+M12*0.145+N12*0.015+O12*0.01+P12*0.16+Q12*0.2 -> 4.35
A13: 8 | B13: 沈阳市 | C13: 苏家屯区 | D13: C1C2210111 | E13: 王张线 | F13: K0+200 | G13: K0+300 | H13: 0.1 | I13: 100 | R13: =J13*0.4461+K13*0.1485+L13*0.15*0.004+I13*0.0145+M13*0.145+N13*0.015+O13*0.01+P13*0.16+Q13*0.2 -> 1.45
A14: 9 | B14: 沈阳市 | C14: 苏家屯区 | D14: C151210111 | E14: 来胜线 | F14: K0+450 | G14: K0+900 | H14: 0.5 | I14: 360 | R14: =J14*0.4461+K14*0.1485+L14*0.15*0.004+I14*0.0145+M14*0.145+N14*0.015+O14*0.01+P14*0.16+Q14*0.2 -> 5.22
A15: 10 | B15: 沈阳市 | C15: 苏家屯区 | D15: C152210111 | E15: 来仁线 | F15: K0+500 | G15: K1+400 | H15: 0.9 | I15: 400 | R15: =J15*0.4461+K15*0.1485+L15*0.15*0.004+I15*0.0145+M15*0.145+N15*0.015+O15*0.01+P15*0.16+Q15*0.2 -> 5.8
A16: 11 | B16: 沈阳市 | C16: 苏家屯区 | D16: C1B7210111 | E16: 苏达线 | F16: K0+070 | G16: K0+230 | H16: 0.2 | I16: 200 | R16: =J16*0.4461+K16*0.1485+L16*0.15*0.004+I16*0.0145+M16*0.145+N16*0.015+O16*0.01+P16*0.16+Q16*0.2 -> 2.9
A17: 12 | B17: 沈阳市 | C17: 苏家屯区 | D17: CTU7210111 | E17: 大洼线 | F17: K0+680 | G17: K0+970 | H17: 0.3 | I17: 300 | R17: =J17*0.4461+K17*0.1485+L17*0.15*0.004+I17*0.0145+M17*0.145+N17*0.015+O17*0.01+P17*0.16+Q17*0.2 -> 4.35
... A21: 16 | B21: 沈阳市 | C21: 苏家屯区 | D21: C149210111 | E21: 邵后线 | F21: K3+220 | G21: K3+670 | H21: 0.5 | I21: 300 | R21: =J21*0.4461+K21*0.1485+L21*0.15*0.004+I21*0.0145+M21*0.145+N21*0.015+O21*0.01+P21*0.16+Q21*0.2 -> 4.35
A22: 17 | B22: 沈阳市 | C22: 浑南区 | D22: C1UD210112 | E22: 曾十线 | F22: K1+400 | G22: K1+500 | H22: 0.1 | P22: 1 | R22: =J22*0.4461+K22*0.1485+L22*0.15*0.004+I22*0.0145+M22*0.145+N22*0.015+O22*0.01+P22*0.16+Q22*0.2 -> 0.16
A23: 18 | B23: 沈阳市 | C23: 浑南区 | D23: C1H7210112 | E23: 房章线 | F23: K0+125 | G23: K1+500 | H23: 1.4 | K23: 4 | R23: =J23*0.4461+K23*0.1485+L23*0.15*0.004+I23*0.0145+M23*0.145+N23*0.015+O23*0.01+P23*0.16+Q23*0.2 -> 0.594
A24: 19 | B24: 沈阳市 | C24: 浑南区 | D24: CTK2210112 | E24: 马上线 | F24: K0+600 | G24: K0+860 | H24: 0.3 | K24: 2 | R24: =J24*0.4461+K24*0.1485+L24*0.15*0.004+I24*0.0145+M24*0.145+N24*0.015+O24*0.01+P24*0.16+Q24*0.2 -> 0.297
A25: 20 | B25: 沈阳市 | C25: 浑南区 | D25: C1R3210112 | E25: 高兴线 | F25: K0+500 | G25: K0+600 | H25: 0.1 | K25: 2 | R25: =J25*0.4461+K25*0.1485+L25*0.15*0.004+I25*0.0145+M25*0.145+N25*0.015+O25*0.01+P25*0.16+Q25*0.2 -> 0.297
A26: 21 | B26: 沈阳市 | C26: 浑南区 | D26: C1T1210112 | E26: 赵东线 | F26: K0+100 | G26: K1+400 | H26: 1.3 | K26: 4 | R26: =J26*0.4461+K26*0.1485+L26*0.15*0.004+I26*0.0145+M26*0.145+N26*0.015+O26*0.01+P26*0.16+Q26*0.2 -> 0.594
A27: 22 | B27: 沈阳市 | C27: 浑南区 | D27: C1R8210112 | E27: 长公线 | F27: K0+870 | G27: K1+110 | H27: 0.2 | K27: 2 | R27: =J27*0.4461+K27*0.1485+L27*0.15*0.004+I27*0.0145+M27*0.145+N27*0.015+O27*0.01+P27*0.16+Q27*0.2 -> 0.297
A28: 23 | B28: 沈阳市 | C28: 浑南区 | D28: C1R5210112 | E28: 英东线 | F28: K0+500 | G28: K3+000 | H28: 2.5 | I28: 300 | K28: 4 | R28: =J28*0.4461+K28*0.1485+L28*0.15*0.004+I28*0.0145+M28*0.145+N28*0.015+O28*0.01+P28*0.16+Q28*0.2 -> 4.944
A29: 24 | B29: 沈阳市 | C29: 浑南区 | D29: CTL1210112 | E29: 施收线 | F29: K0+250 | G29: K1+800 | H29: 1.6 | I29: 300 | K29: 2 | R29: =J29*0.4461+K29*0.1485+L29*0.15*0.004+I29*0.0145+M29*0.145+N29*0.015+O29*0.01+P29*0.16+Q29*0.2 -> 4.647
A30: 25 | B30: 沈阳市 | C30: 浑南区 | D30: C1V1210112 | E30: 收兵线 | F30: K0+200 | G30: K0+600 | H30: 0.4 | K30: 2 | R30: =J30*0.4461+K30*0.1485+L30*0.15*0.004+I30*0.0145+M30*0.145+N30*0.015+O30*0.01+P30*0.16+Q30*0.2 -> 0.297
A31: 26 | B31: 沈阳市 | C31: 浑南区 | D31: C1U8210112 | E31: 李收线 | F31: K1+600 | G31: K1+800 | H31: 0.2 | K31: 2 | R31: =J31*0.4461+K31*0.1485+L31*0.15*0.004+I31*0.0145+M31*0.145+N31*0.015+O31*0.01+P31*0.16+Q31*0.2 -> 0.297
A32: 27 | B32: 沈阳市 | C32: 浑南区 | D32: C1H9210112 | E32: 李永线 | F32: K1+400 | G32: K3+700 | H32: 2.3 | K32: 4 | R32: =J32*0.4461+K32*0.1485+L32*0.15*0.004+I32*0.0145+M32*0.145+N32*0.015+O32*0.01+P32*0.16+Q32*0.2 -> 0.594
A33: 28 | B33: 沈阳市 | C33: 浑南区 | D33: C1V6210112 | E33: 高龙线 | F33: K1+800 | G33: K2+000 | H33: 0.2 | K33: 2 | R33: =J33*0.4461+K33*0.1485+L33*0.15*0.004+I33*0.0145+M33*0.145+N33*0.015+O33*0.01+P33*0.16+Q33*0.2 -> 0.297
A34: 29 | B34: 沈阳市 | C34: 浑南区 | D34: CTK7210112 | E34: 龙东线 | F34: K0+600 | G34: K1+400 | H34: 0.8 | K34: 6 | R34: =J34*0.4461+K34*0.1485+L34*0.15*0.004+I34*0.0145+M34*0.145+N34*0.015+O34*0.01+P34*0.16+Q34*0.2 -> 0.891
A35: 30 | B35: 沈阳市 | C35: 浑南区 | D35: C1P7210112 | E35: 潘畜线 | F35: K3+400 | G35: K3+600 | H35: 0.2 | K35: 2 | R35: =J35*0.4461+K35*0.1485+L35*0.15*0.004+I35*0.0145+M35*0.145+N35*0.015+O35*0.01+P35*0.16+Q35*0.2 -> 0.297
A36: 31 | B36: 沈阳市 | C36: 浑南区 | D36: C1T8210112 | E36: 金东线 | F36: K0+050 | G36: K3+050 | H36: 3 | I36: 300 | K36: 10 | R36: =J36*0.4461+K36*0.1485+L36*0.15*0.004+I36*0.0145+M36*0.145+N36*0.015+O36*0.01+P36*0.16+Q36*0.2 -> 5.835
A37: 32 | B37: 沈阳市 | C37: 浑南区 | D37: C1E3210112 | E37: 前魏线 | F37: K1+900 | G37: K4+900 | H37: 3 | I37: 650 | K37: 2 | R37: =J37*0.4461+K37*0.1485+L37*0.15*0.004+I37*0.0145+M37*0.145+N37*0.015+O37*0.01+P37*0.16+Q37*0.2 -> 9.722
A38: 33 | B38: 沈阳市 | C38: 浑南区 | D38: C1E5210112 | E38: 尖小线 | F38: K0+400 | G38: K0+550 | H38: 0.2 | I38: 150 | K38: 2 | R38: =J38*0.4461+K38*0.1485+L38*0.15*0.004+I38*0.0145+M38*0.145+N38*0.015+O38*0.01+P38*0.16+Q38*0.2 -> 2.472
A39: 34 | B39: 沈阳市 | C39: 浑南区 | D39: C1E7210112 | E39: 魏疙线 | F39: K0+500 | G39: K0+600 | H39: 0.1 | I39: 100 | R39: =J39*0.4461+K39*0.1485+L39*0.15*0.004+I39*0.0145+M39*0.145+N39*0.015+O39*0.01+P39*0.16+Q39*0.2 -> 1.45
A40: 35 | B40: 沈阳市 | C40: 浑南区 | D40: C1F2210112 | E40: 常蔡线 | F40: K0+000 | G40: K0+250 | H40: 0.3 | I40: 250 | R40: =J40*0.4461+K40*0.1485+L40*0.15*0.004+I40*0.0145+M40*0.145+N40*0.015+O40*0.01+P40*0.16+Q40*0.2 -> 3.625
A41: 36 | B41: 沈阳市 | C41: 辽中区 | D41: CJT2210122 | E41: 马郭线 | F41: K0+000 | G41: K1+200 | H41: 1.2 | I41: 70 | N41: 4 | R41: =J41*0.4461+K41*0.1485+L41*0.15*0.004+I41*0.0145+M41*0.145+N41*0.015+O41*0.01+P41*0.16+Q41*0.2 -> 1.075
A42: 37 | B42: 沈阳市 | C42: 辽中区 | D42: CTX8210122 | E42: 腰三线 | F42: K0+000 | G42: K1+590 | H42: 1.6 | I42: 40 | N42: 2 | Q42: 4 | R42: =J42*0.4461+K42*0.1485+L42*0.15*0.004+I42*0.0145+M42*0.145+N42*0.015+O42*0.01+P42*0.16+Q42*0.2 -> 1.41
A43: 38 | B43: 沈阳市 | C43: 辽中区 | D43: CTPH210122 | E43: 黄岔线 | F43: K0+500 | G43: K0+600 | H43: 0.1 | I43: 80 | N43: 2 | R43: =J43*0.4461+K43*0.1485+L43*0.15*0.004+I43*0.0145+M43*0.145+N43*0.015+O43*0.01+P43*0.16+Q43*0.2 -> 1.19
A44: 39 | B44: 沈阳市 | C44: 辽中区 | D44: CJ03210122 | E44: 孙方线 | F44: K0+000 | G44: K2+000 | H44: 2 | I44: 300 | J44: 3 | Q44: 6 | R44: =J44*0.4461+K44*0.1485+L44*0.15*0.004+I44*0.0145+M44*0.145+N44*0.015+O44*0.01+P44*0.16+Q44*0.2 -> 6.8883
A45: 40 | B45: 沈阳市 | C45: 辽中区 | D45: CJN6210122 | E45: 大茨线 | F45: K1+000 | G45: K3+900 | H45: 2.9 | I45: 300 | J45: 2 | Q45: 4 | R45: =J45*0.4461+K45*0.1485+L45*0.15*0.004+I45*0.0145+M45*0.145+N45*0.015+O45*0.01+P45*0.16+Q45*0.2 -> 6.0422
A46: 41 | B46: 沈阳市 | C46: 辽中区 | D46: CJN5210122 | E46: 马钱线 | F46: K4+100 | G46: K4+200 | H46: 0.1 | I46: 100 | J46: 1 | Q46: 2 | R46: =J46*0.4461+K46*0.1485+L46*0.15*0.004+I46*0.0145+M46*0.145+N46*0.015+O46*0.01+P46*0.16+Q46*0.2 -> 2.2961
A47: 42 | B47: 沈阳市 | C47: 辽中区 | D47: CJN2210122 | E47: 双大线 | F47: K0+200 | G47: K1+053 | H47: 0.7 | I47: 300 | J47: 2 | Q47: 4 | R47: =J47*0.4461+K47*0.1485+L47*0.15*0.004+I47*0.0145+M47*0.145+N47*0.015+O47*0.01+P47*0.16+Q47*0.2 -> 6.0422
A48: 43 | B48: 沈阳市 | C48: 辽中区 | D48: CJN4210122 | E48: 小后线 | F48: K0+500 | G48: K3+300 | H48: 2.8 | I48: 150 | K48: 1 | O48: 1 | Q48: 2 | R48: =J48*0.4461+K48*0.1485+L48*0.15*0.004+I48*0.0145+M48*0.145+N48*0.015+O48*0.01+P48*0.16+Q48*0.2 -> 2.7335
A49: 44 | B49: 沈阳市 | C49: 辽中区 | D49: CJP1210122 | E49: 满长线 | F49: K0+700 | G49: K2+500 | H49: 1.8 | I49: 200 | K49: 2 | O49: 1 | Q49: 4 | R49: =J49*0.4461+K49*0.1485+L49*0.15*0.004+I49*0.0145+M49*0.145+N49*0.015+O49*0.01+P49*0.16+Q49*0.2 -> 4.007
A50: 45 | B50: 沈阳市 | C50: 辽中区 | D50: CJP1210122 | E50: 满长线 | F50: K4+400 | G50: K4+500 | H50: 0.1 | I50: 200 | R50: =J50*0.4461+K50*0.1485+L50*0.15*0.004+I50*0.0145+M50*0.145+N50*0.015+O50*0.01+P50*0.16+Q50*0.2 -> 2.9
A51: 46 | B51: 沈阳市 | C51: 辽中区 | D51: CJ08210122 | E51: 苏后线 | F51: K0+800 | G51: K1+500 | H51: 0.7 | I51: 700 | R51: =J51*0.4461+K51*0.1485+L51*0.15*0.004+I51*0.0145+M51*0.145+N51*0.015+O51*0.01+P51*0.16+Q51*0.2 -> 10.15
A52: 47 | B52: 沈阳市 | C52: 辽中区 | D52: CTNG210122 | E52: 大西线 | F52: K0+500 | G52: K0+600 | H52: 0.1 | I52: 100 | R52: =J52*0.4461+K52*0.1485+L52*0.15*0.004+I52*0.0145+M52*0.145+N52*0.015+O52*0.01+P52*0.16+Q52*0.2 -> 1.45
A53: 48 | B53: 沈阳市 | C53: 辽中区 | D53: CJP6210122 | E53: 金胡线 | F53: K0+300 | G53: K1+400 | H53: 1.1 | I53: 300 | K53: 2 | Q53: 2 | R53: =J53*0.4461+K53*0.1485+L53*0.15*0.004+I53*0.0145+M53*0.145+N53*0.015+O53*0.01+P53*0.16+Q53*0.2 -> 5.047
A54: 49 | B54: 沈阳市 | C54: 辽中区 | D54: CJP9210122 | E54: 三二线 | F54: K0+300 | G54: K1+800 | H54: 1.5 | I54: 400 | K54: 2 | Q54: 2 | R54: =J54*0.4461+K54*0.1485+L54*0.15*0.004+I54*0.0145+M54*0.145+N54*0.015+O54*0.01+P54*0.16+Q54*0.2 -> 6.497
A55: 50 | B55: 沈阳市 | C55: 辽中区 | D55: CTNP210122 | E55: 二西线 | F55: K1+000 | G55: K1+200 | H55: 0.2 | I55: 200 | J55: 1 | Q55: 2 | R55: =J55*0.4461+K55*0.1485+L55*0.15*0.004+I55*0.0145+M55*0.145+N55*0.015+O55*0.01+P55*0.16+Q55*0.2 -> 3.7461
A56: 51 | B56: 沈阳市 | C56: 辽中区 | D56: C1M1210122 | E56: 二三线 | F56: K0+700 | G56: K1+400 | H56: 0.7 | I56: 200 | J56: 2 | Q56: 4 | R56: =J56*0.4461+K56*0.1485+L56*0.15*0.004+I56*0.0145+M56*0.145+N56*0.015+O56*0.01+P56*0.16+Q56*0.2 -> 4.5922
A57: 52 | B57: 沈阳市 | C57: 辽中区 | D57: CJQ1210122 | E57: 三刘线 | F57: K0+700 | G57: K0+900 | H57: 0.2 | I57: 200 | Q57: 2 | R57: =J57*0.4461+K57*0.1485+L57*0.15*0.004+I57*0.0145+M57*0.145+N57*0.015+O57*0.01+P57*0.16+Q57*0.2 -> 3.3
A58: 53 | B58: 沈阳市 | C58: 辽中区 | D58: CJR5210122 | E58: 西花线 | F58: K1+700 | G58: K4+400 | H58: 2.7 | I58: 100 | K58: 2 | O58: 1 | Q58: 2 | R58: =J58*0.4461+K58*0.1485+L58*0.15*0.004+I58*0.0145+M58*0.145+N58*0.015+O58*0.01+P58*0.16+Q58*0.2 -> 2.157
A59: 54 | B59: 沈阳市 | C59: 辽中区 | D59: CJF4210122 | E59: 老许线 | F59: K3+430 | G59: K4+000 | H59: 0.6 | I59: 1060 | K59: 4 | R59: =J59*0.4461+K59*0.1485+L59*0.15*0.004+I59*0.0145+M59*0.145+N59*0.015+O59*0.01+P59*0.16+Q59*0.2 -> 15.964
A60: 55 | B60: 沈阳市 | C60: 辽中区 | D60: CJF1210122 | E60: 老八线 | F60: K3+270 | G60: K3+470 | H60: 0.2 | I60: 400 | P60: 1 | Q60: 2 | R60: =J60*0.4461+K60*0.1485+L60*0.15*0.004+I60*0.0145+M60*0.145+N60*0.015+O60*0.01+P60*0.16+Q60*0.2 -> 6.36
A61: 56 | B61: 沈阳市 | C61: 辽中区 | D61: CJF3210122 | E61: 六化线 | F61: K0+540 | G61: K0+595 | H61: 0.1 | I61: 56 | K61: 4 | R61: =J61*0.4461+K61*0.1485+L61*0.15*0.004+I61*0.0145+M61*0.145+N61*0.015+O61*0.01+P61*0.16+Q61*0.2 -> 1.406
A62: 57 | B62: 沈阳市 | C62: 辽中区 | D62: CJF5210122 | E62: 韭马线 | F62: K3+120 | G62: K3+250 | H62: 0.1 | I62: 50 | R62: =J62*0.4461+K62*0.1485+L62*0.15*0.004+I62*0.0145+M62*0.145+N62*0.015+O62*0.01+P62*0.16+Q62*0.2 -> 0.725
A63: 58 | B63: 沈阳市 | C63: 辽中区 | D63: CJG9210122 | E63: 皮西线 | F63: K2+090 | G63: K2+150 | H63: 0.1 | I63: 10 | R63: =J63*0.4461+K63*0.1485+L63*0.15*0.004+I63*0.0145+M63*0.145+N63*0.015+O63*0.01+P63*0.16+Q63*0.2 -> 0.145
A64: 59 | B64: 沈阳市 | C64: 辽中区 | D64: CTZ3210122 | E64: 张邵线 | F64: K11+530 | G64: K11+580 | H64: 0.1 | I64: 60 | R64: =J64*0.4461+K64*0.1485+L64*0.15*0.004+I64*0.0145+M64*0.145+N64*0.015+O64*0.01+P64*0.16+Q64*0.2 -> 0.87
A65: 60 | B65: 沈阳市 | C65: 辽中区 | D65: CTZ4210122 | E65: 邵腾线 | F65: K0+020 | G65: K1+050 | H65: 1 | I65: 70 | K65: 1 | Q65: 1 | R65: =J65*0.4461+K65*0.1485+L65*0.15*0.004+I65*0.0145+M65*0.145+N65*0.015+O65*0.01+P65*0.16+Q65*0.2 -> 1.3635
A66: 61 | B66: 沈阳市 | C66: 辽中区 | D66: CJL6210122 | E66: 卡卡线 | F66: K1+800 | G66: K1+880 | H66: 0.1 | I66: 160 | R66: =J66*0.4461+K66*0.1485+L66*0.15*0.004+I66*0.0145+M66*0.145+N66*0.015+O66*0.01+P66*0.16+Q66*0.2 -> 2.32
A67: 62 | B67: 沈阳市 | C67: 辽中区 | D67: CTRH210122 | E67: 十徐线 | F67: K0+100 | G67: K0+600 | H67: 0.5 | I67: 60 | K67: 2 | R67: =J67*0.4461+K67*0.1485+L67*0.15*0.004+I67*0.0145+M67*0.145+N67*0.015+O67*0.01+P67*0.16+Q67*0.2 -> 1.167
A68: 63 | B68: 沈阳市 | C68: 辽中区 | D68: CTQV210122 | E68: 上花线 | F68: K0+730 | G68: K2+190 | H68: 1.5 | I68: 100 | K68: 3 | R68: =J68*0.4461+K68*0.1485+L68*0.15*0.004+I68*0.0145+M68*0.145+N68*0.015+O68*0.01+P68*0.16+Q68*0.2 -> 1.8955
A69: 64 | B69: 沈阳市 | C69: 康平县 | D69: CJBJ210123 | E69: 倪南线 | F69: K0+000 | G69: K1+700 | H69: 1.7 | I69: 200 | M69: 4 | N69: 4 | O69: 8 | R69: =J69*0.4461+K69*0.1485+L69*0.15*0.004+I69*0.0145+M69*0.145+N69*0.015+O69*0.01+P69*0.16+Q69*0.2 -> 3.62
A70: 65 | B70: 沈阳市 | C70: 康平县 | D70: CJBN210123 | E70: 三小线 | F70: K0+000 | G70: K2+600 | H70: 2.6 | I70: 150 | M70: 4 | N70: 4 | O70: 12 | R70: =J70*0.4461+K70*0.1485+L70*0.15*0.004+I70*0.0145+M70*0.145+N70*0.015+O70*0.01+P70*0.16+Q70*0.2 -> 2.935
A71: 66 | B71: 沈阳市 | C71: 康平县 | D71: CJFL210123 | E71: 拉董线 | F71: K0+000 | G71: K2+600 | H71: 2.6 | I71: 150 | M71: 2 | N71: 4 | O71: 8 | R71: =J71*0.4461+K71*0.1485+L71*0.15*0.004+I71*0.0145+M71*0.145+N71*0.015+O71*0.01+P71*0.16+Q71*0.2 -> 2.605
A72: 67 | B72: 沈阳市 | C72: 康平县 | D72: CJCA210123 | E72: 小后线 | F72: K0+000 | G72: K1+500 | H72: 1.5 | I72: 200 | M72: 4 | N72: 4 | O72: 8 | R72: =J72*0.4461+K72*0.1485+L72*0.15*0.004+I72*0.0145+M72*0.145+N72*0.015+O72*0.01+P72*0.16+Q72*0.2 -> 3.62
A73: 68 | B73: 沈阳市 | C73: 康平县 | D73: CJZ2210123 | E73: 姜黑线 | F73: K0+100 | G73: K2+700 | H73: 2.6 | I73: 150 | M73: 4 | N73: 4 | O73: 12 | R73: =J73*0.4461+K73*0.1485+L73*0.15*0.004+I73*0.0145+M73*0.145+N73*0.015+O73*0.01+P73*0.16+Q73*0.2 -> 2.935
A74: 69 | B74: 沈阳市 | C74: 康平县 | D74: CTRU210123 | E74: 白小线 | F74: K0+200 | G74: K1+100 | H74: 0.9 | I74: 150 | M74: 4 | N74: 4 | O74: 12 | R74: =J74*0.4461+K74*0.1485+L74*0.15*0.004+I74*0.0145+M74*0.145+N74*0.015+O74*0.01+P74*0.16+Q74*0.2 -> 2.935
A75: 70 | B75: 沈阳市 | C75: 康平县 | D75: C1BF210123 | E75: 胜五线 | F75: K0+000 | G75: K2+600 | H75: 2.6 | I75: 150 | M75: 4 | N75: 4 | O75: 12 | R75: =J75*0.4461+K75*0.1485+L75*0.15*0.004+I75*0.0145+M75*0.145+N75*0.015+O75*0.01+P75*0.16+Q75*0.2 -> 2.935
A76: 71 | B76: 沈阳市 | C76: 康平县 | D76: CJCG210123 | E76: 南善线 | F76: K0+000 | G76: K2+800 | H76: 2.8 | I76: 150 | M76: 4 | N76: 4 | O76: 8 | R76: =J76*0.4461+K76*0.1485+L76*0.15*0.004+I76*0.0145+M76*0.145+N76*0.015+O76*0.01+P76*0.16+Q76*0.2 -> 2.895
A77: 72 | B77: 沈阳市 | C77: 康平县 | D77: CJDH210123 | E77: 聂聂线 | F77: K0+000 | G77: K0+500 | H77: 0.5 | I77: 150 | M77: 4 | N77: 2 | O77: 8 | R77: =J77*0.4461+K77*0.1485+L77*0.15*0.004+I77*0.0145+M77*0.145+N77*0.015+O77*0.01+P77*0.16+Q77*0.2 -> 2.865
A78: 73 | B78: 沈阳市 | C78: 康平县 | D78: CJDQ210123 | E78: 五东线 | F78: K0+000 | G78: K2+500 | H78: 2.5 | I78: 200 | M78: 4 | N78: 2 | O78: 8 | R78: =J78*0.4461+K78*0.1485+L78*0.15*0.004+I78*0.0145+M78*0.145+N78*0.015+O78*0.01+P78*0.16+Q78*0.2 -> 3.59
A79: 74 | B79: 沈阳市 | C79: 康平县 | D79: CJDY210123 | E79: 贾刘线 | F79: K0+000 | G79: K1+700 | H79: 1.7 | I79: 80 | M79: 4 | N79: 2 | O79: 8 | R79: =J79*0.4461+K79*0.1485+L79*0.15*0.004+I79*0.0145+M79*0.145+N79*0.015+O79*0.01+P79*0.16+Q79*0.2 -> 1.85
A80: 75 | B80: 沈阳市 | C80: 康平县 | D80: CJDY210123 | E80: 贾刘线 | F80: K4+500 | G80: K5+300 | H80: 0.8 | I80: 200 | N80: 2 | R80: =J80*0.4461+K80*0.1485+L80*0.15*0.004+I80*0.0145+M80*0.145+N80*0.015+O80*0.01+P80*0.16+Q80*0.2 -> 2.93
A81: 76 | B81: 沈阳市 | C81: 法库县 | D81: CTUT210124 | E81: 顺獾线 | F81: K0+000 | G81: K2+000 | H81: 2 | I81: 2500 | K81: 4 | R81: =J81*0.4461+K81*0.1485+L81*0.15*0.004+I81*0.0145+M81*0.145+N81*0.015+O81*0.01+P81*0.16+Q81*0.2 -> 36.844
A82: 77 | B82: 沈阳市 | C82: 法库县 | D82: C1ZV210124 | E82: 大石线 | F82: K3+500 | G82: K4+500 | H82: 1 | I82: 100 | K82: 2 | R82: =J82*0.4461+K82*0.1485+L82*0.15*0.004+I82*0.0145+M82*0.145+N82*0.015+O82*0.01+P82*0.16+Q82*0.2 -> 1.747
A83: 78 | B83: 沈阳市 | C83: 法库县 | D83: CUBC210124 | E83: 邦五线 | F83: K1+700 | G83: K3+800 | H83: 2.1 | I83: 170 | K83: 2 | R83: =J83*0.4461+K83*0.1485+L83*0.15*0.004+I83*0.0145+M83*0.145+N83*0.015+O83*0.01+P83*0.16+Q83*0.2 -> 2.762
A84: 79 | B84: 沈阳市 | C84: 法库县 | D84: CJOS210124 | E84: 兴邦线 | F84: K0+000 | G84: K0+200 | H84: 0.2 | I84: 300 | R84: =J84*0.4461+K84*0.1485+L84*0.15*0.004+I84*0.0145+M84*0.145+N84*0.015+O84*0.01+P84*0.16+Q84*0.2 -> 4.35
A85: 80 | B85: 沈阳市 | C85: 法库县 | D85: C1ZT210124 | E85: 塔大线 | F85: K0+400 | G85: K1+300 | H85: 0.9 | I85: 380 | R85: =J85*0.4461+K85*0.1485+L85*0.15*0.004+I85*0.0145+M85*0.145+N85*0.015+O85*0.01+P85*0.16+Q85*0.2 -> 5.51
A86: 81 | B86: 沈阳市 | C86: 法库县 | D86: CJIS210124 | E86: 塔白线 | F86: K0+700 | G86: K1+000 | H86: 0.3 | I86: 30 | K86: 4 | R86: =J86*0.4461+K86*0.1485+L86*0.15*0.004+I86*0.0145+M86*0.145+N86*0.015+O86*0.01+P86*0.16+Q86*0.2 -> 1.029
A87: 82 | B87: 沈阳市 | C87: 法库县 | D87: CJHC210124 | E87: 侯刘线 | F87: K1+400 | G87: K2+900 | H87: 1.5 | I87: 50 | K87: 4 | R87: =J87*0.4461+K87*0.1485+L87*0.15*0.004+I87*0.0145+M87*0.145+N87*0.015+O87*0.01+P87*0.16+Q87*0.2 -> 1.319
A88: 83 | B88: 沈阳市 | C88: 法库县 | D88: CJHC210124 | E88: 侯刘线 | F88: K5+800 | G88: K6+100 | H88: 0.3 | I88: 40 | K88: 4 | R88: =J88*0.4461+K88*0.1485+L88*0.15*0.004+I88*0.0145+M88*0.145+N88*0.015+O88*0.01+P88*0.16+Q88*0.2 -> 1.174
A89: 84 | B89: 沈阳市 | C89: 法库县 | D89: CJLD210124 | E89: 五老线 | F89: K0+300 | G89: K0+400 | H89: 0.1 | I89: 30 | K89: 2 | R89: =J89*0.4461+K89*0.1485+L89*0.15*0.004+I89*0.0145+M89*0.145+N89*0.015+O89*0.01+P89*0.16+Q89*0.2 -> 0.732
A90: 85 | B90: 沈阳市 | C90: 法库县 | D90: C1ZP210124 | E90: 叶薄线 | F90: K0+200 | G90: K0+700 | H90: 0.5 | I90: 40 | K90: 2 | R90: =J90*0.4461+K90*0.1485+L90*0.15*0.004+I90*0.0145+M90*0.145+N90*0.015+O90*0.01+P90*0.16+Q90*0.2 -> 0.877
A91: 86 | B91: 沈阳市 | C91: 法库县 | D91: CJOV210124 | E91: 前牛线 | F91: K4+000 | G91: K4+100 | H91: 0.1 | I91: 100 | R91: =J91*0.4461+K91*0.1485+L91*0.15*0.004+I91*0.0145+M91*0.145+N91*0.015+O91*0.01+P91*0.16+Q91*0.2 -> 1.45
A92: 87 | B92: 沈阳市 | C92: 法库县 | D92: CJOE210124 | E92: 和曲线 | F92: K0+100 | G92: K2+500 | H92: 2.4 | I92: 30 | K92: 10 | R92: =J92*0.4461+K92*0.1485+L92*0.15*0.004+I92*0.0145+M92*0.145+N92*0.015+O92*0.01+P92*0.16+Q92*0.2 -> 1.92
A93: 88 | B93: 沈阳市 | C93: 法库县 | D93: CJOE210124 | E93: 和曲线 | F93: K5+100 | G93: K5+900 | H93: 0.8 | I93: 70 | K93: 6 | R93: =J93*0.4461+K93*0.1485+L93*0.15*0.004+I93*0.0145+M93*0.145+N93*0.015+O93*0.01+P93*0.16+Q93*0.2 -> 1.906
A94: 89 | B94: 沈阳市 | C94: 法库县 | D94: C1YO210124 | E94: 柏刘线 | F94: K0+700 | G94: K2+100 | H94: 1.4 | I94: 1200 | R94: =J94*0.4461+K94*0.1485+L94*0.15*0.004+I94*0.0145+M94*0.145+N94*0.015+O94*0.01+P94*0.16+Q94*0.2 -> 17.4
A95: 90 | B95: 沈阳市 | C95: 法库县 | D95: C2YO210124 | E95: 柏刘线 | F95: K2+200 | G95: K4+000 | H95: 1.8 | I95: 1500 | R95: =J95*0.4461+K95*0.1485+L95*0.15*0.004+I95*0.0145+M95*0.145+N95*0.015+O95*0.01+P95*0.16+Q95*0.2 -> 21.75

Sheet 鞍山2019
A1: 辽宁省2019年村级公路安防工程预安排计划
A2: 序号 | B2: 市 | C2: 县 | D2: 公路编号 | E2: 路线 名称 | F2: 起点 桩号 | G2: 终点 桩号 | H2: 里程 （公里） | I2: 处置工程数量 | R2: 投资 估算 （万元）
I3: 钢护栏长度（米） | J3: 标志数量 | L3: 标线 长度（米） | M3: 警示诱导设施 | Q3: 减速丘（个）
J4: 悬臂式（个） | K4: 单柱式（个） | M4: 线形诱导标（个） | N4: 道口 标柱（个） | O4: 示警桩（个） | P4: 凸面反光镜（个）
H5: =SUM(H6:H179) -> 168.4 | I5: =SUM(I6:I179) -> 58490 | J5: =SUM(J6:J179) -> 0 | K5: =SUM(K6:K179) -> 303 | L5: =SUM(L6:L179) -> 0 | M5: =SUM(M6:M179) -> 46 | N5: =SUM(N6:N179) -> 72 | O5: =SUM(O6:O179) -> 0 | ... R5: =SUM(R6:R179) -> 908.8105
A6: 1 | B6: 鞍山市 | C6: 海城市 | D6: CLT6210381 | E6: 朱金线 | F6: K0+000 | G6: K2+000 | H6: 2 | I6: 830 | K6: 5 | R6: =J6*0.4461+K6*0.1485+L6*0.15*0.004+I6*0.0145+M6*0.145+N6*0.015+O6*0.01+P6*0.16+Q6*0.2 -> 12.7775
A7: 2 | B7: 鞍山市 | C7: 海城市 | D7: CLT5210381 | E7: 朱二线 | F7: K0+000 | G7: K2+000 | H7: 2 | I7: 290 | K7: 3 | Q7: 2 | R7: =J7*0.4461+K7*0.1485+L7*0.15*0.004+I7*0.0145+M7*0.145+N7*0.015+O7*0.01+P7*0.16+Q7*0.2 -> 5.0505
A8: 3 | B8: 鞍山市 | C8: 海城市 | D8: CLT4210381 | E8: 庙头线 | F8: K0+000 | G8: K1+500 | H8: 1.5 | I8: 180 | K8: 1 | R8: =J8*0.4461+K8*0.1485+L8*0.15*0.004+I8*0.0145+M8*0.145+N8*0.015+O8*0.01+P8*0.16+Q8*0.2 -> 2.7585
A9: 4 | B9: 鞍山市 | C9: 海城市 | D9: CLTD210381 | E9: 大西线 | F9: K0+000 | G9: K1+500 | H9: 1.5 | I9: 60 | K9: 5 | N9: 2 | Q9: 2 | R9: =J9*0.4461+K9*0.1485+L9*0.15*0.004+I9*0.0145+M9*0.145+N9*0.015+O9*0.01+P9*0.16+Q9*0.2 -> 2.0425
A10: 5 | B10: 鞍山市 | C10: 海城市 | D10: CLSC210381 | E10: 里李线 | F10: K0+000 | G10: K1+500 | H10: 1.5 | I10: 500 | K10: 2 | R10: =J10*0.4461+K10*0.1485+L10*0.15*0.004+I10*0.0145+M10*0.145+N10*0.015+O10*0.01+P10*0.16+Q10*0.2 -> 7.547
A11: 6 | B11: 鞍山市 | C11: 海城市 | D11: CLSE210381 | E11: 营大线 | F11: K0+000 | G11: K1+000 | H11: 1 | I11: 40 | R11: =J11*0.4461+K11*0.1485+L11*0.15*0.004+I11*0.0145+M11*0.145+N11*0.015+O11*0.01+P11*0.16+Q11*0.2 -> 0.58
A12: 7 | B12: 鞍山市 | C12: 海城市 | D12: C3UO210381 | E12: 孙石线 | F12: K0+000 | G12: K2+500 | H12: 2.5 | I12: 1190 | K12: 6 | Q12: 2 | R12: =J12*0.4461+K12*0.1485+L12*0.15*0.004+I12*0.0145+M12*0.145+N12*0.015+O12*0.01+P12*0.16+Q12*0.2 -> 18.546
A13: 8 | B13: 鞍山市 | C13: 海城市 | D13: C3UQ210381 | E13: 石东线 | F13: K0+000 | G13: K2+800 | H13: 2.8 | I13: 340 | K13: 4 | Q13: 2 | R13: =J13*0.4461+K13*0.1485+L13*0.15*0.004+I13*0.0145+M13*0.145+N13*0.015+O13*0.01+P13*0.16+Q13*0.2 -> 5.924
A14: 9 | B14: 鞍山市 | C14: 海城市 | D14: C3UY210381 | E14: 夺老线 | F14: K0+000 | G14: K2+000 | H14: 2 | I14: 280 | K14: 2 | Q14: 2 | R14: =J14*0.4461+K14*0.1485+L14*0.15*0.004+I14*0.0145+M14*0.145+N14*0.015+O14*0.01+P14*0.16+Q14*0.2 -> 4.757
A15: 10 | B15: 鞍山市 | C15: 海城市 | D15: C3V8210381 | E15: 桐王线 | F15: K0+000 | G15: K1+000 | H15: 1 | I15: 210 | R15: =J15*0.4461+K15*0.1485+L15*0.15*0.004+I15*0.0145+M15*0.145+N15*0.015+O15*0.01+P15*0.16+Q15*0.2 -> 3.045
A16: 11 | B16: 鞍山市 | C16: 海城市 | D16: C3TI210381 | E16: 吉楼线 | F16: K0+500 | G16: K1+500 | H16: 1 | I16: 190 | K16: 2 | R16: =J16*0.4461+K16*0.1485+L16*0.15*0.004+I16*0.0145+M16*0.145+N16*0.015+O16*0.01+P16*0.16+Q16*0.2 -> 3.052
A17: 12 | B17: 鞍山市 | C17: 海城市 | D17: C3TI210381 | E17: 吉楼线 | F17: K3+000 | G17: K4+000 | H17: 1 | I17: 80 | R17: =J17*0.4461+K17*0.1485+L17*0.15*0.004+I17*0.0145+M17*0.145+N17*0.015+O17*0.01+P17*0.16+Q17*0.2 -> 1.16
A18: 13 | B18: 鞍山市 | C18: 海城市 | D18: C3TI210381 | E18: 吉楼线 | F18: K2+500 | G18: K2+800 | H18: 0.3 | I18: 170 | R18: =J18*0.4461+K18*0.1485+L18*0.15*0.004+I18*0.0145+M18*0.145+N18*0.015+O18*0.01+P18*0.16+Q18*0.2 -> 2.465
A19: 14 | B19: 鞍山市 | C19: 海城市 | D19: CLRZ210381 | E19: 韩蚂线 | F19: K1+800 | G19: K3+200 | H19: 1.4 | I19: 260 | R19: =J19*0.4461+K19*0.1485+L19*0.15*0.004+I19*0.0145+M19*0.145+N19*0.015+O19*0.01+P19*0.16+Q19*0.2 -> 3.77
A20: 15 | B20: 鞍山市 | C20: 海城市 | D20: CLS0210381 | E20: 东甘线 | F20: K2+500 | G20: K3+000 | H20: 0.5 | I20: 128 | R20: =J20*0.4461+K20*0.1485+L20*0.15*0.004+I20*0.0145+M20*0.145+N20*0.015+O20*0.01+P20*0.16+Q20*0.2 -> 1.856
A21: 16 | B21: 鞍山市 | C21: 海城市 | D21: CLS1210381 | E21: 前韩线 | F21: K1+800 | G21: K2+300 | H21: 0.5 | I21: 190 | R21: =J21*0.4461+K21*0.1485+L21*0.15*0.004+I21*0.0145+M21*0.145+N21*0.015+O21*0.01+P21*0.16+Q21*0.2 -> 2.755
A22: 17 | B22: 鞍山市 | C22: 海城市 | D22: CLPC210381 | E22: 八西线 | F22: K0+000 | G22: K2+000 | H22: 1.5 | I22: 186 | K22: 2 | R22: =J22*0.4461+K22*0.1485+L22*0.15*0.004+I22*0.0145+M22*0.145+N22*0.015+O22*0.01+P22*0.16+Q22*0.2 -> 2.994
A23: 18 | B23: 鞍山市 | C23: 海城市 | D23: CLPI210381 | E23: 耿郭线 | F23: K2+000 | G23: K4+000 | H23: 2 | I23: 260 | R23: =J23*0.4461+K23*0.1485+L23*0.15*0.004+I23*0.0145+M23*0.145+N23*0.015+O23*0.01+P23*0.16+Q23*0.2 -> 3.77
A24: 19 | B24: 鞍山市 | C24: 海城市 | D24: CLPF210381 | E24: 下外线 | F24: K2+500 | G24: K4+000 | H24: 1.5 | I24: 200 | K24: 6 | Q24: 2 | R24: =J24*0.4461+K24*0.1485+L24*0.15*0.004+I24*0.0145+M24*0.145+N24*0.015+O24*0.01+P24*0.16+Q24*0.2 -> 4.191
A25: 20 | B25: 鞍山市 | C25: 海城市 | D25: CLPG210381 | E25: 前太线 | F25: K0+000 | G25: K2+000 | H25: 2 | I25: 110 | R25: =J25*0.4461+K25*0.1485+L25*0.15*0.004+I25*0.0145+M25*0.145+N25*0.015+O25*0.01+P25*0.16+Q25*0.2 -> 1.595
A26: 21 | B26: 鞍山市 | C26: 海城市 | D26: C3QX210381 | E26: 北古线 | F26: K0+000 | G26: K3+000 | H26: 3 | I26: 170 | K26: 4 | Q26: 2 | R26: =J26*0.4461+K26*0.1485+L26*0.15*0.004+I26*0.0145+M26*0.145+N26*0.015+O26*0.01+P26*0.16+Q26*0.2 -> 3.459
A27: 22 | B27: 鞍山市 | C27: 海城市 | D27: C3R2210381 | E27: 山莫线 | F27: K0+000 | G27: K2+000 | H27: 2 | I27: 342 | K27: 4 | Q27: 2 | R27: =J27*0.4461+K27*0.1485+L27*0.15*0.004+I27*0.0145+M27*0.145+N27*0.015+O27*0.01+P27*0.16+Q27*0.2 -> 5.953
A28: 23 | B28: 鞍山市 | C28: 海城市 | D28: C3SF210381 | E28: 外屯线 | F28: K0+000 | G28: K1+000 | H28: 1 | I28: 172 | K28: 2 | Q28: 2 | R28: =J28*0.4461+K28*0.1485+L28*0.15*0.004+I28*0.0145+M28*0.145+N28*0.015+O28*0.01+P28*0.16+Q28*0.2 -> 3.191
A29: 24 | B29: 鞍山市 | C29: 海城市 | D29: C3Q0210381 | E29: 王王线 | F29: K0+000 | G29: K1+100 | H29: 1.1 | I29: 64 | K29: 3 | N29: 6 | R29: =J29*0.4461+K29*0.1485+L29*0.15*0.004+I29*0.0145+M29*0.145+N29*0.015+O29*0.01+P29*0.16+Q29*0.2 -> 1.4635
A30: 25 | B30: 鞍山市 | C30: 海城市 | D30: C3PZ210381 | E30: 前马线 | F30: K0+000 | G30: K3+000 | H30: 3 | I30: 60 | K30: 7 | N30: 16 | Q30: 2 | R30: =J30*0.4461+K30*0.1485+L30*0.15*0.004+I30*0.0145+M30*0.145+N30*0.015+O30*0.01+P30*0.16+Q30*0.2 -> 2.5495
A31: 26 | B31: 鞍山市 | C31: 海城市 | D31: C3Q7210381 | E31: 南开线 | F31: K0+000 | G31: K3+000 | H31: 3 | I31: 124 | K31: 9 | Q31: 2 | R31: =J31*0.4461+K31*0.1485+L31*0.15*0.004+I31*0.0145+M31*0.145+N31*0.015+O31*0.01+P31*0.16+Q31*0.2 -> 3.5345
A32: 27 | B32: 鞍山市 | C32: 海城市 | D32: C3Q7210381 | E32: 南开线 | F32: K3+000 | G32: K6+000 | H32: 3 | I32: 40 | K32: 1 | R32: =J32*0.4461+K32*0.1485+L32*0.15*0.004+I32*0.0145+M32*0.145+N32*0.015+O32*0.01+P32*0.16+Q32*0.2 -> 0.7285
A33: 28 | B33: 鞍山市 | C33: 海城市 | D33: C3P7210381 | E33: 中得线 | F33: K3+000 | G33: K3+900 | H33: 0.9 | I33: 124 | K33: 2 | R33: =J33*0.4461+K33*0.1485+L33*0.15*0.004+I33*0.0145+M33*0.145+N33*0.015+O33*0.01+P33*0.16+Q33*0.2 -> 2.095
A34: 29 | B34: 鞍山市 | C34: 海城市 | D34: C3S6210381 | E34: 黑王线 | F34: K0+000 | G34: K3+000 | H34: 3 | I34: 24 | K34: 3 | Q34: 2 | R34: =J34*0.4461+K34*0.1485+L34*0.15*0.004+I34*0.0145+M34*0.145+N34*0.015+O34*0.01+P34*0.16+Q34*0.2 -> 1.1935
A35: 30 | B35: 鞍山市 | C35: 海城市 | D35: C3S6210381 | E35: 黑王线 | F35: K3+000 | G35: K4+400 | H35: 1.4 | I35: 120 | K35: 1 | N35: 4 | R35: =J35*0.4461+K35*0.1485+L35*0.15*0.004+I35*0.0145+M35*0.145+N35*0.015+O35*0.01+P35*0.16+Q35*0.2 -> 1.9485
A36: 31 | B36: 鞍山市 | C36: 岫岩县 | D36: C3HN210323 | E36: 李卧线 | F36: 100 | G36: 800 | H36: =(G36-F36)/1000 -> 0.7 | I36: 540 | R36: =J36*0.4461+K36*0.1485+L36*0.15*0.004+I36*0.0145+M36*0.145+N36*0.015+O36*0.01+P36*0.16+Q36*0.2 -> 7.83
A37: 32 | B37: 鞍山市 | C37: 岫岩县 | D37: C3HL210323 | E37: 后罗线 | F37: 1100 | G37: 3200 | H37: =(G37-F37)/1000 -> 2.1 | I37: 768 | R37: =J37*0.4461+K37*0.1485+L37*0.15*0.004+I37*0.0145+M37*0.145+N37*0.015+O37*0.01+P37*0.16+Q37*0.2 -> 11.136
A38: 33 | B38: 鞍山市 | C38: 岫岩县 | D38: C3MO210323 | E38: 黄石线 | F38: 1600 | G38: 2000 | H38: =(G38-F38)/1000 -> 0.4 | I38: 300 | R38: =J38*0.4461+K38*0.1485+L38*0.15*0.004+I38*0.0145+M38*0.145+N38*0.015+O38*0.01+P38*0.16+Q38*0.2 -> 4.35
A39: 34 | B39: 鞍山市 | C39: 岫岩县 | D39: C3MV210323 | E39: 火东线 | F39: 1000 | G39: 2200 | H39: =(G39-F39)/1000 -> 1.2 | I39: 784 | K39: 4 | R39: =J39*0.4461+K39*0.1485+L39*0.15*0.004+I39*0.0145+M39*0.145+N39*0.015+O39*0.01+P39*0.16+Q39*0.2 -> 11.962
A40: 35 | B40: 鞍山市 | C40: 岫岩县 | D40: C3LY210323 | E40: 永林线 | F40: 0 | G40: 3000 | H40: =(G40-F40)/1000 -> 3 | I40: 3000 | R40: =J40*0.4461+K40*0.1485+L40*0.15*0.004+I40*0.0145+M40*0.145+N40*0.015+O40*0.01+P40*0.16+Q40*0.2 -> 43.5
A41: 36 | B41: 鞍山市 | C41: 岫岩县 | D41: C3LY210323 | E41: 永林线 | F41: 3000 | G41: 5000 | H41: =(G41-F41)/1000 -> 2 | I41: 1040 | K41: 7 | M41: 5 | R41: =J41*0.4461+K41*0.1485+L41*0.15*0.004+I41*0.0145+M41*0.145+N41*0.015+O41*0.01+P41*0.16+Q41*0.2 -> 16.8445
A42: 37 | B42: 鞍山市 | C42: 岫岩县 | D42: C3M3210323 | E42: 冰王线 | F42: 800 | G42: 1700 | H42: =(G42-F42)/1000 -> 0.9 | I42: 800 | R42: =J42*0.4461+K42*0.1485+L42*0.15*0.004+I42*0.0145+M42*0.145+N42*0.015+O42*0.01+P42*0.16+Q42*0.2 -> 11.6
A43: 38 | B43: 鞍山市 | C43: 岫岩县 | D43: C3MC210323 | E43: 席三线 | F43: 0 | G43: 2000 | H43: =(G43-F43)/1000 -> 2 | I43: 880 | K43: 6 | M43: 15 | P43: 1 | R43: =J43*0.4461+K43*0.1485+L43*0.15*0.004+I43*0.0145+M43*0.145+N43*0.015+O43*0.01+P43*0.16+Q43*0.2 -> 15.986
A44: 39 | B44: 鞍山市 | C44: 岫岩县 | D44: C3MA210323 | E44: 山周线 | F44: 500 | G44: 2900 | H44: =(G44-F44)/1000 -> 2.4 | I44: 1132 | K44: 2 | R44: =J44*0.4461+K44*0.1485+L44*0.15*0.004+I44*0.0145+M44*0.145+N44*0.015+O44*0.01+P44*0.16+Q44*0.2 -> 16.711
A45: 40 | B45: 鞍山市 | C45: 岫岩县 | D45: C3MA210323 | E45: 山周线 | F45: 3000 | G45: 6000 | H45: =(G45-F45)/1000 -> 3 | I45: 784 | R45: =J45*0.4461+K45*0.1485+L45*0.15*0.004+I45*0.0145+M45*0.145+N45*0.015+O45*0.01+P45*0.16+Q45*0.2 -> 11.368
A46: 41 | B46: 鞍山市 | C46: 岫岩县 | D46: C3MI210323 | E46: 张孤线 | F46: 2500 | G46: 5000 | H46: =(G46-F46)/1000 -> 2.5 | I46: 2272 | R46: =J46*0.4461+K46*0.1485+L46*0.15*0.004+I46*0.0145+M46*0.145+N46*0.015+O46*0.01+P46*0.16+Q46*0.2 -> 32.944
A47: 42 | B47: 鞍山市 | C47: 岫岩县 | D47: C3LE210323 | E47: 贾干线 | F47: 200 | G47: 3200 | H47: =(G47-F47)/1000 -> 3 | I47: 1740 | R47: =J47*0.4461+K47*0.1485+L47*0.15*0.004+I47*0.0145+M47*0.145+N47*0.015+O47*0.01+P47*0.16+Q47*0.2 -> 25.23
A48: 43 | B48: 鞍山市 | C48: 岫岩县 | D48: C3K6210323 | E48: 松老线 | F48: 0 | G48: 2500 | H48: =(G48-F48)/1000 -> 2.5 | I48: 852 | K48: 2 | M48: 14 | R48: =J48*0.4461+K48*0.1485+L48*0.15*0.004+I48*0.0145+M48*0.145+N48*0.015+O48*0.01+P48*0.16+Q48*0.2 -> 14.681
A49: 44 | B49: 鞍山市 | C49: 岫岩县 | D49: C3IK210323 | E49: 达老线 | F49: 2200 | G49: 2600 | H49: =(G49-F49)/1000 -> 0.4 | I49: 292 | R49: =J49*0.4461+K49*0.1485+L49*0.15*0.004+I49*0.0145+M49*0.145+N49*0.015+O49*0.01+P49*0.16+Q49*0.2 -> 4.234
A50: 45 | B50: 鞍山市 | C50: 岫岩县 | D50: C3IN210323 | E50: 干老线 | F50: 0 | G50: 500 | H50: =(G50-F50)/1000 -> 0.5 | I50: 272 | R50: =J50*0.4461+K50*0.1485+L50*0.15*0.004+I50*0.0145+M50*0.145+N50*0.015+O50*0.01+P50*0.16+Q50*0.2 -> 3.944
A51: 46 | B51: 鞍山市 | C51: 岫岩县 | D51: C3IT210323 | E51: 围刘线 | F51: 0 | G51: 2600 | H51: =(G51-F51)/1000 -> 2.6 | I51: 1600 | R51: =J51*0.4461+K51*0.1485+L51*0.15*0.004+I51*0.0145+M51*0.145+N51*0.015+O51*0.01+P51*0.16+Q51*0.2 -> 23.2
A52: 47 | B52: 鞍山市 | C52: 岫岩县 | D52: C3IW210323 | E52: 北北线 | F52: 900 | G52: 1100 | H52: =(G52-F52)/1000 -> 0.2 | I52: 104 | K52: 2 | R52: =J52*0.4461+K52*0.1485+L52*0.15*0.004+I52*0.0145+M52*0.145+N52*0.015+O52*0.01+P52*0.16+Q52*0.2 -> 1.805
A53: 48 | B53: 鞍山市 | C53: 岫岩县 | D53: C3J9210323 | E53: 老狼线 | F53: 1200 | G53: 2100 | H53: =(G53-F53)/1000 -> 0.9 | I53: 328 | R53: =J53*0.4461+K53*0.1485+L53*0.15*0.004+I53*0.0145+M53*0.145+N53*0.015+O53*0.01+P53*0.16+Q53*0.2 -> 4.756
A54: 49 | B54: 鞍山市 | C54: 岫岩县 | D54: C3J2210323 | E54: 纪三线 | F54: 0 | G54: 2600 | H54: =(G54-F54)/1000 -> 2.6 | I54: 916 | R54: =J54*0.4461+K54*0.1485+L54*0.15*0.004+I54*0.0145+M54*0.145+N54*0.015+O54*0.01+P54*0.16+Q54*0.2 -> 13.282
A55: 50 | B55: 鞍山市 | C55: 岫岩县 | D55: C3JW210323 | E55: 水松线 | F55: 500 | G55: 1000 | H55: =(G55-F55)/1000 -> 0.5 | I55: 192 | R55: =J55*0.4461+K55*0.1485+L55*0.15*0.004+I55*0.0145+M55*0.145+N55*0.015+O55*0.01+P55*0.16+Q55*0.2 -> 2.784
A56: 51 | B56: 鞍山市 | C56: 岫岩县 | D56: C3JV210323 | E56: 水上线 | F56: 0 | G56: 500 | H56: =(G56-F56)/1000 -> 0.5 | I56: 76 | R56: =J56*0.4461+K56*0.1485+L56*0.15*0.004+I56*0.0145+M56*0.145+N56*0.015+O56*0.01+P56*0.16+Q56*0.2 -> 1.102
A57: 52 | B57: 鞍山市 | C57: 岫岩县 | D57: C3JV210323 | E57: 水上线 | F57: 2800 | G57: 3800 | H57: =(G57-F57)/1000 -> 1 | I57: 816 | R57: =J57*0.4461+K57*0.1485+L57*0.15*0.004+I57*0.0145+M57*0.145+N57*0.015+O57*0.01+P57*0.16+Q57*0.2 -> 11.832
A58: 53 | B58: 鞍山市 | C58: 岫岩县 | D58: C3JN210323 | E58: 团大线 | F58: 1000 | G58: 1600 | H58: =(G58-F58)/1000 -> 0.6 | I58: 208 | R58: =J58*0.4461+K58*0.1485+L58*0.15*0.004+I58*0.0145+M58*0.145+N58*0.015+O58*0.01+P58*0.16+Q58*0.2 -> 3.016
A59: 54 | B59: 鞍山市 | C59: 岫岩县 | D59: C3JM210323 | E59: 东青线 | F59: 0 | G59: 2000 | H59: =(G59-F59)/1000 -> 2 | I59: 1084 | K59: 2 | R59: =J59*0.4461+K59*0.1485+L59*0.15*0.004+I59*0.0145+M59*0.145+N59*0.015+O59*0.01+P59*0.16+Q59*0.2 -> 16.015
A60: 55 | B60: 鞍山市 | C60: 岫岩县 | D60: C3JM210323 | E60: 东青线 | F60: 2000 | G60: 5000 | H60: =(G60-F60)/1000 -> 3 | I60: 2432 | R60: =J60*0.4461+K60*0.1485+L60*0.15*0.004+I60*0.0145+M60*0.145+N60*0.015+O60*0.01+P60*0.16+Q60*0.2 -> 35.264
A61: 56 | B61: 鞍山市 | C61: 岫岩县 | D61: C3JM210323 | E61: 东青线 | F61: 5000 | G61: 5500 | H61: =(G61-F61)/1000 -> 0.5 | I61: 176 | R61: =J61*0.4461+K61*0.1485+L61*0.15*0.004+I61*0.0145+M61*0.145+N61*0.015+O61*0.01+P61*0.16+Q61*0.2 -> 2.552
A62: 57 | B62: 鞍山市 | C62: 岫岩县 | D62: C3L3210323 | E62: 锅小线 | F62: 0 | G62: 1500 | H62: =(G62-F62)/1000 -> 1.5 | I62: 672 | R62: =J62*0.4461+K62*0.1485+L62*0.15*0.004+I62*0.0145+M62*0.145+N62*0.015+O62*0.01+P62*0.16+Q62*0.2 -> 9.744
A63: 58 | B63: 鞍山市 | C63: 岫岩县 | D63: C3L3210323 | E63: 锅小线 | F63: 1500 | G63: 4000 | H63: =(G63-F63)/1000 -> 2.5 | I63: 2360 | R63: =J63*0.4461+K63*0.1485+L63*0.15*0.004+I63*0.0145+M63*0.145+N63*0.015+O63*0.01+P63*0.16+Q63*0.2 -> 34.22
A64: 59 | B64: 鞍山市 | C64: 岫岩县 | D64: C3KZ210323 | E64: 高沙线 | F64: 0 | G64: 2800 | H64: =(G64-F64)/1000 -> 2.8 | I64: 2048 | R64: =J64*0.4461+K64*0.1485+L64*0.15*0.004+I64*0.0145+M64*0.145+N64*0.015+O64*0.01+P64*0.16+Q64*0.2 -> 29.696
A65: 60 | B65: 鞍山市 | C65: 岫岩县 | D65: C3KZ210323 | E65: 高沙线 | F65: 4500 | G65: 4700 | H65: =(G65-F65)/1000 -> 0.2 | I65: 88 | R65: =J65*0.4461+K65*0.1485+L65*0.15*0.004+I65*0.0145+M65*0.145+N65*0.015+O65*0.01+P65*0.16+Q65*0.2 -> 1.276
A66: 61 | B66: 鞍山市 | C66: 岫岩县 | D66: C3NE210323 | E66: 殿上线 | F66: 0 | G66: 800 | H66: =(G66-F66)/1000 -> 0.8 | I66: 392 | R66: =J66*0.4461+K66*0.1485+L66*0.15*0.004+I66*0.0145+M66*0.145+N66*0.015+O66*0.01+P66*0.16+Q66*0.2 -> 5.684
A67: 62 | B67: 鞍山市 | C67: 岫岩县 | D67: C3NM210323 | E67: 古青线 | F67: 1200 | G67: 2100 | H67: =(G67-F67)/1000 -> 0.9 | I67: 1428 | K67: 4 | R67: =J67*0.4461+K67*0.1485+L67*0.15*0.004+I67*0.0145+M67*0.145+N67*0.015+O67*0.01+P67*0.16+Q67*0.2 -> 21.3
A68: 63 | B68: 鞍山市 | C68: 岫岩县 | D68: C3NK210323 | E68: 福上线 | F68: 1200 | G68: 2100 | H68: =(G68-F68)/1000 -> 0.9 | I68: 308 | R68: =J68*0.4461+K68*0.1485+L68*0.15*0.004+I68*0.0145+M68*0.145+N68*0.015+O68*0.01+P68*0.16+Q68*0.2 -> 4.466
A69: 64 | B69: 鞍山市 | C69: 岫岩县 | D69: C3NL210323 | E69: 福小线 | F69: 1200 | G69: 2100 | H69: =(G69-F69)/1000 -> 0.9 | I69: 48 | R69: =J69*0.4461+K69*0.1485+L69*0.15*0.004+I69*0.0145+M69*0.145+N69*0.015+O69*0.01+P69*0.16+Q69*0.2 -> 0.696
A70: 65 | B70: 鞍山市 | C70: 岫岩县 | D70: Y3V2210323 | E70: 老后线 | F70: 1200 | G70: 2100 | H70: =(G70-F70)/1000 -> 0.9 | I70: 104 | R70: =J70*0.4461+K70*0.1485+L70*0.15*0.004+I70*0.0145+M70*0.145+N70*0.015+O70*0.01+P70*0.16+Q70*0.2 -> 1.508
A71: 66 | B71: 鞍山市 | C71: 岫岩县 | D71: Y3S9210323 | E71: 小前线 | F71: 0 | G71: 1500 | H71: =(G71-F71)/1000 -> 1.5 | I71: 300 | R71: =J71*0.4461+K71*0.1485+L71*0.15*0.004+I71*0.0145+M71*0.145+N71*0.015+O71*0.01+P71*0.16+Q71*0.2 -> 4.35
A72: 67 | B72: 鞍山市 | C72: 岫岩县 | D72: Y3S9210323 | E72: 小前线 | F72: 3700 | G72: 5500 | H72: =(G72-F72)/1000 -> 1.8 | I72: 788 | R72: =J72*0.4461+K72*0.1485+L72*0.15*0.004+I72*0.0145+M72*0.145+N72*0.015+O72*0.01+P72*0.16+Q72*0.2 -> 11.426
A73: 68 | B73: 鞍山市 | C73: 岫岩县 | D73: Y3S9210323 | E73: 小前线 | F73: 6000 | G73: 8700 | H73: =(G73-F73)/1000 -> 2.7 | I73: 1824 | R73: =J73*0.4461+K73*0.1485+L73*0.15*0.004+I73*0.0145+M73*0.145+N73*0.015+O73*0.01+P73*0.16+Q73*0.2 -> 26.448
A74: 69 | B74: 鞍山市 | C74: 岫岩县 | D74: Y3S9210323 | E74: 小前线 | F74: 8700 | G74: 10400 | H74: =(G74-F74)/1000 -> 1.7 | I74: 1040 | R74: =J74*0.4461+K74*0.1485+L74*0.15*0.004+I74*0.0145+M74*0.145+N74*0.015+O74*0.01+P74*0.16+Q74*0.2 -> 15.08
A75: 70 | B75: 鞍山市 | C75: 岫岩县 | D75: Y3S9210323 | E75: 小前线 | F75: 10400 | G75: 12200 | H75: =(G75-F75)/1000 -> 1.8 | I75: 732 | K75: 4 | M75: 12 | R75: =J75*0.4461+K75*0.1485+L75*0.15*0.004+I75*0.0145+M75*0.145+N75*0.015+O75*0.01+P75*0.16+Q75*0.2 -> 12.948
A76: 71 | B76: 鞍山市 | C76: 岫岩县 | D76: C3NW210323 | E76: 庙九线 | F76: 0 | G76: 1500 | H76: =(G76-F76)/1000 -> 1.5 | I76: 1084 | R76: =J76*0.4461+K76*0.1485+L76*0.15*0.004+I76*0.0145+M76*0.145+N76*0.015+O76*0.01+P76*0.16+Q76*0.2 -> 15.718
A77: 72 | B77: 鞍山市 | C77: 岫岩县 | D77: C3FQ210323 | E77: 新赵线 | F77: 0 | G77: 1600 | H77: =(G77-F77)/1000 -> 1.6 | I77: 1564 | R77: =J77*0.4461+K77*0.1485+L77*0.15*0.004+I77*0.0145+M77*0.145+N77*0.015+O77*0.01+P77*0.16+Q77*0.2 -> 22.678
A78: 73 | B78: 鞍山市 | C78: 岫岩县 | D78: C3FQ210323 | E78: 新赵线 | F78: 1600 | G78: 3300 | H78: =(G78-F78)/1000 -> 1.7 | I78: 1564 | R78: =J78*0.4461+K78*0.1485+L78*0.15*0.004+I78*0.0145+M78*0.145+N78*0.015+O78*0.01+P78*0.16+Q78*0.2 -> 22.678
A79: 74 | B79: 鞍山市 | C79: 岫岩县 | D79: C3G3210323 | E79: 教冻线 | F79: 0 | G79: 1000 | H79: =(G79-F79)/1000 -> 1 | I79: 870 | R79: =J79*0.4461+K79*0.1485+L79*0.15*0.004+I79*0.0145+M79*0.145+N79*0.015+O79*0.01+P79*0.16+Q79*0.2 -> 12.615
A80: 75 | B80: 鞍山市 | C80: 岫岩县 | D80: C3F1210323 | E80: 凌程线 | F80: 500 | G80: 2500 | H80: =(G80-F80)/1000 -> 2 | I80: 972 | R80: =J80*0.4461+K80*0.1485+L80*0.15*0.004+I80*0.0145+M80*0.145+N80*0.015+O80*0.01+P80*0.16+Q80*0.2 -> 14.094
A81: 76 | B81: 鞍山市 | C81: 千山区 | D81: C30C210311 | E81: 忠鞍线 | F81: 0 | G81: 3499 | H81: 1.4 | I81: 380 | K81: 3 | N81: 4 | R81: =J81*0.4461+K81*0.1485+L81*0.15*0.004+I81*0.0145+M81*0.145+N81*0.015+O81*0.01+P81*0.16+Q81*0.2 -> 6.0155
A82: 77 | B82: 鞍山市 | C82: 千山区 | D82: C305210311 | E82: 汤东线 | F82: 0 | G82: 1080 | H82: 1.1 | I82: 80 | K82: 5 | N82: 8 | R82: =J82*0.4461+K82*0.1485+L82*0.15*0.004+I82*0.0145+M82*0.145+N82*0.015+O82*0.01+P82*0.16+Q82*0.2 -> 2.0225
A83: 78 | B83: 鞍山市 | C83: 千山区 | D83: C31Z210311 | E83: 鞍浑线 | F83: 0 | G83: k1+127 | H83: 1.1 | I83: 1620 | K83: 2 | R83: =J83*0.4461+K83*0.1485+L83*0.15*0.004+I83*0.0145+M83*0.145+N83*0.015+O83*0.01+P83*0.16+Q83*0.2 -> 23.787
A84: 79 | B84: 鞍山市 | C84: 千山区 | D84: C331210311 | E84: 前后线 | F84: 0 | G84: 1088 | H84: 1.1 | I84: 244 | K84: 2 | R84: =J84*0.4461+K84*0.1485+L84*0.15*0.004+I84*0.0145+M84*0.145+N84*0.015+O84*0.01+P84*0.16+Q84*0.2 -> 3.835
A85: 80 | B85: 鞍山市 | C85: 台安县 | D85: C36H210321 | E85: 八小线 | F85: K0+200 | G85: K0+700 | H85: 0.5 | I85: 168 | R85: =J85*0.4461+K85*0.1485+L85*0.15*0.004+I85*0.0145+M85*0.145+N85*0.015+O85*0.01+P85*0.16+Q85*0.2 -> 2.436
A86: 81 | B86: 鞍山市 | C86: 台安县 | D86: C3DX210321 | E86: 夹张线 | F86: K0+900 | G86: K1+100 | H86: 0.2 | I86: 160 | K86: 2 | N86: 4 | R86: =J86*0.4461+K86*0.1485+L86*0.15*0.004+I86*0.0145+M86*0.145+N86*0.015+O86*0.01+P86*0.16+Q86*0.2 -> 2.677
A87: 82 | B87: 鞍山市 | C87: 台安县 | D87: C3E5210321 | E87: 殷韩线 | F87: K0+000 | G87: K0+100 | H87: 0.1 | I87: 32 | K87: 1 | N87: 2 | R87: =J87*0.4461+K87*0.1485+L87*0.15*0.004+I87*0.0145+M87*0.145+N87*0.015+O87*0.01+P87*0.16+Q87*0.2 -> 0.6425
A88: 83 | B88: 鞍山市 | C88: 台安县 | D88: C39W210321 | E88: 欧力线 | F88: K0+000 | G88: K0+300 | H88: 0.3 | I88: 168 | R88: =J88*0.4461+K88*0.1485+L88*0.15*0.004+I88*0.0145+M88*0.145+N88*0.015+O88*0.01+P88*0.16+Q88*0.2 -> 2.436
A89: 84 | B89: 鞍山市 | C89: 台安县 | D89: C39W210321 | E89: 欧力线 | F89: K1+000 | G89: K1+500 | H89: 0.5 | I89: 56 | K89: 2 | R89: =J89*0.4461+K89*0.1485+L89*0.15*0.004+I89*0.0145+M89*0.145+N89*0.015+O89*0.01+P89*0.16+Q89*0.2 -> 1.109
A90: 85 | B90: 鞍山市 | C90: 台安县 | D90: C3A2210321 | E90: 陈南线 | F90: K1+000 | G90: K1+800 | H90: 0.8 | I90: 298 | K90: 3 | N90: 2 | R90: =J90*0.4461+K90*0.1485+L90*0.15*0.004+I90*0.0145+M90*0.145+N90*0.015+O90*0.01+P90*0.16+Q90*0.2 -> 4.7965
A91: 86 | B91: 鞍山市 | C91: 台安县 | D91: C3AN210321 | E91: 高南线 | F91: K0+000 | G91: K0+700 | H91: 0.7 | I91: 20 | N91: 2 | R91: =J91*0.4461+K91*0.1485+L91*0.15*0.004+I91*0.0145+M91*0.145+N91*0.015+O91*0.01+P91*0.16+Q91*0.2 -> 0.32
A92: 87 | B92: 鞍山市 | C92: 台安县 | D92: C3CM210321 | E92: 枣柳线 | F92: K1+000 | G92: K3+000 | H92: 2 | I92: 108 | K92: 3 | R92: =J92*0.4461+K92*0.1485+L92*0.15*0.004+I92*0.0145+M92*0.145+N92*0.015+O92*0.01+P92*0.16+Q92*0.2 -> 2.0115
A93: 88 | B93: 鞍山市 | C93: 台安县 | D93: C3DB210321 | E93: 跑西线 | F93: K1+100 | G93: K1+300 | H93: 0.2 | I93: 24 | R93: =J93*0.4461+K93*0.1485+L93*0.15*0.004+I93*0.0145+M93*0.145+N93*0.015+O93*0.01+P93*0.16+Q93*0.2 -> 0.348
A94: 89 | B94: 鞍山市 | C94: 台安县 | D94: C3EA210321 | E94: 程姜线 | F94: K0+200 | G94: K0+600 | H94: 0.4 | I94: 80 | K94: 2 | R94: =J94*0.4461+K94*0.1485+L94*0.15*0.004+I94*0.0145+M94*0.145+N94*0.015+O94*0.01+P94*0.16+Q94*0.2 -> 1.457
A95: 90 | B95: 鞍山市 | C95: 台安县 | D95: C3DK210321 | E95: 车徐线 | F95: K1+300 | G95: K1+900 | H95: 0.6 | I95: 28 | K95: 3 | R95: =J95*0.4461+K95*0.1485+L95*0.15*0.004+I95*0.0145+M95*0.145+N95*0.015+O95*0.01+P95*0.16+Q95*0.2 -> 0.8515
A96: 91 | B96: 鞍山市 | C96: 台安县 | D96: C3DK210321 | E96: 车徐线 | F96: K2+000 | G96: K2+200 | H96: 0.2 | I96: 36 | K96: 2 | R96: =J96*0.4461+K96*0.1485+L96*0.15*0.004+I96*0.0145+M96*0.145+N96*0.015+O96*0.01+P96*0.16+Q96*0.2 -> 0.819
A97: 92 | B97: 鞍山市 | C97: 台安县 | D97: C3DJ210321 | E97: 龙赵线 | F97: K1+900 | G97: K2+300 | H97: 0.4 | I97: 40 | K97: 2 | R97: =J97*0.4461+K97*0.1485+L97*0.15*0.004+I97*0.0145+M97*0.145+N97*0.015+O97*0.01+P97*0.16+Q97*0.2 -> 0.877
A98: 93 | B98: 鞍山市 | C98: 台安县 | D98: C3DL210321 | E98: 殷丁线 | F98: K0+000 | G98: K0+100 | H98: 0.1 | I98: 8 | K98: 1 | R98: =J98*0.4461+K98*0.1485+L98*0.15*0.004+I98*0.0145+M98*0.145+N98*0.015+O98*0.01+P98*0.16+Q98*0.2 -> 0.2645
A99: 94 | B99: 鞍山市 | C99: 台安县 | D99: C3DD210321 | E99: 郎安线 | F99: K1+500 | G99: K1+900 | H99: 0.4 | I99: 16 | K99: 3 | R99: =J99*0.4461+K99*0.1485+L99*0.15*0.004+I99*0.0145+M99*0.145+N99*0.015+O99*0.01+P99*0.16+Q99*0.2 -> 0.6775
A100: 95 | B100: 鞍山市 | C100: 台安县 | D100: C380210321 | E100: 赵五线 | F100: K1+100 | G100: K1+200 | H100: 0.1 | I100: 12 | K100: 2 | R100: =J100*0.4461+K100*0.1485+L100*0.15*0.004+I100*0.0145+M100*0.145+N100*0.015+O100*0.01+P100*0.16+Q100*0.2 -> 0.471
...

Sheet 明细
A1: 附表4-2
A2: 朝阳市2024年农村公路安防工程建议计划
A3: 序号 | B3: 市 | C3: 县 | D3: 路线 名称 | E3: 行政等级 | F3: 起点桩号 | G3: 终点桩号 | H3: 里程 （公里） | I3: 处置工程数量 | R3: 投资 估算 （万元） | S3: 是否为三年调查库中项目
I4: 钢护栏长度（米） | J4: 标志数量 | L4: 标线 长度（米） | M4: 警示诱导设施 | Q4: 减速丘（个）
J5: 悬臂式（个） | K5: 单柱式（个） | M5: 线形诱导标（个） | N5: 道口 标柱（个） | O5: 示警桩（个） | P5: 凸面反光镜（个）
A6: 全市汇总 | H6: =SUM(H7:H10) -> 182.21 | I6: =SUM(I7:I10) -> 59225 | J6: =SUM(J7:J10) -> 10 | K6: =SUM(K7:K10) -> 4 | L6: =SUM(L7:L10) -> 0 | M6: =SUM(M7:M10) -> 28 | N6: =SUM(N7:N10) -> 578 | O6: =SUM(O7:O10) -> 54 | ... R6: =SUM(R7:R10) -> 877.3
B7: 县级 | H7: =SUMIFS(H:H,$E:$E,$B7) -> 53.4 | I7: =SUMIFS(I:I,$E:$E,$B7) -> 11888 | J7: =SUMIFS(J:J,$E:$E,$B7) -> 8 | K7: =SUMIFS(K:K,$E:$E,$B7) -> 0 | L7: =SUMIFS(L:L,$E:$E,$B7) -> 0 | M7: =SUMIFS(M:M,$E:$E,$B7) -> 28 | N7: =SUMIFS(N:N,$E:$E,$B7) -> 578 | O7: =SUMIFS(O:O,$E:$E,$B7) -> 44 | P7: =SUMIFS(P:P,$E:$E,$B7) -> 1 | Q7: =SUMIFS(Q:Q,$E:$E,$B7) -> 0 | R7: =ROUND(SUMIFS(R:R,$E:$E,$B7),1) -> 189.3
B8: 乡级 | H8: =SUMIFS(H:H,$E:$E,$B8) -> 45.71 | I8: =SUMIFS(I:I,$E:$E,$B8) -> 13992 | J8: =SUMIFS(J:J,$E:$E,$B8) -> 0 | K8: =SUMIFS(K:K,$E:$E,$B8) -> 0 | L8: =SUMIFS(L:L,$E:$E,$B8) -> 0 | M8: =SUMIFS(M:M,$E:$E,$B8) -> 0 | N8: =SUMIFS(N:N,$E:$E,$B8) -> 0 | O8: =SUMIFS(O:O,$E:$E,$B8) -> 0 | P8: =SUMIFS(P:P,$E:$E,$B8) -> 0 | Q8: =SUMIFS(Q:Q,$E:$E,$B8) -> 0 | R8: =ROUND(SUMIFS(R:R,$E:$E,$B8),1) -> 202.9
B9: 村级 | H9: =SUMIFS(H:H,$E:$E,$B9) -> 67.9 | I9: =SUMIFS(I:I,$E:$E,$B9) -> 23493 | J9: =SUMIFS(J:J,$E:$E,$B9) -> 2 | K9: =SUMIFS(K:K,$E:$E,$B9) -> 4 | L9: =SUMIFS(L:L,$E:$E,$B9) -> 0 | M9: =SUMIFS(M:M,$E:$E,$B9) -> 0 | N9: =SUMIFS(N:N,$E:$E,$B9) -> 0 | O9: =SUMIFS(O:O,$E:$E,$B9) -> 10 | P9: =SUMIFS(P:P,$E:$E,$B9) -> 0 | Q9: =SUMIFS(Q:Q,$E:$E,$B9) -> 0 | R9: =ROUND(SUMIFS(R:R,$E:$E,$B9),1) -> 342.2
B10: 路网外 | H10: =SUMIFS(H:H,$E:$E,$B10) -> 15.2 | I10: =SUMIFS(I:I,$E:$E,$B10) -> 9852 | J10: =SUMIFS(J:J,$E:$E,$B10) -> 0 | K10: =SUMIFS(K:K,$E:$E,$B10) -> 0 | L10: =SUMIFS(L:L,$E:$E,$B10) -> 0 | M10: =SUMIFS(M:M,$E:$E,$B10) -> 0 | N10: =SUMIFS(N:N,$E:$E,$B10) -> 0 | O10: =SUMIFS(O:O,$E:$E,$B10) -> 0 | P10: =SUMIFS(P:P,$E:$E,$B10) -> 0 | Q10: =SUMIFS(Q:Q,$E:$E,$B10) -> 0 | R10: =ROUND(SUMIFS(R:R,$E:$E,$B10),1) -> 142.9
A11: =ROW()-10 -> 1 | B11: 朝阳 | C11: 凌源市 | D11: 宋榆线 | E11: 县级 | F11: K1+500 | G11: K1+910 | N11: 16 | R11: =J11*0.4461+K11*0.1485+L11*0.15*0.004+I11*0.0145+M11*0.145+N11*0.015+O11*0.01+P11*0.16+Q11*0.2 -> 0.24 | S11: 是
A12: =ROW()-10 -> 2 | B12: 朝阳 | C12: 凌源市 | D12: 宋榆线 | E12: 县级 | F12: K1+930 | G12: K2+002 | H12: 0.1 | I12: 72 | R12: =J12*0.4461+K12*0.1485+L12*0.15*0.004+I12*0.0145+M12*0.145+N12*0.015+O12*0.01+P12*0.16+Q12*0.2 -> 1.044 | S12: 是
A13: =ROW()-10 -> 3 | B13: 朝阳 | C13: 凌源市 | D13: 宋榆线 | E13: 县级 | F13: K2+160 | G13: K3+330 | N13: 12 | R13: =J13*0.4461+K13*0.1485+L13*0.15*0.004+I13*0.0145+M13*0.145+N13*0.015+O13*0.01+P13*0.16+Q13*0.2 -> 0.18 | S13: 是
A14: =ROW()-10 -> 4 | B14: 朝阳 | C14: 凌源市 | D14: 宋榆线 | E14: 县级 | F14: K3+350 | G14: K3+522 | H14: 0.2 | I14: 172 | R14: =J14*0.4461+K14*0.1485+L14*0.15*0.004+I14*0.0145+M14*0.145+N14*0.015+O14*0.01+P14*0.16+Q14*0.2 -> 2.494 | S14: 是
A15: =ROW()-10 -> 5 | B15: 朝阳 | C15: 凌源市 | D15: 宋榆线 | E15: 县级 | F15: K3+540 | G15: K7+800 | N15: 44 | R15: =J15*0.4461+K15*0.1485+L15*0.15*0.004+I15*0.0145+M15*0.145+N15*0.015+O15*0.01+P15*0.16+Q15*0.2 -> 0.66 | S15: 是
A16: =ROW()-10 -> 6 | B16: 朝阳 | C16: 凌源市 | D16: 凌边线 | E16: 县级 | F16: K6+510 | G16: K7+250 | N16: 16 | R16: =J16*0.4461+K16*0.1485+L16*0.15*0.004+I16*0.0145+M16*0.145+N16*0.015+O16*0.01+P16*0.16+Q16*0.2 -> 0.24 | S16: 是
A17: =ROW()-10 -> 7 | B17: 朝阳 | C17: 凌源市 | D17: 凌边线 | E17: 县级 | F17: K7+930 | G17: K7+980 | H17: 0.1 | I17: 52 | R17: =J17*0.4461+K17*0.1485+L17*0.15*0.004+I17*0.0145+M17*0.145+N17*0.015+O17*0.01+P17*0.16+Q17*0.2 -> 0.754 | S17: 是
A18: =ROW()-10 -> 8 | B18: 朝阳 | C18: 凌源市 | D18: 凌边线 | E18: 县级 | F18: K9+080 | G18: K11+280 | N18: 20 | R18: =J18*0.4461+K18*0.1485+L18*0.15*0.004+I18*0.0145+M18*0.145+N18*0.015+O18*0.01+P18*0.16+Q18*0.2 -> 0.3 | S18: 是
A19: =ROW()-10 -> 9 | B19: 朝阳 | C19: 凌源市 | D19: 凌边线 | E19: 县级 | F19: K11+500 | G19: K11+580 | H19: 0.1 | I19: 80 | R19: =J19*0.4461+K19*0.1485+L19*0.15*0.004+I19*0.0145+M19*0.145+N19*0.015+O19*0.01+P19*0.16+Q19*0.2 -> 1.16 | S19: 是
A20: =ROW()-10 -> 10 | B20: 朝阳 | C20: 凌源市 | D20: 凌边线 | E20: 县级 | F20: K13+320 | G20: K21+640 | N20: 52 | R20: =J20*0.4461+K20*0.1485+L20*0.15*0.004+I20*0.0145+M20*0.145+N20*0.015+O20*0.01+P20*0.16+Q20*0.2 -> 0.78 | S20: 是
A21: =ROW()-10 -> 11 | B21: 朝阳 | C21: 凌源市 | D21: 南五线 | E21: 县级 | F21: K13+650 | G21: K15+420 | N21: 88 | R21: =J21*0.4461+K21*0.1485+L21*0.15*0.004+I21*0.0145+M21*0.145+N21*0.015+O21*0.01+P21*0.16+Q21*0.2 -> 1.32 | S21: 是
A22: =ROW()-10 -> 12 | B22: 朝阳 | C22: 凌源市 | D22: 南五线 | E22: 县级 | F22: K15+730 | G22: K15+818 | H22: 0.1 | I22: 88 | R22: =J22*0.4461+K22*0.1485+L22*0.15*0.004+I22*0.0145+M22*0.145+N22*0.015+O22*0.01+P22*0.16+Q22*0.2 -> 1.276 | S22: 是
A23: =ROW()-10 -> 13 | B23: 朝阳 | C23: 凌源市 | D23: 南五线 | E23: 县级 | F23: K15+740 | G23: K15+800 | H23: 0.1 | I23: 60 | R23: =J23*0.4461+K23*0.1485+L23*0.15*0.004+I23*0.0145+M23*0.145+N23*0.015+O23*0.01+P23*0.16+Q23*0.2 -> 0.87 | S23: 是
A24: =ROW()-10 -> 14 | B24: 朝阳 | C24: 凌源市 | D24: 南五线 | E24: 县级 | F24: K15+85 | G24: K17+600 | N24: 20 | R24: =J24*0.4461+K24*0.1485+L24*0.15*0.004+I24*0.0145+M24*0.145+N24*0.015+O24*0.01+P24*0.16+Q24*0.2 -> 0.3 | S24: 是
A25: =ROW()-10 -> 15 | B25: 朝阳 | C25: 凌源市 | D25: 南五线 | E25: 县级 | F25: K17+740 | G25: K17+880 | H25: 0.1 | I25: 280 | R25: =J25*0.4461+K25*0.1485+L25*0.15*0.004+I25*0.0145+M25*0.145+N25*0.015+O25*0.01+P25*0.16+Q25*0.2 -> 4.06 | S25: 是
A26: =ROW()-10 -> 16 | B26: 朝阳 | C26: 凌源市 | D26: 南五线 | E26: 县级 | F26: K18+390 | G26: K19+800 | N26: 20 | R26: =J26*0.4461+K26*0.1485+L26*0.15*0.004+I26*0.0145+M26*0.145+N26*0.015+O26*0.01+P26*0.16+Q26*0.2 -> 0.3 | S26: 是
A27: =ROW()-10 -> 17 | B27: 朝阳 | C27: 凌源市 | D27: 南五线 | E27: 县级 | F27: K19+900 | G27: K20+180 | H27: 0.3 | I27: 280 | R27: =J27*0.4461+K27*0.1485+L27*0.15*0.004+I27*0.0145+M27*0.145+N27*0.015+O27*0.01+P27*0.16+Q27*0.2 -> 4.06 | S27: 是
A28: =ROW()-10 -> 18 | B28: 朝阳 | C28: 凌源市 | D28: 南五线 | E28: 县级 | F28: K20+35 | G28: K20+622 | H28: 0.3 | I28: 272 | N28: 4 | R28: =J28*0.4461+K28*0.1485+L28*0.15*0.004+I28*0.0145+M28*0.145+N28*0.015+O28*0.01+P28*0.16+Q28*0.2 -> 4.004 | S28: 是
A29: =ROW()-10 -> 19 | B29: 朝阳 | C29: 凌源市 | D29: 南五线 | E29: 县级 | F29: K20+550 | G29: K20+630 | H29: 0.1 | I29: 80 | R29: =J29*0.4461+K29*0.1485+L29*0.15*0.004+I29*0.0145+M29*0.145+N29*0.015+O29*0.01+P29*0.16+Q29*0.2 -> 1.16 | S29: 是
A30: =ROW()-10 -> 20 | B30: 朝阳 | C30: 凌源市 | D30: 南五线 | E30: 县级 | F30: K20+700 | G30: K21+300 | H30: 0.3 | I30: 400 | R30: =J30*0.4461+K30*0.1485+L30*0.15*0.004+I30*0.0145+M30*0.145+N30*0.015+O30*0.01+P30*0.16+Q30*0.2 -> 5.8 | S30: 是
A31: =ROW()-10 -> 21 | B31: 朝阳 | C31: 凌源市 | D31: 南五线 | E31: 县级 | F31: K21+120 | G31: K23+200 | N31: 36 | R31: =J31*0.4461+K31*0.1485+L31*0.15*0.004+I31*0.0145+M31*0.145+N31*0.015+O31*0.01+P31*0.16+Q31*0.2 -> 0.54 | S31: 是
A32: =ROW()-10 -> 22 | B32: 朝阳 | C32: 凌源市 | D32: 南五线 | E32: 县级 | F32: k23+300 | G32: K23+500 | H32: 0.2 | I32: 200 | R32: =J32*0.4461+K32*0.1485+L32*0.15*0.004+I32*0.0145+M32*0.145+N32*0.015+O32*0.01+P32*0.16+Q32*0.2 -> 2.9 | S32: 是
A33: =ROW()-10 -> 23 | B33: 朝阳 | C33: 凌源市 | D33: 南五线 | E33: 县级 | F33: K24+000 | G33: K24+330 | N33: 8 | R33: =J33*0.4461+K33*0.1485+L33*0.15*0.004+I33*0.0145+M33*0.145+N33*0.015+O33*0.01+P33*0.16+Q33*0.2 -> 0.12 | S33: 是
A34: =ROW()-10 -> 24 | B34: 朝阳 | C34: 凌源市 | D34: 南五线 | E34: 县级 | F34: K24+520 | G34: K24+960 | H34: 0.4 | I34: 440 | R34: =J34*0.4461+K34*0.1485+L34*0.15*0.004+I34*0.0145+M34*0.145+N34*0.015+O34*0.01+P34*0.16+Q34*0.2 -> 6.38 | S34: 是
A35: =ROW()-10 -> 25 | B35: 朝阳 | C35: 凌源市 | D35: 南五线 | E35: 县级 | F35: K25+180 | G35: K28+210 | N35: 44 | R35: =J35*0.4461+K35*0.1485+L35*0.15*0.004+I35*0.0145+M35*0.145+N35*0.015+O35*0.01+P35*0.16+Q35*0.2 -> 0.66 | S35: 是
A36: =ROW()-10 -> 26 | B36: 朝阳 | C36: 凌源市 | D36: 四百线 | E36: 县级 | F36: k16+240 | G36: K18+750 | N36: 176 | R36: =J36*0.4461+K36*0.1485+L36*0.15*0.004+I36*0.0145+M36*0.145+N36*0.015+O36*0.01+P36*0.16+Q36*0.2 -> 2.64 | S36: 是
A37: =ROW()-10 -> 27 | B37: 朝阳 | C37: 凌源市 | D37: 叨柏线 | E37: 乡级 | F37: k8+000 | G37: k9+600 | H37: 1.6 | I37: 1200 | R37: =J37*0.4461+K37*0.1485+L37*0.15*0.004+I37*0.0145+M37*0.145+N37*0.015+O37*0.01+P37*0.16+Q37*0.2 -> 17.4 | S37: 否
A38: =ROW()-10 -> 28 | B38: 朝阳 | C38: 凌源市 | D38: 坤碾线 | E38: 乡级 | F38: k26+600 | G38: k27+000 | H38: 0.4 | I38: 248 | R38: =J38*0.4461+K38*0.1485+L38*0.15*0.004+I38*0.0145+M38*0.145+N38*0.015+O38*0.01+P38*0.16+Q38*0.2 -> 3.596 | S38: 否
A39: =ROW()-10 -> 29 | B39: 朝阳 | C39: 凌源市 | D39: 坤碾线 | E39: 乡级 | F39: k27+300 | G39: k27+600 | H39: 0.3 | I39: 60 | R39: =J39*0.4461+K39*0.1485+L39*0.15*0.004+I39*0.0145+M39*0.145+N39*0.015+O39*0.01+P39*0.16+Q39*0.2 -> 0.87 | S39: 否
A40: =ROW()-10 -> 30 | B40: 朝阳 | C40: 凌源市 | D40: 雹郭线 | E40: 乡级 | F40: k4+600 | G40: k5+000 | H40: 0.4 | I40: 400 | R40: =J40*0.4461+K40*0.1485+L40*0.15*0.004+I40*0.0145+M40*0.145+N40*0.015+O40*0.01+P40*0.16+Q40*0.2 -> 5.8 | S40: 是
A41: =ROW()-10 -> 31 | B41: 朝阳 | C41: 凌源市 | D41: 楼白线 | E41: 乡级 | F41: k4+500 | G41: k4+600 | H41: 0.1 | I41: 80 | R41: =J41*0.4461+K41*0.1485+L41*0.15*0.004+I41*0.0145+M41*0.145+N41*0.015+O41*0.01+P41*0.16+Q41*0.2 -> 1.16 | S41: 否
A42: =ROW()-10 -> 32 | B42: 朝阳 | C42: 凌源市 | D42: 楼白线 | E42: 乡级 | F42: k5+300 | G42: k5+800 | H42: 0.5 | I42: 120 | R42: =J42*0.4461+K42*0.1485+L42*0.15*0.004+I42*0.0145+M42*0.145+N42*0.015+O42*0.01+P42*0.16+Q42*0.2 -> 1.74 | S42: 否
A43: =ROW()-10 -> 33 | B43: 朝阳 | C43: 凌源市 | D43: 楼白线 | E43: 乡级 | F43: k6+000 | G43: k6+200 | H43: 0.2 | I43: 200 | R43: =J43*0.4461+K43*0.1485+L43*0.15*0.004+I43*0.0145+M43*0.145+N43*0.015+O43*0.01+P43*0.16+Q43*0.2 -> 2.9 | S43: 否
A44: =ROW()-10 -> 34 | B44: 朝阳 | C44: 凌源市 | D44: 楼白线 | E44: 乡级 | F44: k6+300 | G44: k6+500 | H44: 0.2 | I44: 200 | R44: =J44*0.4461+K44*0.1485+L44*0.15*0.004+I44*0.0145+M44*0.145+N44*0.015+O44*0.01+P44*0.16+Q44*0.2 -> 2.9 | S44: 否
A45: =ROW()-10 -> 35 | B45: 朝阳 | C45: 凌源市 | D45: 楼白线 | E45: 乡级 | F45: k7+200 | G45: k7+400 | H45: 0.2 | I45: 48 | R45: =J45*0.4461+K45*0.1485+L45*0.15*0.004+I45*0.0145+M45*0.145+N45*0.015+O45*0.01+P45*0.16+Q45*0.2 -> 0.696 | S45: 否
A46: =ROW()-10 -> 36 | B46: 朝阳 | C46: 凌源市 | D46: 平宣线 | E46: 乡级 | F46: k10.500 | G46: k10.900 | H46: 0.4 | I46: 200 | R46: =J46*0.4461+K46*0.1485+L46*0.15*0.004+I46*0.0145+M46*0.145+N46*0.015+O46*0.01+P46*0.16+Q46*0.2 -> 2.9 | S46: 是
A47: =ROW()-10 -> 37 | B47: 朝阳 | C47: 凌源市 | D47: 瓦吴线 | E47: 乡级 | F47: k1+300 | G47: k1+500 | H47: 0.2 | I47: 100 | R47: =J47*0.4461+K47*0.1485+L47*0.15*0.004+I47*0.0145+M47*0.145+N47*0.015+O47*0.01+P47*0.16+Q47*0.2 -> 1.45 | S47: 否
A48: =ROW()-10 -> 38 | B48: 朝阳 | C48: 凌源市 | D48: 牛水线 | E48: 乡级 | F48: k1+600 | G48: k2+000 | H48: 0.4 | I48: 200 | R48: =J48*0.4461+K48*0.1485+L48*0.15*0.004+I48*0.0145+M48*0.145+N48*0.015+O48*0.01+P48*0.16+Q48*0.2 -> 2.9 | S48: 否
... A107: =ROW()-10 -> 97 | B107: 朝阳市 | C107: 建平县 | D107: 金张线 | E107: 县级 | F107: K0+070 | G107: K0+170 | H107: 0.1 | I107: 100 | R107: =J107*0.4461+K107*0.1485+L107*0.15*0.004+I107*0.0145+M107*0.145+N107*0.015+O107*0.01+P107*0.16+Q107*0.2 -> 1.45 | S107: 是
A108: =ROW()-10 -> 98 | B108: 朝阳市 | C108: 建平县 | D108: 金张线 | E108: 县级 | F108: K2+600 | G108: K2+800 | H108: 0.2 | I108: 200 | J108: 2 | M108: 8 | R108: =J108*0.4461+K108*0.1485+L108*0.15*0.004+I108*0.0145+M108*0.145+N108*0.015+O108*0.01+P108*0.16+Q108*0.2 -> 4.9522 | S108: 是
A109: =ROW()-10 -> 99 | B109: 朝阳市 | C109: 建平县 | D109: 金张线 | E109: 县级 | F109: K5+870 | G109: K5+970 | H109: 0.1 | I109: 100 | R109: =J109*0.4461+K109*0.1485+L109*0.15*0.004+I109*0.0145+M109*0.145+N109*0.015+O109*0.01+P109*0.16+Q109*0.2 -> 1.45 | S109: 是
A110: =ROW()-10 -> 100 | B110: 朝阳市 | C110: 建平县 | D110: 金张线 | E110: 县级 | F110: K26+800 | G110: K27+000 | H110: 0.2 | I110: 200 | J110: 2 | M110: 8 | R110: =J110*0.4461+K110*0.1485+L110*0.15*0.004+I110*0.0145+M110*0.145+N110*0.015+O110*0.01+P110*0.16+Q110*0.2 -> 4.9522 | S110: 是
A111: =ROW()-10 -> 101 | B111: 朝阳市 | C111: 建平县 | D111: 金张线 | E111: 县级 | F111: K36+900 | G111: K36+960 | H111: 0.1 | I111: 60 | R111: =J111*0.4461+K111*0.1485+L111*0.15*0.004+I111*0.0145+M111*0.145+N111*0.015+O111*0.01+P111*0.16+Q111*0.2 -> 0.87 | S111: 是
A112: =ROW()-10 -> 102 | B112: 朝阳市 | C112: 建平县 | D112: 金张线 | E112: 县级 | F112: K42+600 | G112: K42+750 | H112: 0.2 | I112: 150 | R112: =J112*0.4461+K112*0.1485+L112*0.15*0.004+I112*0.0145+M112*0.145+N112*0.015+O112*0.01+P112*0.16+Q112*0.2 -> 2.175 | S112: 是
A113: =ROW()-10 -> 103 | B113: 朝阳市 | C113: 建平县 | D113: 金张线 | E113: 县级 | F113: K42+600 | G113: K43+200 | H113: 0.6 | I113: 600 | N113: 10 | O113: 20 | R113: =J113*0.4461+K113*0.1485+L113*0.15*0.004+I113*0.0145+M113*0.145+N113*0.015+O113*0.01+P113*0.16+Q113*0.2 -> 9.05 | S113: 是
A114: =ROW()-10 -> 104 | B114: 朝阳市 | C114: 建平县 | D114: 金张线 | E114: 县级 | F114: K42+900 | G114: K43+200 | H114: 0.3 | I114: 300 | R114: =J114*0.4461+K114*0.1485+L114*0.15*0.004+I114*0.0145+M114*0.145+N114*0.015+O114*0.01+P114*0.16+Q114*0.2 -> 4.35 | S114: 是
A115: =ROW()-10 -> 105 | B115: 朝阳市 | C115: 建平县 | D115: 金张线 | E115: 县级 | F115: K43+700 | G115: K43+870 | H115: 0.2 | I115: 170 | R115: =J115*0.4461+K115*0.1485+L115*0.15*0.004+I115*0.0145+M115*0.145+N115*0.015+O115*0.01+P115*0.16+Q115*0.2 -> 2.465 | S115: 是
A116: =ROW()-10 -> 106 | B116: 朝阳市 | C116: 建平县 | D116: 金张线 | E116: 县级 | F116: K43+700 | G116: K43+900 | H116: 0.2 | I116: 200 | N116: 4 | O116: 8 | R116: =J116*0.4461+K116*0.1485+L116*0.15*0.004+I116*0.0145+M116*0.145+N116*0.015+O116*0.01+P116*0.16+Q116*0.2 -> 3.04 | S116: 是
A117: =ROW()-10 -> 107 | B117: 朝阳市 | C117: 建平县 | D117: 金张线 | E117: 县级 | F117: K43+700 | G117: K43+960 | H117: 0.3 | I117: 260 | R117: =J117*0.4461+K117*0.1485+L117*0.15*0.004+I117*0.0145+M117*0.145+N117*0.015+O117*0.01+P117*0.16+Q117*0.2 -> 3.77 | S117: 是
A118: =ROW()-10 -> 108 | B118: 朝阳市 | C118: 建平县 | D118: 金张线 | E118: 县级 | F118: K43+700 | G118: K44+100 | H118: 0.4 | I118: 400 | N118: 8 | O118: 16 | R118: =J118*0.4461+K118*0.1485+L118*0.15*0.004+I118*0.0145+M118*0.145+N118*0.015+O118*0.01+P118*0.16+Q118*0.2 -> 6.08 | S118: 是
A119: =ROW()-10 -> 109 | B119: 朝阳市 | C119: 建平县 | D119: 朱馒线 | E119: 县级 | F119: K2+000 | G119: K2+032 | H119: 0 | I119: 32 | R119: =J119*0.4461+K119*0.1485+L119*0.15*0.004+I119*0.0145+M119*0.145+N119*0.015+O119*0.01+P119*0.16+Q119*0.2 -> 0.464 | S119: 是
A120: =ROW()-10 -> 110 | B120: 朝阳市 | C120: 建平县 | D120: 朱馒线 | E120: 县级 | F120: K2+000 | G120: K2+400 | H120: 0.4 | I120: 400 | R120: =J120*0.4461+K120*0.1485+L120*0.15*0.004+I120*0.0145+M120*0.145+N120*0.015+O120*0.01+P120*0.16+Q120*0.2 -> 5.8 | S120: 是
A121: =ROW()-10 -> 111 | B121: 朝阳市 | C121: 建平县 | D121: 朱馒线 | E121: 县级 | F121: K2+500 | G121: K2+700 | H121: 0.2 | I121: 200 | R121: =J121*0.4461+K121*0.1485+L121*0.15*0.004+I121*0.0145+M121*0.145+N121*0.015+O121*0.01+P121*0.16+Q121*0.2 -> 2.9 | S121: 是
A122: =ROW()-10 -> 112 | B122: 朝阳市 | C122: 建平县 | D122: 朱馒线 | E122: 县级 | F122: K2+800 | G122: K2+920 | H122: 0.1 | I122: 120 | R122: =J122*0.4461+K122*0.1485+L122*0.15*0.004+I122*0.0145+M122*0.145+N122*0.015+O122*0.01+P122*0.16+Q122*0.2 -> 1.74 | S122: 是
A123: =ROW()-10 -> 113 | B123: 朝阳市 | C123: 建平县 | D123: 朱馒线 | E123: 县级 | F123: K3+080 | G123: K3+200 | H123: 0.1 | I123: 120 | J123: 2 | M123: 8 | P123: 1 | R123: =J123*0.4461+K123*0.1485+L123*0.15*0.004+I123*0.0145+M123*0.145+N123*0.015+O123*0.01+P123*0.16+Q123*0.2 -> 3.9522 | S123: 是
A124: =ROW()-10 -> 114 | B124: 朝阳市 | C124: 建平县 | D124: 朱馒线 | E124: 县级 | F124: K3+300 | G124: K3+400 | H124: 0.1 | I124: 100 | J124: 2 | M124: 4 | R124: =J124*0.4461+K124*0.1485+L124*0.15*0.004+I124*0.0145+M124*0.145+N124*0.015+O124*0.01+P124*0.16+Q124*0.2 -> 2.9222 | S124: 是
A125: =ROW()-10 -> 115 | B125: 朝阳市 | C125: 建平县 | D125: 朱馒线 | E125: 县级 | F125: K4+050 | G125: K4+200 | H125: 0.2 | I125: 150 | R125: =J125*0.4461+K125*0.1485+L125*0.15*0.004+I125*0.0145+M125*0.145+N125*0.015+O125*0.01+P125*0.16+Q125*0.2 -> 2.175 | S125: 是
A126: =ROW()-10 -> 116 | B126: 朝阳市 | C126: 建平县 | D126: 朱馒线 | E126: 县级 | F126: K4+100 | G126: K4+350 | H126: 0.3 | I126: 250 | R126: =J126*0.4461+K126*0.1485+L126*0.15*0.004+I126*0.0145+M126*0.145+N126*0.015+O126*0.01+P126*0.16+Q126*0.2 -> 3.625 | S126: 是
A127: =ROW()-10 -> 117 | B127: 朝阳市 | C127: 建平县 | D127: 朱馒线 | E127: 县级 | F127: K4+400 | G127: K4+950 | H127: 0.6 | I127: 550 | R127: =J127*0.4461+K127*0.1485+L127*0.15*0.004+I127*0.0145+M127*0.145+N127*0.015+O127*0.01+P127*0.16+Q127*0.2 -> 7.975 | S127: 是
A128: =ROW()-10 -> 118 | B128: 朝阳市 | C128: 建平县 | D128: 朱馒线 | E128: 县级 | F128: K7+940 | G128: K7+960 | H128: 0 | I128: 20 | R128: =J128*0.4461+K128*0.1485+L128*0.15*0.004+I128*0.0145+M128*0.145+N128*0.015+O128*0.01+P128*0.16+Q128*0.2 -> 0.29 | S128: 是
A129: =ROW()-10 -> 119 | B129: 朝阳市 | C129: 建平县 | D129: 朱馒线 | E129: 县级 | F129: K8+450 | G129: K8+600 | H129: 0.2 | I129: 150 | R129: =J129*0.4461+K129*0.1485+L129*0.15*0.004+I129*0.0145+M129*0.145+N129*0.015+O129*0.01+P129*0.16+Q129*0.2 -> 2.175 | S129: 是
A130: =ROW()-10 -> 120 | B130: 朝阳市 | C130: 建平县 | D130: 朱馒线 | E130: 县级 | F130: K12+630 | G130: K12+750 | H130: 0.1 | I130: 120 | R130: =J130*0.4461+K130*0.1485+L130*0.15*0.004+I130*0.0145+M130*0.145+N130*0.015+O130*0.01+P130*0.16+Q130*0.2 -> 1.74 | S130: 是
A131: =ROW()-10 -> 121 | B131: 朝阳市 | C131: 建平县 | D131: 朱馒线 | E131: 县级 | F131: K13+000 | G131: K13+100 | H131: 0.1 | I131: 100 | R131: =J131*0.4461+K131*0.1485+L131*0.15*0.004+I131*0.0145+M131*0.145+N131*0.015+O131*0.01+P131*0.16+Q131*0.2 -> 1.45 | S131: 是
A132: =ROW()-10 -> 122 | B132: 朝阳市 | C132: 喀左县 | D132: 甘杨线 | E132: 村级 | F132: K1+100 | G132: K0+300 | H132: 0.2 | I132: 200 | R132: =J132*0.4461+K132*0.1485+L132*0.15*0.004+I132*0.0145+M132*0.145+N132*0.015+O132*0.01+P132*0.16+Q132*0.2 -> 2.9 | S132: 否
A133: =ROW()-10 -> 123 | B133: 朝阳市 | C133: 喀左县 | D133: 小二线 | E133: 村级 | F133: K0+100 | G133: K0+300 | H133: 0.2 | I133: 200 | R133: =J133*0.4461+K133*0.1485+L133*0.15*0.004+I133*0.0145+M133*0.145+N133*0.015+O133*0.01+P133*0.16+Q133*0.2 -> 2.9 | S133: 否
A134: =ROW()-10 -> 124 | B134: 朝阳市 | C134: 喀左县 | D134: 建土线 | E134: 乡级 | F134: K59+800 | G134: K63+200 | H134: 3 | I134: 3000 | R134: =J134*0.4461+K134*0.1485+L134*0.15*0.004+I134*0.0145+M134*0.145+N134*0.015+O134*0.01+P134*0.16+Q134*0.2 -> 43.5 | S134: 是
A135: =ROW()-10 -> 125 | B135: 朝阳市 | C135: 喀左县 | D135: 孤解线 | E135: 村级 | F135: K0+900 | G135: K1+000 | H135: 0.1 | I135: 100 | R135: =J135*0.4461+K135*0.1485+L135*0.15*0.004+I135*0.0145+M135*0.145+N135*0.015+O135*0.01+P135*0.16+Q135*0.2 -> 1.45 | S135: 否
A136: =ROW()-10 -> 126 | B136: 朝阳市 | C136: 喀左县 | D136: 辘拦线 | E136: 村级 | F136: K4+200 | G136: K4+300 | H136: 0.1 | I136: 100 | R136: =J136*0.4461+K136*0.1485+L136*0.15*0.004+I136*0.0145+M136*0.145+N136*0.015+O136*0.01+P136*0.16+Q136*0.2 -> 1.45 | S136: 否
... A139: =ROW()-10 -> 129 | B139: 朝阳市 | C139: 喀左县 | D139: 老大线 | E139: 乡级 | F139: K23+400 | G139: K23+450 | H139: 0.1 | I139: 50 | R139: =J139*0.4461+K139*0.1485+L139*0.15*0.004+I139*0.0145+M139*0.145+N139*0.015+O139*0.01+P139*0.16+Q139*0.2 -> 0.725 | S139: 是
A140: =ROW()-10 -> 130 | B140: 朝阳市 | C140: 喀左县 | D140: 户棚线 | E140: 村级 | F140: K0+500 | G140: K0+540 | H140: 0.9 | I140: 70 | J140: 1 | K140: 2 | R140: =J140*0.4461+K140*0.1485+L140*0.15*0.004+I140*0.0145+M140*0.145+N140*0.015+O140*0.01+P140*0.16+Q140*0.2 -> 1.7581 | S140: 否
A141: =ROW()-10 -> 131 | B141: 朝阳市 | C141: 喀左县 | D141: 老户线 | E141: 村级 | F141: K1+600 | G141: K1+610 | H141: 1.7 | I141: 8 | J141: 1 | K141: 2 | R141: =J141*0.4461+K141*0.1485+L141*0.15*0.004+I141*0.0145+M141*0.145+N141*0.015+O141*0.01+P141*0.16+Q141*0.2 -> 0.8591 | S141: 否
A142: =ROW()-10 -> 132 | B142: 朝阳市 | C142: 喀左县 | D142: 老河线 | E142: 村级 | F142: K1+500 | G142: K1+515 | H142: 2.6 | I142: 15 | R142: =J142*0.4461+K142*0.1485+L142*0.15*0.004+I142*0.0145+M142*0.145+N142*0.015+O142*0.01+P142*0.16+Q142*0.2 -> 0.2175 | S142: 否
A143: =ROW()-10 -> 133 | B143: 朝阳市 | C143: 喀左县 | D143: 北石线 | E143: 村级 | F143: K0+300 | G143: K0+320 | H143: 1.6 | I143: 40 | R143: =J143*0.4461+K143*0.1485+L143*0.15*0.004+I143*0.0145+M143*0.145+N143*0.015+O143*0.01+P143*0.16+Q143*0.2 -> 0.58 | S143: 否
A144: =ROW()-10 -> 134 | B144: 朝阳市 | C144: 喀左县 | D144: 卢于线 | E144: 乡级 | F144: K0.100 | G144: K0+1300 | H144: 1.2 | I144: 1200 | R144: =J144*0.4461+K144*0.1485+L144*0.15*0.004+I144*0.0145+M144*0.145+N144*0.015+O144*0.01+P144*0.16+Q144*0.2 -> 17.4 | S144: 否
A145: =ROW()-10 -> 135 | B145: 朝阳市 | C145: 喀左县 | D145: 卢喇线 | E145: 乡级 | F145: K0+1500 | G145: K0+700 | H145: 0.7 | I145: 700 | R145: =J145*0.4461+K145*0.1485+L145*0.15*0.004+I145*0.0145+M145*0.145+N145*0.015+O145*0.01+P145*0.16+Q145*0.2 -> 10.15 | S145: 否
A146: =ROW()-10 -> 136 | B146: 朝阳市 | C146: 喀左县 | D146: 吉魏线 | E146: 乡级 | F146: K0+478 | G146: K15+588 | H146: 15.1 | I146: 300 | R146: =J146*0.4461+K146*0.1485+L146*0.15*0.004+I146*0.0145+M146*0.145+N146*0.015+O146*0.01+P146*0.16+Q146*0.2 -> 4.35 | S146: 否
A147: =ROW()-10 -> 137 | B147: 朝阳市 | C147: 喀左县 | D147: 于肖线 | E147: 村级 | F147: K0+000 | G147: K1+000 | H147: 1 | I147: 180 | O147: 4 | R147: =J147*0.4461+K147*0.1485+L147*0.15*0.004+I147*0.0145+M147*0.145+N147*0.015+O147*0.01+P147*0.16+Q147*0.2 -> 2.65 | S147: 否
A148: =ROW()-10 -> 138 | B148: 朝阳市 | C148: 喀左县 | D148: 肖河线 | E148: 村级 | F148: K0+600 | G148: K1+400 | H148: 1.4 | I148: 110 | O148: 2 | R148: =J148*0.4461+K148*0.1485+L148*0.15*0.004+I148*0.0145+M148*0.145+N148*0.015+O148*0.01+P148*0.16+Q148*0.2 -> 1.615 | S148: 否
A149: =ROW()-10 -> 139 | B149: 朝阳市 | C149: 喀左县 | D149: 农榆线 | E149: 村级 | F149: K0+000 | G149: K1+900 | H149: 1.9 | I149: 130 | O149: 2 | R149: =J149*0.4461+K149*0.1485+L149*0.15*0.004+I149*0.0145+M149*0.145+N149*0.015+O149*0.01+P149*0.16+Q149*0.2 -> 1.905 | S149: 否
A150: =ROW()-10 -> 140 | B150: 朝阳市 | C150: 喀左县 | D150: 农浩线 | E150: 村级 | F150: K0+000 | G150: K0+800 | H150: 0.8 | I150: 240 | O150: 2 | R150: =J150*0.4461+K150*0.1485+L150*0.15*0.004+I150*0.0145+M150*0.145+N150*0.015+O150*0.01+P150*0.16+Q150*0.2 -> 3.5 | S150: 否
A151: =ROW()-10 -> 141 | B151: 朝阳市 | C151: 喀左县 | D151: 大九线 | E151: 乡级 | F151: K18+000 | G151: K18+180 | H151: 0.2 | I151: 180 | R151: =J151*0.4461+K151*0.1485+L151*0.15*0.004+I151*0.0145+M151*0.145+N151*0.015+O151*0.01+P151*0.16+Q151*0.2 -> 2.61 | S151: 否
A152: =ROW()-10 -> 142 | B152: 朝阳市 | C152: 双塔区 | D152: 波王线 | E152: 村级 | F152: K0+000 | G152: K1+200 | H152: 1.2 | I152: 300 | R152: =J152*0.4461+K152*0.1485+L152*0.15*0.004+I152*0.0145+M152*0.145+N152*0.015+O152*0.01+P152*0.16+Q152*0.2 -> 4.35 | S152: 是
A153: =ROW()-10 -> 143 | B153: 朝阳市 | C153: 双塔区 | D153: 窑养线 | E153: 村级 | F153: K0+000 | G153: K1+159 | H153: 1.2 | I153: 80 | R153: =J153*0.4461+K153*0.1485+L153*0.15*0.004+I153*0.0145+M153*0.145+N153*0.015+O153*0.01+P153*0.16+Q153*0.2 -> 1.16 | S153: 是
A154: =ROW()-10 -> 144 | B154: 朝阳市 | C154: 双塔区 | D154: 王光线 | E154: 村级 | F154: K0+000 | G154: K0+863 | H154: 0.9 | I154: 200 | R154: =J154*0.4461+K154*0.1485+L154*0.15*0.004+I154*0.0145+M154*0.145+N154*0.015+O154*0.01+P154*0.16+Q154*0.2 -> 2.9 | S154: 是
A155: =ROW()-10 -> 145 | B155: 朝阳市 | C155: 双塔区 | D155: 王三线 | E155: 村级 | F155: K0+000 | G155: K0+482 | H155: 0.5 | I155: 120 | R155: =J155*0.4461+K155*0.1485+L155*0.15*0.004+I155*0.0145+M155*0.145+N155*0.015+O155*0.01+P155*0.16+Q155*0.2 -> 1.74 | S155: 是
A156: =ROW()-10 -> 146 | B156: 朝阳市 | C156: 龙城区 | D156: 下水线 | E156: 乡级 | F156: K10+100 | G156: K10+900 | H156: 0.8 | I156: 672 | R156: =J156*0.4461+K156*0.1485+L156*0.15*0.004+I156*0.0145+M156*0.145+N156*0.015+O156*0.01+P156*0.16+Q156*0.2 -> 9.744 | S156: 是
A157: =ROW()-10 -> 147 | B157: 朝阳市 | C157: 龙城区 | D157: 京后线 | E157: 乡级 | F157: K0+550 | G157: 0+750 | H157: 0.2 | I157: 200 | R157: =J157*0.4461+K157*0.1485+L157*0.15*0.004+I157*0.0145+M157*0.145+N157*0.015+O157*0.01+P157*0.16+Q157*0.2 -> 2.9 | S157: 是
A158: =ROW()-10 -> 148 | B158: 朝阳市 | C158: 龙城区 | D158: 西卧线 | E158: 乡级 | F158: K2+000 | G158: K4+000 | H158: 2 | I158: 400 | R158: =J158*0.4461+K158*0.1485+L158*0.15*0.004+I158*0.0145+M158*0.145+N158*0.015+O158*0.01+P158*0.16+Q158*0.2 -> 5.8 | S158: 是
A159: =ROW()-10 -> 149 | B159: 朝阳市 | C159: 龙城区 | D159: 京后线 | E159: 乡级 | F159: K0+550 | G159: K0+750 | H159: 0.2 | I159: 200 | R159: =J159*0.4461+K159*0.1485+L159*0.15*0.004+I159*0.0145+M159*0.145+N159*0.015+O159*0.01+P159*0.16+Q159*0.2 -> 2.9 | S159: 是
A160: =ROW()-10 -> 150 | B160: 朝阳市 | C160: 龙城区 | D160: 边召线 | E160: 乡级 | F160: K0+890 | G160: K0+946 | H160: 0.1 | I160: 56 | R160: =J160*0.4461+K160*0.1485+L160*0.15*0.004+I160*0.0145+M160*0.145+N160*0.015+O160*0.01+P160*0.16+Q160*0.2 -> 0.812 | S160: 是
...

Sheet 本溪2020
A1: 辽宁省2019年村级公路安防工程预安排计划
A2: 序号 | B2: 市 | C2: 县 | D2: 公路编号 | E2: 路线 名称 | F2: 起点 桩号 | G2: 终点 桩号 | H2: 里程 （公里） | I2: 处置工程数量 | R2: 投资 估算 （万元）
I3: 钢护栏长度（米） | J3: 标志数量 | L3: 标线 长度（米） | M3: 警示诱导设施 | Q3: 减速丘（个）
J4: 悬臂式（个） | K4: 单柱式（个） | M4: 线形诱导标（个） | N4: 道口 标柱（个） | O4: 示警桩（个） | P4: 凸面反光镜（个） | R4: 燃油税 | S4: 车购税
H5: =SUM(H6:H111) -> 143.3 | I5: =SUM(I6:I111) -> 36733 | J5: =SUM(J6:J111) -> 0 | K5: =SUM(K6:K111) -> 331 | L5: =SUM(L6:L111) -> 0 | M5: =SUM(M6:M111) -> 21 | N5: =SUM(N6:N111) -> 146 | O5: =SUM(O6:O111) -> 6 | ... R5: =SUM(R6:R111) -> 589.1
A6: 1 | B6: 本溪市 | C6: 本溪县 | D6: C53C210521 | E6: 本敬线 | F6: K0+000 | G6: K1+000 | H6: 1 | I6: 240 | K6: 2 | R6: 3.8
A7: 2 | B7: 本溪市 | C7: 本溪县 | D7: C5T1210521 | E7: 河北线 | F7: K0+200 | G7: K0+400 | H7: 0.2 | I7: 72 | R7: 1
A8: 3 | B8: 本溪市 | C8: 本溪县 | D8: C5A4210521 | E8: 长边线 | F8: K0+000 | G8: K2+000 | H8: 2 | I8: 1080 | K8: 4 | R8: 16.3
A9: 4 | B9: 本溪市 | C9: 本溪县 | D9: C5A5210521 | E9: 红大线 | F9: K0+000 | G9: K1+300 | H9: 1.3 | I9: 68 | K9: 3 | R9: 1.4
A10: 5 | B10: 本溪市 | C10: 本溪县 | D10: C5A6210521 | E10: 东洋线 | F10: K0+000 | G10: K1+300 | H10: 1.3 | I10: 160 | K10: 5 | R10: 3.1
A11: 6 | B11: 本溪市 | C11: 本溪县 | D11: C5A7210521 | E11: 荒边线 | F11: K0+000 | G11: K1+400 | H11: 1.4 | I11: 770 | K11: 3 | P11: 1 | R11: 11.8
A12: 7 | B12: 本溪市 | C12: 本溪县 | D12: C5A8210521 | E12: 荒汪线 | F12: K0+000 | G12: K1+200 | H12: 1.2 | I12: 820 | K12: 7 | R12: 12.9
A13: 8 | B13: 本溪市 | C13: 本溪县 | D13: C5X7210521 | E13: 河西线 | F13: K0+000 | G13: K1+300 | H13: 1.3 | I13: 710 | K13: 2 | R13: 10.6
A14: 9 | B14: 本溪市 | C14: 本溪县 | D14: C597210521 | E14: 兰于线 | F14: K0+000 | G14: K1+100 | H14: 1.1 | I14: 560 | K14: 4 | Q14: 2 | R14: 9.1
A15: 10 | B15: 本溪市 | C15: 本溪县 | D15: C598210521 | E15: 汤城线 | F15: K23+400 | G15: K26+300 | H15: 2.9 | I15: 300 | K15: 6 | P15: 1 | R15: 5.4
A16: 11 | B16: 本溪市 | C16: 本溪县 | D16: C5V8210521 | E16: 柳铁线 | F16: K0+000 | G16: K0+900 | H16: 0.9 | I16: 44 | K16: 4 | R16: 1.2
A17: 12 | B17: 本溪市 | C17: 本溪县 | D17: C52Z210521 | E17: 西碱线 | F17: K0+000 | G17: K0+600 | H17: 0.6 | I17: 136 | K17: 4 | R17: 2.6
A18: 13 | B18: 本溪市 | C18: 本溪县 | D18: C5C2210521 | E18: 王排线 | F18: K0+000 | G18: K1+700 | H18: 1.4 | I18: 100 | K18: 4 | R18: 2
A19: 14 | B19: 本溪市 | C19: 本溪县 | D19: C5S9210521 | E19: 铁西线 | F19: K0+000 | G19: K1+300 | H19: 1.3 | I19: 144 | K19: 4 | R19: 2.7
A20: 15 | B20: 本溪市 | C20: 本溪县 | D20: C5B4210521 | E20: 民金线 | F20: K0+000 | G20: K1+000 | H20: 1 | I20: 160 | K20: 3 | R20: 2.8
A21: 16 | B21: 本溪市 | C21: 本溪县 | D21: C516210521 | E21: 田西线 | F21: K0+000 | G21: K1+500 | H21: 1.5 | I21: 1280 | K21: 2 | R21: 18.9
A22: 17 | B22: 本溪市 | C22: 本溪县 | D22: C52L210521 | E22: 盘杨线 | F22: K0+000 | G22: K1+200 | H22: 1.2 | I22: 156 | K22: 3 | R22: 2.7
A23: 18 | B23: 本溪市 | C23: 本溪县 | D23: C518210521 | E23: 田本线 | F23: K0+000 | G23: K2+700 | H23: 2.7 | I23: 496 | K23: 7 | N23: 4 | P23: 1 | R23: 8.5
A24: 19 | B24: 本溪市 | C24: 本溪县 | D24: C5C3210521 | E24: 魏孙线 | F24: K0+000 | G24: K1+500 | H24: 1.5 | I24: 340 | K24: 4 | N24: 4 | R24: 5.6
A25: 20 | B25: 本溪市 | C25: 本溪县 | D25: C5C7210521 | E25: 太荒线 | F25: K0+000 | G25: K2+900 | H25: 2.9 | I25: 792 | K25: 15 | M25: 15 | N25: 2 | P25: 1 | R25: 16.1
A26: 21 | B26: 本溪市 | C26: 本溪县 | D26: C5V1210521 | E26: 大冰线 | F26: K0+000 | G26: K2+600 | H26: 2.6 | I26: 404 | K26: 6 | N26: 4 | R26: 6.8
A27: 22 | B27: 本溪市 | C27: 本溪县 | D27: C5B8210521 | E27: 北蛤线 | F27: K0+000 | G27: K2+200 | H27: 2.2 | I27: 644 | K27: 5 | N27: 4 | R27: 10.1
A28: 23 | B28: 本溪市 | C28: 本溪县 | D28: C5C6210521 | E28: 张茅线 | F28: K0+000 | G28: K2+200 | H28: 2.2 | I28: 304 | K28: 5 | R28: 5.2
A29: 24 | B29: 本溪市 | C29: 本溪县 | D29: C5T2210521 | E29: 本沟线 | F29: K0+000 | G29: K1+000 | H29: 1 | I29: 120 | K29: 6 | N29: 2 | P29: 1 | R29: 2.8
A30: 25 | B30: 本溪市 | C30: 本溪县 | D30: C5T5210521 | E30: 石茅线 | F30: K0+000 | G30: K1+100 | H30: 1.1 | I30: 428 | K30: 5 | P30: 1 | R30: 7.1
A31: 26 | B31: 本溪市 | C31: 本溪县 | D31: C5R5210521 | E31: 后围线 | F31: K0+000 | G31: K0+700 | H31: 0.7 | I31: 84 | K31: 2 | N31: 2 | R31: 1.5
A32: 27 | B32: 本溪市 | C32: 本溪县 | D32: C517210521 | E32: 后崴线 | F32: K0+000 | G32: K1+800 | H32: 1.8 | I32: 80 | K32: 4 | N32: 4 | R32: 1.8
A33: 28 | B33: 本溪市 | C33: 本溪县 | D33: C5M910521 | E33: 松养线 | F33: K0+000 | G33: K0+400 | H33: 0.4 | I33: 48 | K33: 3 | R33: 1.1
A34: 29 | B34: 本溪市 | C34: 本溪县 | D34: C5C9210521 | E34: 安老线 | F34: K0+000 | G34: K1+200 | H34: 1.2 | I34: 372 | K34: 2 | N34: 4 | R34: 5.8
A35: 30 | B35: 本溪市 | C35: 本溪县 | D35: C5D2210521 | E35: 花花线 | F35: K0+000 | G35: K2+900 | H35: 2.9 | I35: 400 | K35: 5 | N35: 8 | R35: 6.7
A36: 31 | B36: 本溪市 | C36: 本溪县 | D36: C5D5210521 | E36: 磙蒿线 | F36: K0+000 | G36: K1+000 | H36: 1 | I36: 100 | K36: 3 | N36: 4 | R36: 2
A37: 32 | B37: 本溪市 | C37: 本溪县 | D37: C52Y210521 | E37: 三碾线 | F37: K0+000 | G37: K1+000 | H37: 1 | I37: 92 | K37: 3 | N37: 4 | R37: 1.8
A38: 33 | B38: 本溪市 | C38: 本溪县 | D38: C5D4210521 | E38: 田于线 | F38: K0+000 | G38: K2+900 | H38: 2.9 | I38: 604 | K38: 6 | N38: 4 | R38: 9.7
A39: 34 | B39: 本溪市 | C39: 本溪县 | D39: C5D4210521 | E39: 田于线 | F39: K2+900 | G39: K3+200 | H39: 0.3 | I39: 100 | K39: 2 | R39: 1.7
A40: 35 | B40: 本溪市 | C40: 本溪县 | D40: C5D7210521 | E40: 红李线 | F40: K0+000 | G40: K1+000 | H40: 1 | I40: 760 | K40: 3 | N40: 4 | R40: 11.5
A41: 36 | B41: 本溪市 | C41: 本溪县 | D41: C5D8210521 | E41: 安大线 | F41: K0+000 | G41: K1+500 | H41: 1.5 | I41: 160 | K41: 3 | N41: 4 | R41: 2.8
A42: 37 | B42: 本溪市 | C42: 本溪县 | D42: C5E4210521 | E42: 红西线 | F42: K0+000 | G42: K1+400 | H42: 1.4 | I42: 112 | K42: 2 | R42: 1.9
A43: 38 | B43: 本溪市 | C43: 本溪县 | D43: C5E6210521 | E43: 小张线 | F43: K0+000 | G43: K1+000 | H43: 1 | I43: 180 | K43: 5 | N43: 4 | R43: 3.4
A44: 39 | B44: 本溪市 | C44: 本溪县 | D44: C5E9210521 | E44: 肖祁线 | F44: K0+000 | G44: K1+100 | H44: 1.1 | I44: 80 | K44: 5 | R44: 1.9
A45: 40 | B45: 本溪市 | C45: 本溪县 | D45: C5Q7210521 | E45: 金西沟线 | F45: K0+000 | G45: K1+700 | H45: 1.7 | I45: 48 | K45: 6 | R45: 1.6
A46: 41 | B46: 本溪市 | C46: 本溪县 | D46: C5F2210521 | E46: 泥头线 | F46: K2+000 | G46: K3+000 | H46: 1 | I46: 120 | K46: 4 | R46: 2.3
A47: 42 | B47: 本溪市 | C47: 本溪县 | D47: C53A210521 | E47: 红杨线 | F47: K0+000 | G47: K2+600 | H47: 2.6 | I47: 460 | K47: 8 | R47: 7.9
A48: 43 | B48: 本溪市 | C48: 本溪县 | D48: C53F210521 | E48: 大背线 | F48: K0+000 | G48: K1+000 | H48: 1 | I48: 60 | K48: 2 | N48: 4 | R48: 1.2
A49: 44 | B49: 本溪市 | C49: 本溪县 | D49: C5X5210521 | E49: 富家崴子线 | F49: K0+000 | G49: K1+000 | H49: 1 | I49: 48 | K49: 4 | N49: 2 | R49: 1.3
A50: 45 | B50: 本溪市 | C50: 本溪县 | D50: C5F1210521 | E50: 三木线 | F50: K0+000 | G50: K2+800 | H50: 2.8 | I50: 524 | K50: 3 | N50: 4 | R50: 8.1
A51: 46 | B51: 本溪市 | C51: 本溪县 | D51: C565210521 | E51: 马龙线 | F51: K0+000 | G51: K2+600 | H51: 2.6 | I51: 300 | K51: 5 | N51: 4 | R51: 5.2
A52: 47 | B52: 本溪市 | C52: 本溪县 | D52: C579210521 | E52: 孟太线 | F52: K1+000 | G52: K2+000 | H52: 1 | I52: 220 | K52: 1 | R52: 3.3
A53: 48 | B53: 本溪市 | C53: 本溪县 | D53: C5L5210521 | E53: 粮窑线 | F53: K0+000 | G53: K1+000 | H53: 1 | I53: 680 | K53: 2 | N53: 2 | R53: 10.2
A54: 49 | B54: 本溪市 | C54: 本溪县 | D54: C52X210521 | E54: 南北线 | F54: K0+000 | G54: K1+200 | H54: 1.2 | I54: 420 | K54: 4 | R54: 6.7
A55: 50 | B55: 本溪市 | C55: 本溪县 | D55: C582210521 | E55: 三四线 | F55: K0+000 | G55: K0+400 | H55: 0.4 | I55: 132 | K55: 4 | R55: 2.5
A56: 51 | B56: 本溪市 | C56: 本溪县 | D56: C586210521 | E56: 碱小线 | F56: K0+000 | G56: K1+500 | H56: 1.5 | I56: 492 | K56: 5 | R56: 7.9
A57: 52 | B57: 本溪市 | C57: 本溪县 | D57: C595210521 | E57: 本谢线 | F57: K0+000 | G57: K1+400 | H57: 1.4 | I57: 200 | K57: 4 | R57: 3.5
A58: 53 | B58: 本溪市 | C58: 本溪县 | D58: C5G4210521 | E58: 马三线 | F58: K1+800 | G58: K3+600 | H58: 1.8 | I58: 220 | K58: 9 | R58: 4.5
A59: 54 | B59: 本溪市 | C59: 本溪县 | D59: C5I5210521 | E59: 磨罗线 | F59: K0+000 | G59: K2+900 | H59: 2.9 | I59: 300 | K59: 6 | N59: 4 | R59: 5.3
A60: 55 | B60: 本溪市 | C60: 本溪县 | D60: C5L8210521 | E60: 本河线 | F60: K0+000 | G60: K0+200 | H60: 0.2 | I60: 60 | K60: 2 | R60: 1.2
A61: 56 | B61: 本溪市 | C61: 本溪县 | D61: C5X2210521 | E61: 七八线 | F61: K0+000 | G61: K2+100 | H61: 2.1 | I61: 380 | K61: 7 | R61: 6.5
A62: 57 | B62: 本溪市 | C62: 本溪县 | D62: C52W210521 | E62: 小太线 | F62: K0+000 | G62: K2+800 | H62: 2.8 | I62: 340 | K62: 10 | N62: 2 | R62: 6.4
A63: 58 | B63: 本溪市 | C63: 本溪县 | D63: C5W5210521 | E63: 八盘岭线 | F63: K0+000 | G63: K0+300 | H63: 0.3 | I63: 60 | K63: 2 | R63: 1.2
A64: 59 | B64: 本溪市 | C64: 本溪县 | D64: C52W210521 | E64: 谭大线 | F64: K0+000 | G64: K1+100 | H64: 1.1 | I64: 140 | K64: 5 | N64: 4 | R64: 2.8
A65: 60 | B65: 本溪市 | C65: 本溪县 | D65: C53B210521 | E65: 北二线 | F65: K0+000 | G65: K1+000 | H65: 1 | I65: 200 | K65: 3 | N65: 4 | R65: 3.4
A66: 61 | B66: 本溪市 | C66: 本溪县 | D66: C5I1210521 | E66: 瓦红线 | F66: K1+200 | G66: K2+600 | H66: 1.4 | I66: 180 | K66: 2 | R66: 2.9
A67: 62 | B67: 本溪市 | C67: 本溪县 | D67: C5N6210521 | E67: 小五线 | F67: K0+000 | G67: K1+700 | H67: 1.7 | I67: 340 | K67: 3 | R67: 5.4
A68: 63 | B68: 本溪市 | C68: 本溪县 | D68: C5P5210521 | E68: 姜堡线 | F68: K0+000 | G68: K1+300 | H68: 1.3 | I68: 120 | K68: 6 | N68: 4 | R68: 2.7
A69: 64 | B69: 本溪市 | C69: 本溪县 | D69: C5I8210521 | E69: 岭悬线 | F69: K0+600 | G69: K3+500 | H69: 2.9 | I69: 1540 | K69: 10 | R69: 23.8
A70: 65 | B70: 本溪市 | C70: 本溪县 | D70: C5H6210521 | E70: 西草线 | F70: K0+000 | G70: K2+000 | H70: 2 | I70: 120 | K70: 5 | N70: 2 | R70: 2.5
A71: 66 | B71: 本溪市 | C71: 本溪县 | D71: C52J210521 | E71: 五于线 | F71: K0+000 | G71: K2+000 | H71: 2 | I71: 260 | K71: 6 | M71: 6 | N71: 2 | R71: 5.6
A72: 67 | B72: 本溪市 | C72: 本溪县 | D72: C5J5210521 | E72: 刘黄线 | F72: K1+400 | G72: K1+500 | H72: 0.1 | I72: 52 | R72: 0.8
A73: 68 | B73: 本溪市 | C73: 本溪县 | D73: C5J9210521 | E73: 磨于线 | F73: K2+000 | G73: K3+000 | H73: 1 | I73: 432 | K73: 1 | R73: 6.4
A74: 69 | B74: 本溪市 | C74: 本溪县 | D74: C5S7210521 | E74: 黄岭线 | F74: K0+700 | G74: K0+800 | H74: 0.1 | I74: 80 | R74: 1.2
A75: 70 | B75: 本溪市 | C75: 本溪县 | D75: C5U9210521 | E75: 庙后沟线 | F75: K0+000 | G75: K0+100 | H75: 0.1 | I75: 32 | K75: 2 | R75: 0.8
A76: 71 | B76: 本溪市 | C76: 本溪县 | D76: C5U7210521 | E76: 关马地线 | F76: K1+200 | G76: K1+700 | H76: 0.5 | I76: 440 | R76: 6.4
A77: 72 | B77: 本溪市 | C77: 南芬区 | D77: C53J210505 | E77: 程亮线 | F77: K0+000 | G77: K1+600 | H77: 1.6 | K77: 1 | N77: 2 | R77: 0.2
A78: 73 | B78: 本溪市 | C78: 南芬区 | D78: C5VK210505 | E78: 马六线 | F78: K0+000 | G78: K1+300 | H78: 1.3 | I78: 300 | K78: 1 | N78: 2 | R78: 4.5
A79: 74 | B79: 本溪市 | C79: 南芬区 | D79: C5VL210505 | E79: 沈三线 | F79: K0+000 | G79: K0+600 | H79: 0.6 | I79: 300 | K79: 1 | N79: 2 | R79: 4.5
A80: 75 | B80: 本溪市 | C80: 南芬区 | D80: C51Q210505 | E80: 沈南线 | F80: K0+000 | G80: K3+000 | H80: 3 | I80: 150 | K80: 1 | N80: 2 | R80: 2.4
A81: 76 | B81: 本溪市 | C81: 南芬区 | D81: C5YT210505 | E81: 杨铁线 | F81: K0+000 | G81: K2+800 | H81: 2.8 | I81: 400 | K81: 1 | N81: 2 | R81: 6
A82: 77 | B82: 本溪市 | C82: 南芬区 | D82: C5VC210505 | E82: 爱下线 | F82: K0+000 | G82: K2+000 | H82: 2 | I82: 900 | P82: 2 | R82: 13.4
A83: 78 | B83: 本溪市 | C83: 南芬区 | D83: C5VM210505 | E83: 施滚线 | F83: K0+000 | G83: K1+500 | H83: 1.5 | I83: 120 | K83: 1 | N83: 2 | R83: 1.9
A84: 79 | B84: 本溪市 | C84: 南芬区 | D84: C5VO210505 | E84: 太北线 | F84: K0+000 | G84: K1+000 | H84: 1 | K84: 1 | N84: 2 | R84: 0.2
A85: 80 | B85: 本溪市 | C85: 南芬区 | D85: C5ZH210505 | E85: 财仙线 | F85: K0+000 | G85: K1+100 | H85: 1.1 | I85: 600 | K85: 2 | N85: 2 | R85: 9
A86: 81 | B86: 本溪市 | C86: 南芬区 | D86: C54B210501 | E86: 甬怀线 | F86: K0+000 | G86: K1+600 | H86: 0.6 | I86: 50 | K86: 1 | N86: 2 | R86: 0.9
A87: 82 | B87: 本溪市 | C87: 南芬区 | D87: C5ZA210505 | E87: 解小线 | F87: K0+000 | G87: K1+700 | H87: 1.7 | I87: 500 | K87: 3 | O87: 3 | R87: 7.7
A88: 83 | B88: 本溪市 | C88: 南芬区 | D88: C5ZE210505 | E88: 郭滴线 | F88: K0+000 | G88: K1+200 | H88: 1.2 | I88: 400 | K88: 3 | O88: 3 | R88: 6.3
A89: 84 | B89: 本溪市 | C89: 溪湖区 | D89: C52T210503 | E89: 三南线 | F89: K0+000 | G89: K0+600 | H89: 0.6 | I89: 70 | K89: 1 | N89: 2 | R89: 1.2
A90: 85 | B90: 本溪市 | C90: 溪湖区 | D90: C5XJ210503 | E90: 南胡线 | F90: K0+000 | G90: K3+000 | H90: 3 | I90: 660 | K90: 2 | N90: 6 | P90: 1 | R90: 10.1
A91: 86 | B91: 本溪市 | C91: 溪湖区 | D91: C5XI210503 | E91: 南西线 | F91: K0+000 | G91: K2+800 | H91: 2.8 | I91: 680 | K91: 1 | N91: 6 | R91: 10.1
A92: 87 | B92: 本溪市 | C92: 溪湖区 | D92: C53A210503 | E92: 新大线 | F92: K0+000 | G92: K2+000 | H92: 2 | I92: 900 | N92: 4 | R92: 13.1
A93: 88 | B93: 本溪市 | C93: 溪湖区 | D93: C5XK210503 | E93: 彩营线 | F93: K0+300 | G93: K0+400 | H93: 0.1 | I93: 100 | K93: 1 | N93: 2 | R93: 1.6
A94: 89 | B94: 本溪市 | C94: 平山区 | D94: C54B210502 | E94: 尚六线 | F94: K0+000 | G94: K0+700 | H94: 0.7 | I94: 360 | K94: 2 | R94: 5.5
A95: 90 | B95: 本溪市 | C95: 平山区 | D95: C57A210502 | E95: 桥石线 | F95: K0+800 | G95: K1+000 | H95: 0.2 | I95: 150 | R95: 2.2
A96: 91 | B96: 本溪市 | C96: 平山区 | D96: C57B210502 | E96: 尚乔线 | F96: K0+300 | G96: K0+400 | H96: 0.1 | I96: 100 | R96: 1.5
A97: 92 | B97: 本溪市 | C97: 平山区 | D97: C58A210502 | E97: 台宋线 | F97: K0+000 | G97: K0+800 | H97: 0.8 | I97: 300 | K97: 2 | N97: 2 | R97: 4.7
A98: 93 | B98: 本溪市 | C98: 平山区 | D98: C58B210502 | E98: 河西线 | F98: K0+000 | G98: K0+700 | H98: 0.7 | I98: 700 | R98: 10.2
A99: 94 | B99: 本溪市 | C99: 平山区 | D99: C59B210502 | E99: 桥小线 | F99: K0+700 | G99: K2+200 | H99: 1.5 | I99: 200 | R99: 2.9
A100: 95 | B100: 本溪市 | C100: 平山区 | D100: C5A6210502 | E100: 台二线 | F100: K0+000 | G100: K0+500 | H100: 0.5 | I100: 500 | K100: 1 | N100: 2 | R100: 7.4
...

Sheet 丹东2019
A1: 辽宁省2019年村级公路安防工程预安排计划
A2: 序号 | B2: 市 | C2: 县 | D2: 公路编号 | E2: 路线 名称 | F2: 起点 桩号 | G2: 终点 桩号 | H2: 里程 （公里） | I2: 处置工程数量 | R2: 投资 估算 （万元）
I3: 钢护栏长度（米） | J3: 标志数量 | L3: 标线 长度（米） | M3: 警示诱导设施 | Q3: 减速丘（个）
J4: 悬臂式（个） | K4: 单柱式（个） | M4: 线形诱导标（个） | N4: 道口 标柱（个） | O4: 示警桩（个） | P4: 凸面反光镜（个）
B5: 丹东市 | D5: 合计 | H5: =SUM(H6:H229) -> 154.2 | I5: =SUM(I6:I229) -> 67606 | J5: =SUM(J6:J229) -> 0 | K5: =SUM(K6:K229) -> 487 | L5: =SUM(L6:L229) -> 0 | M5: =SUM(M6:M229) -> 29 | N5: =SUM(N6:N229) -> 66 | O5: =SUM(O6:O229) -> 32 | ... R5: =SUM(R6:R229) -> 1060.1215
A6: 1 | B6: 丹东市 | C6: 东港市 | D6: CQA7210681 | E6: 小孵线 | F6: K0+800 | G6: K0+900 | H6: 0.1 | K6: 2 | R6: =J6*0.4461+K6*0.1485+L6*0.15*0.004+I6*0.0145+M6*0.145+N6*0.015+O6*0.01+P6*0.16+Q6*0.2 -> 0.297
A7: 2 | B7: 丹东市 | C7: 东港市 | D7: CQA5210681 | E7: 范庙线 | F7: K0+000 | G7: K2+400 | H7: 2.4 | K7: 12 | R7: =J7*0.4461+K7*0.1485+L7*0.15*0.004+I7*0.0145+M7*0.145+N7*0.015+O7*0.01+P7*0.16+Q7*0.2 -> 1.782
A8: 3 | B8: 丹东市 | C8: 东港市 | D8: CQC8210681 | E8: 范由线 | F8: K0+000 | G8: K1+100 | H8: 1.1 | I8: 32 | K8: 6 | R8: =J8*0.4461+K8*0.1485+L8*0.15*0.004+I8*0.0145+M8*0.145+N8*0.015+O8*0.01+P8*0.16+Q8*0.2 -> 1.355
A9: 4 | B9: 丹东市 | C9: 东港市 | D9: CQC8210681 | E9: 范由线 | F9: K2+000 | G9: K2+300 | H9: 0.3 | K9: 4 | R9: =J9*0.4461+K9*0.1485+L9*0.15*0.004+I9*0.0145+M9*0.145+N9*0.015+O9*0.01+P9*0.16+Q9*0.2 -> 0.594
A10: 5 | B10: 丹东市 | C10: 东港市 | D10: CQC8210681 | E10: 范由线 | F10: K3+000 | G10: K3+100 | H10: 0.1 | I10: 48 | K10: 1 | R10: =J10*0.4461+K10*0.1485+L10*0.15*0.004+I10*0.0145+M10*0.145+N10*0.015+O10*0.01+P10*0.16+Q10*0.2 -> 0.8445
A11: 6 | B11: 丹东市 | C11: 东港市 | D11: C6R3210681 | E11: 楼小线 | F11: K0+000 | G11: K0+100 | H11: 0.1 | K11: 1 | R11: =J11*0.4461+K11*0.1485+L11*0.15*0.004+I11*0.0145+M11*0.145+N11*0.015+O11*0.01+P11*0.16+Q11*0.2 -> 0.1485
A12: 7 | B12: 丹东市 | C12: 东港市 | D12: C6R3210681 | E12: 楼小线 | F12: K0+600 | G12: K0+700 | H12: 0.1 | K12: 2 | R12: =J12*0.4461+K12*0.1485+L12*0.15*0.004+I12*0.0145+M12*0.145+N12*0.015+O12*0.01+P12*0.16+Q12*0.2 -> 0.297
A13: 8 | B13: 丹东市 | C13: 东港市 | D13: C6R3210681 | E13: 楼小线 | F13: K1+200 | G13: K1+300 | H13: 0.1 | K13: 3 | R13: =J13*0.4461+K13*0.1485+L13*0.15*0.004+I13*0.0145+M13*0.145+N13*0.015+O13*0.01+P13*0.16+Q13*0.2 -> 0.4455
A14: 9 | B14: 丹东市 | C14: 东港市 | D14: C6R3210681 | E14: 楼小线 | F14: K2+500 | G14: K2+700 | H14: 0.2 | I14: 152 | K14: 3 | R14: =J14*0.4461+K14*0.1485+L14*0.15*0.004+I14*0.0145+M14*0.145+N14*0.015+O14*0.01+P14*0.16+Q14*0.2 -> 2.6495
A15: 10 | B15: 丹东市 | C15: 东港市 | D15: C6R3210681 | E15: 楼小线 | F15: K2+900 | G15: K4+400 | H15: 1.5 | K15: 7 | R15: =J15*0.4461+K15*0.1485+L15*0.15*0.004+I15*0.0145+M15*0.145+N15*0.015+O15*0.01+P15*0.16+Q15*0.2 -> 1.0395
A16: 11 | B16: 丹东市 | C16: 东港市 | D16: C6R3210681 | E16: 楼小线 | F16: K4+600 | G16: K4+700 | H16: 0.1 | K16: 3 | R16: =J16*0.4461+K16*0.1485+L16*0.15*0.004+I16*0.0145+M16*0.145+N16*0.015+O16*0.01+P16*0.16+Q16*0.2 -> 0.4455
A17: 12 | B17: 丹东市 | C17: 东港市 | D17: CQAK210681 | E17: 楼盖线 | F17: K0+000 | G17: K0+500 | H17: 0.5 | I17: 140 | K17: 3 | R17: =J17*0.4461+K17*0.1485+L17*0.15*0.004+I17*0.0145+M17*0.145+N17*0.015+O17*0.01+P17*0.16+Q17*0.2 -> 2.4755
A18: 13 | B18: 丹东市 | C18: 东港市 | D18: CQAK210681 | E18: 楼盖线 | F18: K0+800 | G18: K1+000 | H18: 0.2 | K18: 3 | R18: =J18*0.4461+K18*0.1485+L18*0.15*0.004+I18*0.0145+M18*0.145+N18*0.015+O18*0.01+P18*0.16+Q18*0.2 -> 0.4455
A19: 14 | B19: 丹东市 | C19: 东港市 | D19: CQAZ210681 | E19: 小医线 | F19: K0+000 | G19: K0+300 | H19: 0.3 | I19: 280 | K19: 2 | R19: =J19*0.4461+K19*0.1485+L19*0.15*0.004+I19*0.0145+M19*0.145+N19*0.015+O19*0.01+P19*0.16+Q19*0.2 -> 4.357
A20: 15 | B20: 丹东市 | C20: 东港市 | D20: CQAZ210681 | E20: 小医线 | F20: K0+700 | G20: K1+000 | H20: 0.3 | K20: 4 | R20: =J20*0.4461+K20*0.1485+L20*0.15*0.004+I20*0.0145+M20*0.145+N20*0.015+O20*0.01+P20*0.16+Q20*0.2 -> 0.594
A21: 16 | B21: 丹东市 | C21: 东港市 | D21: C6R6210681 | E21: 三李线 | F21: K0+000 | G21: K0+500 | H21: 0.5 | I21: 500 | K21: 4 | N21: 2 | R21: =J21*0.4461+K21*0.1485+L21*0.15*0.004+I21*0.0145+M21*0.145+N21*0.015+O21*0.01+P21*0.16+Q21*0.2 -> 7.874
A22: 17 | B22: 丹东市 | C22: 东港市 | D22: C6R6210681 | E22: 三李线 | F22: K0+500 | G22: K3+500 | H22: 3 | I22: 1700 | K22: 6 | R22: =J22*0.4461+K22*0.1485+L22*0.15*0.004+I22*0.0145+M22*0.145+N22*0.015+O22*0.01+P22*0.16+Q22*0.2 -> 25.541
A23: 18 | B23: 丹东市 | C23: 东港市 | D23: C6E3210681 | E23: 东常线 | F23: K0+000 | G23: K0+100 | H23: 0.1 | K23: 1 | R23: =J23*0.4461+K23*0.1485+L23*0.15*0.004+I23*0.0145+M23*0.145+N23*0.015+O23*0.01+P23*0.16+Q23*0.2 -> 0.1485
A24: 19 | B24: 丹东市 | C24: 东港市 | D24: C6E3210681 | E24: 东常线 | F24: K1+600 | G24: K1+700 | H24: 0.1 | K24: 3 | N24: 2 | R24: =J24*0.4461+K24*0.1485+L24*0.15*0.004+I24*0.0145+M24*0.145+N24*0.015+O24*0.01+P24*0.16+Q24*0.2 -> 0.4755
A25: 20 | B25: 丹东市 | C25: 东港市 | D25: C6E3210681 | E25: 东常线 | F25: K2+300 | G25: K2+400 | H25: 0.1 | K25: 2 | R25: =J25*0.4461+K25*0.1485+L25*0.15*0.004+I25*0.0145+M25*0.145+N25*0.015+O25*0.01+P25*0.16+Q25*0.2 -> 0.297
A26: 21 | B26: 丹东市 | C26: 东港市 | D26: C6EZ210681 | E26: 万楼线 | F26: K0+000 | G26: K1+400 | H26: 1.4 | K26: 6 | R26: =J26*0.4461+K26*0.1485+L26*0.15*0.004+I26*0.0145+M26*0.145+N26*0.015+O26*0.01+P26*0.16+Q26*0.2 -> 0.891
A27: 22 | B27: 丹东市 | C27: 东港市 | D27: C6EY210681 | E27: 孙通线 | F27: K1+800 | G27: K1+900 | H27: 0.1 | K27: 1 | R27: =J27*0.4461+K27*0.1485+L27*0.15*0.004+I27*0.0145+M27*0.145+N27*0.015+O27*0.01+P27*0.16+Q27*0.2 -> 0.1485
A28: 23 | B28: 丹东市 | C28: 东港市 | D28: C6KV210681 | E28: 张小线 | F28: K0+000 | G28: K0+500 | H28: 0.5 | I28: 100 | K28: 3 | R28: =J28*0.4461+K28*0.1485+L28*0.15*0.004+I28*0.0145+M28*0.145+N28*0.015+O28*0.01+P28*0.16+Q28*0.2 -> 1.8955
A29: 24 | B29: 丹东市 | C29: 东港市 | D29: C6KV210681 | E29: 张小线 | F29: K0+800 | G29: K1+100 | H29: 0.3 | I29: 132 | K29: 1 | R29: =J29*0.4461+K29*0.1485+L29*0.15*0.004+I29*0.0145+M29*0.145+N29*0.015+O29*0.01+P29*0.16+Q29*0.2 -> 2.0625
A30: 25 | B30: 丹东市 | C30: 东港市 | D30: C6KS210681 | E30: 吕大线 | F30: K0+000 | G30: K0+800 | H30: 0.8 | K30: 5 | R30: =J30*0.4461+K30*0.1485+L30*0.15*0.004+I30*0.0145+M30*0.145+N30*0.015+O30*0.01+P30*0.16+Q30*0.2 -> 0.7425
A31: 26 | B31: 丹东市 | C31: 东港市 | D31: C6KS210681 | E31: 吕大线 | F31: K1+300 | G31: K1+900 | H31: 0.6 | I31: 340 | K31: 4 | R31: =J31*0.4461+K31*0.1485+L31*0.15*0.004+I31*0.0145+M31*0.145+N31*0.015+O31*0.01+P31*0.16+Q31*0.2 -> 5.524
A32: 27 | B32: 丹东市 | C32: 东港市 | D32: C6O1210681 | E32: 庙西线 | F32: K0+300 | G32: K0+400 | H32: 0.1 | I32: 68 | R32: =J32*0.4461+K32*0.1485+L32*0.15*0.004+I32*0.0145+M32*0.145+N32*0.015+O32*0.01+P32*0.16+Q32*0.2 -> 0.986
A33: 28 | B33: 丹东市 | C33: 东港市 | D33: C6O1210681 | E33: 庙西线 | F33: K0+700 | G33: K1+100 | H33: 0.4 | K33: 2 | R33: =J33*0.4461+K33*0.1485+L33*0.15*0.004+I33*0.0145+M33*0.145+N33*0.015+O33*0.01+P33*0.16+Q33*0.2 -> 0.297
A34: 29 | B34: 丹东市 | C34: 东港市 | D34: C6O1210681 | E34: 庙西线 | F34: K1+700 | G34: K1+800 | H34: 0.1 | K34: 3 | N34: 2 | R34: =J34*0.4461+K34*0.1485+L34*0.15*0.004+I34*0.0145+M34*0.145+N34*0.015+O34*0.01+P34*0.16+Q34*0.2 -> 0.4755
A35: 30 | B35: 丹东市 | C35: 东港市 | D35: C6O1210681 | E35: 庙西线 | F35: K2+200 | G35: K2+300 | H35: 0.1 | K35: 2 | R35: =J35*0.4461+K35*0.1485+L35*0.15*0.004+I35*0.0145+M35*0.145+N35*0.015+O35*0.01+P35*0.16+Q35*0.2 -> 0.297
A36: 31 | B36: 丹东市 | C36: 东港市 | D36: C6O1210681 | E36: 庙西线 | F36: K3+200 | G36: K3+400 | H36: 0.2 | K36: 2 | R36: =J36*0.4461+K36*0.1485+L36*0.15*0.004+I36*0.0145+M36*0.145+N36*0.015+O36*0.01+P36*0.16+Q36*0.2 -> 0.297
A37: 32 | B37: 丹东市 | C37: 东港市 | D37: C6O1210681 | E37: 庙西线 | F37: K4+000 | G37: K4+500 | H37: 0.5 | K37: 2 | R37: =J37*0.4461+K37*0.1485+L37*0.15*0.004+I37*0.0145+M37*0.145+N37*0.015+O37*0.01+P37*0.16+Q37*0.2 -> 0.297
A38: 33 | B38: 丹东市 | C38: 东港市 | D38: C6O1210681 | E38: 庙西线 | F38: K4+700 | G38: K4+800 | H38: 0.1 | K38: 2 | R38: =J38*0.4461+K38*0.1485+L38*0.15*0.004+I38*0.0145+M38*0.145+N38*0.015+O38*0.01+P38*0.16+Q38*0.2 -> 0.297
A39: 34 | B39: 丹东市 | C39: 东港市 | D39: C6M8210681 | E39: 小董线 | F39: K0+000 | G39: K0+700 | H39: 0.7 | I39: 450 | R39: =J39*0.4461+K39*0.1485+L39*0.15*0.004+I39*0.0145+M39*0.145+N39*0.015+O39*0.01+P39*0.16+Q39*0.2 -> 6.525
A40: 35 | B40: 丹东市 | C40: 东港市 | D40: C6M8210681 | E40: 小董线 | F40: K1+000 | G40: K1+300 | H40: 0.3 | I40: 216 | R40: =J40*0.4461+K40*0.1485+L40*0.15*0.004+I40*0.0145+M40*0.145+N40*0.015+O40*0.01+P40*0.16+Q40*0.2 -> 3.132
A41: 36 | B41: 丹东市 | C41: 东港市 | D41: C6M8210681 | E41: 小董线 | F41: K2+100 | G41: K2+200 | H41: 0.1 | K41: 2 | R41: =J41*0.4461+K41*0.1485+L41*0.15*0.004+I41*0.0145+M41*0.145+N41*0.015+O41*0.01+P41*0.16+Q41*0.2 -> 0.297
A42: 37 | B42: 丹东市 | C42: 东港市 | D42: C6M8210681 | E42: 小董线 | F42: K2+300 | G42: K3+000 | H42: 0.7 | K42: 2 | R42: =J42*0.4461+K42*0.1485+L42*0.15*0.004+I42*0.0145+M42*0.145+N42*0.015+O42*0.01+P42*0.16+Q42*0.2 -> 0.297
A43: 38 | B43: 丹东市 | C43: 东港市 | D43: C6M8210681 | E43: 小董线 | F43: K3+000 | G43: K4+000 | H43: 1 | I43: 108 | K43: 2 | R43: =J43*0.4461+K43*0.1485+L43*0.15*0.004+I43*0.0145+M43*0.145+N43*0.015+O43*0.01+P43*0.16+Q43*0.2 -> 1.863
A44: 39 | B44: 丹东市 | C44: 东港市 | D44: C6M8210681 | E44: 小董线 | F44: K4+300 | G44: K4+600 | H44: 0.3 | K44: 5 | N44: 2 | R44: =J44*0.4461+K44*0.1485+L44*0.15*0.004+I44*0.0145+M44*0.145+N44*0.015+O44*0.01+P44*0.16+Q44*0.2 -> 0.7725
A45: 40 | B45: 丹东市 | C45: 东港市 | D45: C6M8210681 | E45: 小董线 | F45: K5+000 | G45: K5+500 | H45: 0.5 | K45: 5 | N45: 2 | R45: =J45*0.4461+K45*0.1485+L45*0.15*0.004+I45*0.0145+M45*0.145+N45*0.015+O45*0.01+P45*0.16+Q45*0.2 -> 0.7725
A46: 41 | B46: 丹东市 | C46: 东港市 | D46: C6M8210681 | E46: 小董线 | F46: K5+800 | G46: K6+400 | H46: 0.6 | K46: 3 | R46: =J46*0.4461+K46*0.1485+L46*0.15*0.004+I46*0.0145+M46*0.145+N46*0.015+O46*0.01+P46*0.16+Q46*0.2 -> 0.4455
A47: 42 | B47: 丹东市 | C47: 东港市 | D47: C6M8210681 | E47: 小董线 | F47: K7+500 | G47: K7+800 | H47: 0.3 | I47: 164 | R47: =J47*0.4461+K47*0.1485+L47*0.15*0.004+I47*0.0145+M47*0.145+N47*0.015+O47*0.01+P47*0.16+Q47*0.2 -> 2.378
A48: 43 | B48: 丹东市 | C48: 东港市 | D48: C6NF210681 | E48: 山杨线 | F48: K0+200 | G48: K0+800 | H48: 0.6 | K48: 4 | R48: =J48*0.4461+K48*0.1485+L48*0.15*0.004+I48*0.0145+M48*0.145+N48*0.015+O48*0.01+P48*0.16+Q48*0.2 -> 0.594
A49: 44 | B49: 丹东市 | C49: 东港市 | D49: C6HJ210681 | E49: 高季线 | F49: K0+000 | G49: K0+200 | H49: 0.2 | I49: 100 | K49: 1 | R49: =J49*0.4461+K49*0.1485+L49*0.15*0.004+I49*0.0145+M49*0.145+N49*0.015+O49*0.01+P49*0.16+Q49*0.2 -> 1.5985
A50: 45 | B50: 丹东市 | C50: 东港市 | D50: C6HJ210681 | E50: 高季线 | F50: K0+500 | G50: K1+600 | H50: 1.1 | I50: 408 | K50: 3 | R50: =J50*0.4461+K50*0.1485+L50*0.15*0.004+I50*0.0145+M50*0.145+N50*0.015+O50*0.01+P50*0.16+Q50*0.2 -> 6.3615
A51: 46 | B51: 丹东市 | C51: 东港市 | D51: C6HJ210681 | E51: 高季线 | F51: K2+000 | G51: K2+600 | H51: 0.6 | K51: 4 | R51: =J51*0.4461+K51*0.1485+L51*0.15*0.004+I51*0.0145+M51*0.145+N51*0.015+O51*0.01+P51*0.16+Q51*0.2 -> 0.594
A52: 47 | B52: 丹东市 | C52: 东港市 | D52: C6HJ210681 | E52: 高季线 | F52: K3+300 | G52: K3+400 | H52: 0.1 | K52: 1 | R52: =J52*0.4461+K52*0.1485+L52*0.15*0.004+I52*0.0145+M52*0.145+N52*0.015+O52*0.01+P52*0.16+Q52*0.2 -> 0.1485
A53: 48 | B53: 丹东市 | C53: 东港市 | D53: C6O6210681 | E53: 高张线 | F53: K0+000 | G53: K1+900 | H53: 1.9 | I53: 164 | K53: 9 | R53: =J53*0.4461+K53*0.1485+L53*0.15*0.004+I53*0.0145+M53*0.145+N53*0.015+O53*0.01+P53*0.16+Q53*0.2 -> 3.7145
A54: 49 | B54: 丹东市 | C54: 东港市 | D54: C6C9210681 | E54: 马学线 | F54: K0+000 | G54: K1+100 | H54: 1.1 | K54: 6 | P54: 1 | R54: =J54*0.4461+K54*0.1485+L54*0.15*0.004+I54*0.0145+M54*0.145+N54*0.015+O54*0.01+P54*0.16+Q54*0.2 -> 1.051
A55: 50 | B55: 丹东市 | C55: 东港市 | D55: CQBE210681 | E55: 宋黑线 | F55: K0+000 | G55: K0+100 | H55: 0.1 | K55: 1 | R55: =J55*0.4461+K55*0.1485+L55*0.15*0.004+I55*0.0145+M55*0.145+N55*0.015+O55*0.01+P55*0.16+Q55*0.2 -> 0.1485
A56: 51 | B56: 丹东市 | C56: 东港市 | D56: CQBE210681 | E56: 宋黑线 | F56: K0+500 | G56: K1+000 | H56: 0.5 | I56: 70 | K56: 2 | R56: =J56*0.4461+K56*0.1485+L56*0.15*0.004+I56*0.0145+M56*0.145+N56*0.015+O56*0.01+P56*0.16+Q56*0.2 -> 1.312
A57: 52 | B57: 丹东市 | C57: 东港市 | D57: C6C6210681 | E57: 安石线 | F57: K1+200 | G57: K2+200 | H57: 1 | K57: 9 | N57: 2 | R57: =J57*0.4461+K57*0.1485+L57*0.15*0.004+I57*0.0145+M57*0.145+N57*0.015+O57*0.01+P57*0.16+Q57*0.2 -> 1.3665
A58: 53 | B58: 丹东市 | C58: 东港市 | D58: C6C6210681 | E58: 安石线 | F58: K2+500 | G58: K3+500 | H58: 1 | K58: 10 | N58: 4 | R58: =J58*0.4461+K58*0.1485+L58*0.15*0.004+I58*0.0145+M58*0.145+N58*0.015+O58*0.01+P58*0.16+Q58*0.2 -> 1.545
A59: 54 | B59: 丹东市 | C59: 东港市 | D59: C6C6210681 | E59: 安石线 | F59: K4+300 | G59: K5+500 | H59: 1.2 | K59: 3 | R59: =J59*0.4461+K59*0.1485+L59*0.15*0.004+I59*0.0145+M59*0.145+N59*0.015+O59*0.01+P59*0.16+Q59*0.2 -> 0.4455
A60: 55 | B60: 丹东市 | C60: 东港市 | D60: C6B8210681 | E60: 土包线 | F60: K0+300 | G60: K1+800 | H60: 1.5 | K60: 9 | R60: =J60*0.4461+K60*0.1485+L60*0.15*0.004+I60*0.0145+M60*0.145+N60*0.015+O60*0.01+P60*0.16+Q60*0.2 -> 1.3365
A61: 56 | B61: 丹东市 | C61: 东港市 | D61: C6B8210681 | E61: 土包线 | F61: K2+200 | G61: K2+300 | H61: 0.1 | N61: 2 | R61: =J61*0.4461+K61*0.1485+L61*0.15*0.004+I61*0.0145+M61*0.145+N61*0.015+O61*0.01+P61*0.16+Q61*0.2 -> 0.03
A62: 57 | B62: 丹东市 | C62: 东港市 | D62: C6B8210681 | E62: 土包线 | F62: K3+000 | G62: K3+100 | H62: 0.1 | K62: 3 | R62: =J62*0.4461+K62*0.1485+L62*0.15*0.004+I62*0.0145+M62*0.145+N62*0.015+O62*0.01+P62*0.16+Q62*0.2 -> 0.4455
A63: 58 | B63: 丹东市 | C63: 东港市 | D63: C6B8210681 | E63: 土包线 | F63: K3+600 | G63: K3+700 | H63: 0.1 | K63: 2 | R63: =J63*0.4461+K63*0.1485+L63*0.15*0.004+I63*0.0145+M63*0.145+N63*0.015+O63*0.01+P63*0.16+Q63*0.2 -> 0.297
A64: 59 | B64: 丹东市 | C64: 东港市 | D64: C6G4210681 | E64: 荒石线 | F64: K0+400 | G64: K0+500 | H64: 0.1 | K64: 3 | R64: =J64*0.4461+K64*0.1485+L64*0.15*0.004+I64*0.0145+M64*0.145+N64*0.015+O64*0.01+P64*0.16+Q64*0.2 -> 0.4455
A65: 60 | B65: 丹东市 | C65: 东港市 | D65: C6G4210681 | E65: 荒石线 | F65: K1+500 | G65: K1+600 | H65: 0.1 | K65: 3 | R65: =J65*0.4461+K65*0.1485+L65*0.15*0.004+I65*0.0145+M65*0.145+N65*0.015+O65*0.01+P65*0.16+Q65*0.2 -> 0.4455
A66: 61 | B66: 丹东市 | C66: 东港市 | D66: C6G4210681 | E66: 荒石线 | F66: K1+900 | G66: K3+300 | H66: 1.4 | I66: 252 | K66: 11 | R66: =J66*0.4461+K66*0.1485+L66*0.15*0.004+I66*0.0145+M66*0.145+N66*0.015+O66*0.01+P66*0.16+Q66*0.2 -> 5.2875
A67: 62 | B67: 丹东市 | C67: 东港市 | D67: C6G4210681 | E67: 荒石线 | F67: K3+400 | G67: K3+700 | H67: 0.3 | I67: 100 | K67: 3 | R67: =J67*0.4461+K67*0.1485+L67*0.15*0.004+I67*0.0145+M67*0.145+N67*0.015+O67*0.01+P67*0.16+Q67*0.2 -> 1.8955
A68: 63 | B68: 丹东市 | C68: 东港市 | D68: C6F6210681 | E68: 罗棋线 | F68: K0+000 | G68: K0+100 | H68: 0.1 | K68: 1 | R68: =J68*0.4461+K68*0.1485+L68*0.15*0.004+I68*0.0145+M68*0.145+N68*0.015+O68*0.01+P68*0.16+Q68*0.2 -> 0.1485
A69: 64 | B69: 丹东市 | C69: 东港市 | D69: C6F6210681 | E69: 罗棋线 | F69: K0+600 | G69: K1+500 | H69: 0.9 | K69: 2 | N69: 2 | R69: =J69*0.4461+K69*0.1485+L69*0.15*0.004+I69*0.0145+M69*0.145+N69*0.015+O69*0.01+P69*0.16+Q69*0.2 -> 0.327
A70: 65 | B70: 丹东市 | C70: 东港市 | D70: C6S7210681 | E70: 南上线 | F70: K0+300 | G70: K0+400 | H70: 0.1 | K70: 3 | R70: =J70*0.4461+K70*0.1485+L70*0.15*0.004+I70*0.0145+M70*0.145+N70*0.015+O70*0.01+P70*0.16+Q70*0.2 -> 0.4455
A71: 66 | B71: 丹东市 | C71: 东港市 | D71: C6S7210681 | E71: 南上线 | F71: K1+200 | G71: K2+000 | H71: 0.8 | K71: 2 | R71: =J71*0.4461+K71*0.1485+L71*0.15*0.004+I71*0.0145+M71*0.145+N71*0.015+O71*0.01+P71*0.16+Q71*0.2 -> 0.297
A72: 67 | B72: 丹东市 | C72: 东港市 | D72: C6S7210681 | E72: 南上线 | F72: K2+500 | G72: K2+600 | H72: 0.1 | K72: 2 | R72: =J72*0.4461+K72*0.1485+L72*0.15*0.004+I72*0.0145+M72*0.145+N72*0.015+O72*0.01+P72*0.16+Q72*0.2 -> 0.297
A73: 68 | B73: 丹东市 | C73: 东港市 | D73: C6S7210681 | E73: 南上线 | F73: K3+800 | G73: K4+400 | H73: 0.6 | K73: 8 | N73: 2 | R73: =J73*0.4461+K73*0.1485+L73*0.15*0.004+I73*0.0145+M73*0.145+N73*0.015+O73*0.01+P73*0.16+Q73*0.2 -> 1.218
A74: 69 | B74: 丹东市 | C74: 东港市 | D74: C6S7210681 | E74: 南上线 | F74: K4+900 | G74: K5+000 | H74: 0.1 | K74: 1 | R74: =J74*0.4461+K74*0.1485+L74*0.15*0.004+I74*0.0145+M74*0.145+N74*0.015+O74*0.01+P74*0.16+Q74*0.2 -> 0.1485
A75: 70 | B75: 丹东市 | C75: 东港市 | D75: CQE4210681 | E75: 东付线 | F75: K0+000 | G75: K0+200 | H75: 0.2 | K75: 3 | R75: =J75*0.4461+K75*0.1485+L75*0.15*0.004+I75*0.0145+M75*0.145+N75*0.015+O75*0.01+P75*0.16+Q75*0.2 -> 0.4455
A76: 71 | B76: 丹东市 | C76: 东港市 | D76: CQE4210681 | E76: 东付线 | F76: K0+500 | G76: K0+600 | H76: 0.1 | K76: 2 | R76: =J76*0.4461+K76*0.1485+L76*0.15*0.004+I76*0.0145+M76*0.145+N76*0.015+O76*0.01+P76*0.16+Q76*0.2 -> 0.297
A77: 72 | B77: 丹东市 | C77: 东港市 | D77: CQE4210681 | E77: 东付线 | F77: K1+300 | G77: K1+400 | H77: 0.1 | K77: 1 | R77: =J77*0.4461+K77*0.1485+L77*0.15*0.004+I77*0.0145+M77*0.145+N77*0.015+O77*0.01+P77*0.16+Q77*0.2 -> 0.1485
A78: 73 | B78: 丹东市 | C78: 东港市 | D78: C6S4210681 | E78: 通栾线 | F78: K0+000 | G78: K0+700 | H78: 0.7 | I78: 80 | K78: 6 | R78: =J78*0.4461+K78*0.1485+L78*0.15*0.004+I78*0.0145+M78*0.145+N78*0.015+O78*0.01+P78*0.16+Q78*0.2 -> 2.051
A79: 74 | B79: 丹东市 | C79: 东港市 | D79: C6S4210681 | E79: 通栾线 | F79: K1+000 | G79: K1+400 | H79: 0.4 | I79: 344 | K79: 1 | R79: =J79*0.4461+K79*0.1485+L79*0.15*0.004+I79*0.0145+M79*0.145+N79*0.015+O79*0.01+P79*0.16+Q79*0.2 -> 5.1365
A80: 75 | B80: 丹东市 | C80: 东港市 | D80: CQE7210681 | E80: 仓栾线 | F80: K0+000 | G80: K0+200 | H80: 0.2 | I80: 180 | R80: =J80*0.4461+K80*0.1485+L80*0.15*0.004+I80*0.0145+M80*0.145+N80*0.015+O80*0.01+P80*0.16+Q80*0.2 -> 2.61
A81: 76 | B81: 丹东市 | C81: 东港市 | D81: CQE7210681 | E81: 仓栾线 | F81: K0+800 | G81: K1+400 | H81: 0.6 | I81: 200 | K81: 5 | R81: =J81*0.4461+K81*0.1485+L81*0.15*0.004+I81*0.0145+M81*0.145+N81*0.015+O81*0.01+P81*0.16+Q81*0.2 -> 3.6425
A82: 77 | B82: 丹东市 | C82: 东港市 | D82: C6E0210681 | E82: 陈砬线 | F82: K0+700 | G82: K1+800 | H82: 1.1 | I82: 304 | K82: 4 | R82: =J82*0.4461+K82*0.1485+L82*0.15*0.004+I82*0.0145+M82*0.145+N82*0.015+O82*0.01+P82*0.16+Q82*0.2 -> 5.002
A83: 78 | B83: 丹东市 | C83: 东港市 | D83: C6E0210681 | E83: 陈砬线 | F83: K2+200 | G83: K2+400 | H83: 0.2 | K83: 4 | R83: =J83*0.4461+K83*0.1485+L83*0.15*0.004+I83*0.0145+M83*0.145+N83*0.015+O83*0.01+P83*0.16+Q83*0.2 -> 0.594
A84: 79 | B84: 丹东市 | C84: 东港市 | D84: C6E0210681 | E84: 陈砬线 | F84: K3+100 | G84: K4+100 | H84: 1 | K84: 5 | R84: =J84*0.4461+K84*0.1485+L84*0.15*0.004+I84*0.0145+M84*0.145+N84*0.015+O84*0.01+P84*0.16+Q84*0.2 -> 0.7425
A85: 80 | B85: 丹东市 | C85: 东港市 | D85: C6N0210681 | E85: 岗油线 | F85: K0+000 | G85: K0+100 | H85: 0.1 | K85: 1 | R85: =J85*0.4461+K85*0.1485+L85*0.15*0.004+I85*0.0145+M85*0.145+N85*0.015+O85*0.01+P85*0.16+Q85*0.2 -> 0.1485
A86: 81 | B86: 丹东市 | C86: 东港市 | D86: C6N0210681 | E86: 岗油线 | F86: K1+500 | G86: K2+000 | H86: 0.5 | K86: 3 | R86: =J86*0.4461+K86*0.1485+L86*0.15*0.004+I86*0.0145+M86*0.145+N86*0.015+O86*0.01+P86*0.16+Q86*0.2 -> 0.4455
A87: 82 | B87: 丹东市 | C87: 东港市 | D87: C6A4210681 | E87: 小房线 | F87: K0+000 | G87: K0+500 | H87: 0.5 | I87: 332 | K87: 6 | R87: =J87*0.4461+K87*0.1485+L87*0.15*0.004+I87*0.0145+M87*0.145+N87*0.015+O87*0.01+P87*0.16+Q87*0.2 -> 5.705
A88: 83 | B88: 丹东市 | C88: 东港市 | D88: C6M7210681 | E88: 干徐线 | F88: K0+000 | G88: K0+100 | H88: 0.1 | K88: 1 | R88: =J88*0.4461+K88*0.1485+L88*0.15*0.004+I88*0.0145+M88*0.145+N88*0.015+O88*0.01+P88*0.16+Q88*0.2 -> 0.1485
A89: 84 | B89: 丹东市 | C89: 东港市 | D89: C6M7210681 | E89: 干徐线 | F89: K0+500 | G89: K1+100 | H89: 0.6 | I89: 144 | K89: 2 | R89: =J89*0.4461+K89*0.1485+L89*0.15*0.004+I89*0.0145+M89*0.145+N89*0.015+O89*0.01+P89*0.16+Q89*0.2 -> 2.385
A90: 85 | B90: 丹东市 | C90: 东港市 | D90: C6M7210681 | E90: 干徐线 | F90: K1+400 | G90: K1+500 | H90: 0.1 | K90: 1 | R90: =J90*0.4461+K90*0.1485+L90*0.15*0.004+I90*0.0145+M90*0.145+N90*0.015+O90*0.01+P90*0.16+Q90*0.2 -> 0.1485
A91: 86 | B91: 丹东市 | C91: 东港市 | D91: C6M6210681 | E91: 老小线 | F91: K0+000 | G91: K0+800 | H91: 0.8 | K91: 6 | R91: =J91*0.4461+K91*0.1485+L91*0.15*0.004+I91*0.0145+M91*0.145+N91*0.015+O91*0.01+P91*0.16+Q91*0.2 -> 0.891
A92: 87 | B92: 丹东市 | C92: 东港市 | D92: C6MF210681 | E92: 丛衣线 | F92: K0+000 | G92: K0+800 | H92: 0.8 | K92: 2 | R92: =J92*0.4461+K92*0.1485+L92*0.15*0.004+I92*0.0145+M92*0.145+N92*0.015+O92*0.01+P92*0.16+Q92*0.2 -> 0.297
A93: 88 | B93: 丹东市 | C93: 东港市 | D93: CQB2210681 | E93: 古卢线 | F93: K0+000 | G93: K1+300 | H93: 1.3 | K93: 10 | N93: 6 | R93: =J93*0.4461+K93*0.1485+L93*0.15*0.004+I93*0.0145+M93*0.145+N93*0.015+O93*0.01+P93*0.16+Q93*0.2 -> 1.575
A94: 89 | B94: 丹东市 | C94: 东港市 | D94: C6T1210681 | E94: 王姜线 | F94: K0+000 | G94: K0+700 | H94: 0.7 | K94: 6 | O94: 12 | R94: =J94*0.4461+K94*0.1485+L94*0.15*0.004+I94*0.0145+M94*0.145+N94*0.015+O94*0.01+P94*0.16+Q94*0.2 -> 1.011
A95: 90 | B95: 丹东市 | C95: 东港市 | D95: C6T1210681 | E95: 王姜线 | F95: K1+100 | G95: K1+700 | H95: 0.6 | K95: 2 | R95: =J95*0.4461+K95*0.1485+L95*0.15*0.004+I95*0.0145+M95*0.145+N95*0.015+O95*0.01+P95*0.16+Q95*0.2 -> 0.297
A96: 91 | B96: 丹东市 | C96: 东港市 | D96: C6T1210681 | E96: 王姜线 | F96: K2+600 | G96: K3+000 | H96: 0.4 | K96: 3 | R96: =J96*0.4461+K96*0.1485+L96*0.15*0.004+I96*0.0145+M96*0.145+N96*0.015+O96*0.01+P96*0.16+Q96*0.2 -> 0.4455
A97: 92 | B97: 丹东市 | C97: 东港市 | D97: C6E5210681 | E97: 李崔线 | F97: K0+000 | G97: K0+300 | H97: 0.3 | K97: 3 | R97: =J97*0.4461+K97*0.1485+L97*0.15*0.004+I97*0.0145+M97*0.145+N97*0.015+O97*0.01+P97*0.16+Q97*0.2 -> 0.4455
A98: 93 | B98: 丹东市 | C98: 东港市 | D98: C6E5210681 | E98: 李崔线 | F98: K0+700 | G98: K1+700 | H98: 1 | K98: 4 | R98: =J98*0.4461+K98*0.1485+L98*0.15*0.004+I98*0.0145+M98*0.145+N98*0.015+O98*0.01+P98*0.16+Q98*0.2 -> 0.594
A99: 94 | B99: 丹东市 | C99: 东港市 | D99: C6E5210681 | E99: 李崔线 | F99: K2+600 | G99: K3+300 | H99: 0.7 | K99: 2 | R99: =J99*0.4461+K99*0.1485+L99*0.15*0.004+I99*0.0145+M99*0.145+N99*0.015+O99*0.01+P99*0.16+Q99*0.2 -> 0.297
A100: 95 | B100: 丹东市 | C100: 东港市 | D100: CQB3210681 | E100: 依龙线 | F100: K0+000 | G100: K1+800 | H100: 1.8 | I100: 164 | K100: 11 | N100: 2 | R100: =J100*0.4461+K100*0.1485+L100*0.15*0.004+I100*0.0145+M100*0.145+N100*0.015+O100*0.01+P100*0.16+Q100*0.2 -> 4.0415
...

Sheet 锦州2019
A1: 辽宁省2019年村级公路安防工程预安排计划
A2: 序号 | B2: 市 | C2: 县 | D2: 公路编号 | E2: 路线 名称 | F2: 起点 桩号 | G2: 终点 桩号 | H2: 里程 （公里） | I2: 处置工程数量 | R2: 投资 估算 （万元）
I3: 钢护栏长度（米） | J3: 标志数量 | L3: 标线 长度（米） | M3: 警示诱导设施 | Q3: 减速丘（个）
J4: 悬臂式（个） | K4: 单柱式（个） | M4: 线形诱导标（个） | N4: 道口 标柱（个） | O4: 示警桩（个） | P4: 凸面反光镜（个）
H5: =SUM(H6:H153) -> 96 | I5: =SUM(I6:I153) -> 39320 | J5: =SUM(J6:J153) -> 1 | K5: =SUM(K6:K153) -> 483 | L5: =SUM(L6:L153) -> 0 | M5: =SUM(M6:M153) -> 0 | N5: =SUM(N6:N153) -> 252 | O5: =SUM(O6:O153) -> 0 | ... R5: =SUM(R6:R153) -> 648.0106
A6: 1 | B6: 锦州市 | C6: 黑山县 | D6: C701210726 | E6: 黄西线 | F6: K1+200 | G6: K2+800 | H6: 1.6 | I6: 800 | K6: 16 | R6: =J6*0.4461+K6*0.1485+L6*0.15*0.004+I6*0.0145+M6*0.145+N6*0.015+O6*0.01+P6*0.16+Q6*0.2 -> 13.976
A7: 2 | B7: 锦州市 | C7: 黑山县 | D7: CQ1D210726 | E7: 芳北线 | F7: K2+600 | G7: K3+700 | H7: 1.1 | I7: 600 | K7: 10 | R7: =J7*0.4461+K7*0.1485+L7*0.15*0.004+I7*0.0145+M7*0.145+N7*0.015+O7*0.01+P7*0.16+Q7*0.2 -> 10.185
A8: 3 | B8: 锦州市 | C8: 黑山县 | D8: C798210726 | E8: 蛇朝线 | F8: K2+300 | G8: K3+300 | H8: 1 | I8: 600 | K8: 15 | N8: 8 | R8: =J8*0.4461+K8*0.1485+L8*0.15*0.004+I8*0.0145+M8*0.145+N8*0.015+O8*0.01+P8*0.16+Q8*0.2 -> 11.0475
A9: 4 | B9: 锦州市 | C9: 黑山县 | D9: C7A2210726 | E9: 古半线 | F9: K1+000 | G9: K1+800 | H9: 0.8 | I9: 500 | K9: 8 | N9: 4 | R9: =J9*0.4461+K9*0.1485+L9*0.15*0.004+I9*0.0145+M9*0.145+N9*0.015+O9*0.01+P9*0.16+Q9*0.2 -> 8.498
A10: 5 | B10: 锦州市 | C10: 黑山县 | D10: CQ14210726 | E10: 羊丛线 | F10: K3+200 | G10: K4+200 | H10: 1 | I10: 544 | K10: 5 | N10: 8 | R10: =J10*0.4461+K10*0.1485+L10*0.15*0.004+I10*0.0145+M10*0.145+N10*0.015+O10*0.01+P10*0.16+Q10*0.2 -> 8.7505
A11: 6 | B11: 锦州市 | C11: 黑山县 | D11: CQ30210726 | E11: 二龙线 | F11: K0+500 | G11: K2+700 | H11: 2.2 | I11: 1200 | K11: 2 | N11: 4 | R11: =J11*0.4461+K11*0.1485+L11*0.15*0.004+I11*0.0145+M11*0.145+N11*0.015+O11*0.01+P11*0.16+Q11*0.2 -> 17.757
A12: 7 | B12: 锦州市 | C12: 黑山县 | D12: CQ56210726 | E12: 胡稍线 | F12: K0+500 | G12: K1+500 | H12: 1 | I12: 1500 | K12: 5 | N12: 8 | R12: =J12*0.4461+K12*0.1485+L12*0.15*0.004+I12*0.0145+M12*0.145+N12*0.015+O12*0.01+P12*0.16+Q12*0.2 -> 22.6125
A13: 8 | B13: 锦州市 | C13: 黑山县 | D13: CQ97210726 | E13: 王半线 | F13: K3+600 | G13: K6+550 | H13: 0.8 | I13: 250 | K13: 5 | R13: =J13*0.4461+K13*0.1485+L13*0.15*0.004+I13*0.0145+M13*0.145+N13*0.015+O13*0.01+P13*0.16+Q13*0.2 -> 4.3675
A14: 9 | B14: 锦州市 | C14: 黑山县 | D14: C756210726 | E14: 侯曹线 | F14: K6+000 | G14: K8+400 | H14: 1.1 | I14: 700 | K14: 17 | N14: 12 | R14: =J14*0.4461+K14*0.1485+L14*0.15*0.004+I14*0.0145+M14*0.145+N14*0.015+O14*0.01+P14*0.16+Q14*0.2 -> 12.8545
A15: 10 | B15: 锦州市 | C15: 黑山县 | D15: CQ98210726 | E15: 半东线 | F15: K0+500 | G15: K1+500 | H15: 1.5 | I15: 1000 | K15: 6 | N15: 4 | R15: 15.45
A16: 11 | B16: 锦州市 | C16: 黑山县 | D16: CQ7A210726 | E16: 稍小线 | F16: K12+400 | G16: K14+300 | H16: 1.9 | I16: 1160 | K16: 8 | N16: 4 | R16: =J16*0.4461+K16*0.1485+L16*0.15*0.004+I16*0.0145+M16*0.145+N16*0.015+O16*0.01+P16*0.16+Q16*0.2 -> 18.068
A17: 12 | B17: 锦州市 | C17: 黑山县 | D17: CQ64210726 | E17: 东贺线 | F17: K2+200 | G17: K2+600 | H17: 0.6 | I17: 200 | K17: 5 | N17: 8 | R17: =J17*0.4461+K17*0.1485+L17*0.15*0.004+I17*0.0145+M17*0.145+N17*0.015+O17*0.01+P17*0.16+Q17*0.2 -> 3.7625
A18: 13 | B18: 锦州市 | C18: 黑山县 | D18: CQ91210726 | E18: 三京线 | F18: K0+500 | G18: K0+700 | H18: 0.2 | I18: 100 | K18: 6 | N18: 4 | R18: =J18*0.4461+K18*0.1485+L18*0.15*0.004+I18*0.0145+M18*0.145+N18*0.015+O18*0.01+P18*0.16+Q18*0.2 -> 2.401
A19: 14 | B19: 锦州市 | C19: 黑山县 | D19: CQ90210726 | E19: 东二线 | F19: K2+500 | G19: K3+000 | H19: 0.5 | I19: 300 | K19: 13 | N19: 8 | R19: =J19*0.4461+K19*0.1485+L19*0.15*0.004+I19*0.0145+M19*0.145+N19*0.015+O19*0.01+P19*0.16+Q19*0.2 -> 6.4005
A20: 15 | B20: 锦州市 | C20: 黑山县 | D20: C751210726 | E20: 二小线 | F20: K4+400 | G20: K5+200 | H20: 0.8 | I20: 400 | K20: 17 | N20: 4 | R20: =J20*0.4461+K20*0.1485+L20*0.15*0.004+I20*0.0145+M20*0.145+N20*0.015+O20*0.01+P20*0.16+Q20*0.2 -> 8.3845
A21: 16 | B21: 锦州市 | C21: 黑山县 | D21: C707210726 | E21: 小房线 | F21: K1+400 | G21: K2+000 | H21: 0.6 | I21: 300 | K21: 15 | N21: 24 | R21: =J21*0.4461+K21*0.1485+L21*0.15*0.004+I21*0.0145+M21*0.145+N21*0.015+O21*0.01+P21*0.16+Q21*0.2 -> 6.9375
A22: 17 | B22: 锦州市 | C22: 黑山县 | D22: C711210726 | E22: 团张线 | F22: K3+500 | G22: K4+000 | H22: 0.5 | I22: 500 | K22: 8 | N22: 20 | R22: =J22*0.4461+K22*0.1485+L22*0.15*0.004+I22*0.0145+M22*0.145+N22*0.015+O22*0.01+P22*0.16+Q22*0.2 -> 8.738
A23: 18 | B23: 锦州市 | C23: 黑山县 | D23: C710210726 | E23: 双六线 | F23: K0+300 | G23: K1+600 | H23: 0.5 | I23: 300 | K23: 7 | N23: 16 | R23: =J23*0.4461+K23*0.1485+L23*0.15*0.004+I23*0.0145+M23*0.145+N23*0.015+O23*0.01+P23*0.16+Q23*0.2 -> 5.6295
A24: 19 | B24: 锦州市 | C24: 黑山县 | D24: C714210726 | E24: 兴上线 | F24: K1+700 | G24: K1+800 | H24: 1.1 | I24: 600 | K24: 6 | N24: 24 | R24: =J24*0.4461+K24*0.1485+L24*0.15*0.004+I24*0.0145+M24*0.145+N24*0.015+O24*0.01+P24*0.16+Q24*0.2 -> 9.951
A25: 20 | B25: 锦州市 | C25: 黑山县 | D25: CQ6B210726 | E25: 薛东线 | F25: K5+400 | G25: K6+600 | H25: 1.2 | I25: 800 | K25: 8 | N25: 24 | R25: =J25*0.4461+K25*0.1485+L25*0.15*0.004+I25*0.0145+M25*0.145+N25*0.015+O25*0.01+P25*0.16+Q25*0.2 -> 13.148
A26: 21 | B26: 锦州市 | C26: 黑山县 | D26: CQ7B210726 | E26: 小后线 | F26: K4+900 | G26: K5+400 | H26: 0.5 | I26: 300 | K26: 6 | N26: 4 | R26: =J26*0.4461+K26*0.1485+L26*0.15*0.004+I26*0.0145+M26*0.145+N26*0.015+O26*0.01+P26*0.16+Q26*0.2 -> 5.301
A27: 22 | B27: 锦州市 | C27: 黑山县 | D27: C719210726 | E27: 杏后线 | F27: K2+400 | G27: K3+900 | H27: 1.5 | I27: 900 | K27: 13 | N27: 8 | R27: =J27*0.4461+K27*0.1485+L27*0.15*0.004+I27*0.0145+M27*0.145+N27*0.015+O27*0.01+P27*0.16+Q27*0.2 -> 15.1005
... A30: 25 | B30: 锦州市 | C30: 黑山县 | D30: C721210726 | E30: 张新线 | F30: K2+300 | G30: K3+100 | H30: 0.8 | I30: 300 | K30: 13 | N30: 28 | R30: =J30*0.4461+K30*0.1485+L30*0.15*0.004+I30*0.0145+M30*0.145+N30*0.015+O30*0.01+P30*0.16+Q30*0.2 -> 6.7005
A31: 26 | B31: 锦州市 | C31: 北镇市 | D31: CX8L201782 | E31: 东石线 | F31: K0+000 | G31: K1+000 | H31: 1 | I31: 50 | K31: 11 | R31: =J31*0.4461+K31*0.1485+L31*0.15*0.004+I31*0.0145+M31*0.145+N31*0.015+O31*0.01+P31*0.16+Q31*0.2 -> 2.3585
A32: 27 | B32: 锦州市 | C32: 北镇市 | D32: CX8L201782 | E32: 东石线 | F32: K1+400 | G32: K3+400 | H32: 2 | I32: 620 | K32: 3 | R32: =J32*0.4461+K32*0.1485+L32*0.15*0.004+I32*0.0145+M32*0.145+N32*0.015+O32*0.01+P32*0.16+Q32*0.2 -> 9.4355
A33: 28 | B33: 锦州市 | C33: 北镇市 | D33: CX8M201782 | E33: 东保线 | F33: K0+200 | G33: K1+700 | H33: 1.5 | I33: 84 | K33: 1 | R33: =J33*0.4461+K33*0.1485+L33*0.15*0.004+I33*0.0145+M33*0.145+N33*0.015+O33*0.01+P33*0.16+Q33*0.2 -> 1.3665
A34: 29 | B34: 锦州市 | C34: 北镇市 | D34: CQAF210782 | E34: 白路线 | F34: K0+000 | G34: K2+000 | H34: 2 | I34: 88 | K34: 5 | R34: =J34*0.4461+K34*0.1485+L34*0.15*0.004+I34*0.0145+M34*0.145+N34*0.015+O34*0.01+P34*0.16+Q34*0.2 -> 2.0185
A35: 30 | B35: 锦州市 | C35: 北镇市 | D35: CQAF210782 | E35: 白路线 | F35: K2+400 | G35: K4+400 | H35: 2 | I35: 66 | K35: 11 | R35: =J35*0.4461+K35*0.1485+L35*0.15*0.004+I35*0.0145+M35*0.145+N35*0.015+O35*0.01+P35*0.16+Q35*0.2 -> 2.5905
A36: 31 | B36: 锦州市 | C36: 北镇市 | D36: C7AA210782 | E36: 大罗线 | F36: K0+000 | G36: K1+900 | H36: 1.9 | I36: 420 | R36: =J36*0.4461+K36*0.1485+L36*0.15*0.004+I36*0.0145+M36*0.145+N36*0.015+O36*0.01+P36*0.16+Q36*0.2 -> 6.09
A37: 32 | B37: 锦州市 | C37: 北镇市 | D37: CXBN210782 | E37: 三小线 | F37: K0+400 | G37: K1+100 | H37: 0.7 | I37: 42 | K37: 2 | R37: =J37*0.4461+K37*0.1485+L37*0.15*0.004+I37*0.0145+M37*0.145+N37*0.015+O37*0.01+P37*0.16+Q37*0.2 -> 0.906
A38: 33 | B38: 锦州市 | C38: 北镇市 | D38: CX8H210782 | E38: 闵沈线 | F38: K0+000 | G38: K1+100 | H38: 1.1 | I38: 36 | K38: 4 | R38: =J38*0.4461+K38*0.1485+L38*0.15*0.004+I38*0.0145+M38*0.145+N38*0.015+O38*0.01+P38*0.16+Q38*0.2 -> 1.116
A39: 34 | B39: 锦州市 | C39: 北镇市 | D39: CTXZ210782 | E39: 康高线 | F39: K0+200 | G39: K0+300 | H39: 0.1 | I39: 8 | K39: 2 | R39: =J39*0.4461+K39*0.1485+L39*0.15*0.004+I39*0.0145+M39*0.145+N39*0.015+O39*0.01+P39*0.16+Q39*0.2 -> 0.413
A40: 35 | B40: 锦州市 | C40: 北镇市 | D40: CX8N210782 | E40: 鞍肉线 | F40: K1+300 | G40: K1+700 | H40: 0.4 | I40: 66 | R40: =J40*0.4461+K40*0.1485+L40*0.15*0.004+I40*0.0145+M40*0.145+N40*0.015+O40*0.01+P40*0.16+Q40*0.2 -> 0.957
A41: 36 | B41: 锦州市 | C41: 北镇市 | D41: CXTT210782 | E41: 三鸡线 | F41: K0+000 | G41: K0+400 | H41: 0.4 | I41: 60 | K41: 2 | R41: =J41*0.4461+K41*0.1485+L41*0.15*0.004+I41*0.0145+M41*0.145+N41*0.015+O41*0.01+P41*0.16+Q41*0.2 -> 1.167
A42: 37 | B42: 锦州市 | C42: 北镇市 | D42: CQDR210782 | E42: 高杨线 | F42: K0+000 | G42: K1+800 | H42: 1.8 | I42: 340 | K42: 4 | R42: =J42*0.4461+K42*0.1485+L42*0.15*0.004+I42*0.0145+M42*0.145+N42*0.015+O42*0.01+P42*0.16+Q42*0.2 -> 5.524
A43: 38 | B43: 锦州市 | C43: 北镇市 | D43: C7CR210782 | E43: 桃桃线 | F43: K0+000 | G43: K2+100 | H43: 2.1 | I43: 400 | K43: 4 | R43: =J43*0.4461+K43*0.1485+L43*0.15*0.004+I43*0.0145+M43*0.145+N43*0.015+O43*0.01+P43*0.16+Q43*0.2 -> 6.394
A44: 39 | B44: 锦州市 | C44: 北镇市 | D44: CQDJ210782 | E44: 鲍宁线 | F44: K0+300 | G44: K2+000 | H44: 1.7 | I44: 308 | K44: 2 | R44: =J44*0.4461+K44*0.1485+L44*0.15*0.004+I44*0.0145+M44*0.145+N44*0.015+O44*0.01+P44*0.16+Q44*0.2 -> 4.763
A45: 40 | B45: 锦州市 | C45: 北镇市 | D45: CXAW210782 | E45: 头五线 | F45: K0+700 | G45: K1+400 | H45: 0.7 | I45: 132 | K45: 2 | R45: =J45*0.4461+K45*0.1485+L45*0.15*0.004+I45*0.0145+M45*0.145+N45*0.015+O45*0.01+P45*0.16+Q45*0.2 -> 2.211
A46: 41 | B46: 锦州市 | C46: 北镇市 | D46: CQAX210782 | E46: 新互线 | F46: K0+600 | G46: K2+200 | H46: 1.6 | I46: 42 | K46: 4 | R46: =J46*0.4461+K46*0.1485+L46*0.15*0.004+I46*0.0145+M46*0.145+N46*0.015+O46*0.01+P46*0.16+Q46*0.2 -> 1.203
A47: 42 | B47: 锦州市 | C47: 北镇市 | D47: CXAV210782 | E47: 闾桃线 | F47: K2+000 | G47: K2+800 | H47: 0.8 | I47: 170 | R47: =J47*0.4461+K47*0.1485+L47*0.15*0.004+I47*0.0145+M47*0.145+N47*0.015+O47*0.01+P47*0.16+Q47*0.2 -> 2.465
A48: 43 | B48: 锦州市 | C48: 北镇市 | D48: CQAW210782 | E48: 闾三线 | F48: K0+000 | G48: K1+100 | H48: 1.1 | I48: 28 | K48: 2 | R48: =J48*0.4461+K48*0.1485+L48*0.15*0.004+I48*0.0145+M48*0.145+N48*0.015+O48*0.01+P48*0.16+Q48*0.2 -> 0.703
A49: 44 | B49: 锦州市 | C49: 北镇市 | D49: C7C7210782 | E49: 闾郭线 | F49: K0+000 | G49: K1+000 | H49: 1 | I49: 322 | K49: 2 | R49: =J49*0.4461+K49*0.1485+L49*0.15*0.004+I49*0.0145+M49*0.145+N49*0.015+O49*0.01+P49*0.16+Q49*0.2 -> 4.966
A50: 45 | B50: 锦州市 | C50: 北镇市 | D50: C7C5 | E50: 上上线 | F50: K0+000 | G50: K1+800 | H50: 1.8 | I50: 530 | K50: 2 | R50: =J50*0.4461+K50*0.1485+L50*0.15*0.004+I50*0.0145+M50*0.145+N50*0.015+O50*0.01+P50*0.16+Q50*0.2 -> 7.982
A51: 46 | B51: 锦州市 | C51: 北镇市 | D51: CQAP210782 | E51: 三大线 | F51: K0+700 | G51: K2+300 | H51: 1.6 | I51: 80 | K51: 4 | R51: =J51*0.4461+K51*0.1485+L51*0.15*0.004+I51*0.0145+M51*0.145+N51*0.015+O51*0.01+P51*0.16+Q51*0.2 -> 1.754
A52: 47 | B52: 锦州市 | C52: 北镇市 | D52: CXCM210782 | E52: 青上线 | F52: K0+300 | G52: K0+800 | H52: 0.5 | I52: 96 | R52: =J52*0.4461+K52*0.1485+L52*0.15*0.004+I52*0.0145+M52*0.145+N52*0.015+O52*0.01+P52*0.16+Q52*0.2 -> 1.392
A53: 48 | B53: 锦州市 | C53: 北镇市 | D53: CX9Q210782 | E53: 上鸽线 | F53: K0+000 | G53: K1+800 | H53: 1.8 | I53: 550 | K53: 2 | R53: =J53*0.4461+K53*0.1485+L53*0.15*0.004+I53*0.0145+M53*0.145+N53*0.015+O53*0.01+P53*0.16+Q53*0.2 -> 8.272
A54: 49 | B54: 锦州市 | C54: 凌海市 | D54: C757210781 | E54: 三云线 | F54: K0+100 | G54: K1+940 | H54: 1.8 | I54: 1770 | R54: =J54*0.4461+K54*0.1485+L54*0.15*0.004+I54*0.0145+M54*0.145+N54*0.015+O54*0.01+P54*0.16+Q54*0.2 -> 25.665
A55: 50 | B55: 锦州市 | C55: 凌海市 | D55: CQJ9210781 | E55: 温牛线 | F55: K0+600 | G55: K1+600 | H55: 1 | I55: 1000 | K55: 6 | R55: =J55*0.4461+K55*0.1485+L55*0.15*0.004+I55*0.0145+M55*0.145+N55*0.015+O55*0.01+P55*0.16+Q55*0.2 -> 15.391
A56: 51 | B56: 锦州市 | C56: 凌海市 | D56: CQM1210781 | E56: 羊上线 | F56: K1+450 | G56: K2+450 | H56: 1 | I56: 430 | K56: 5 | R56: =J56*0.4461+K56*0.1485+L56*0.15*0.004+I56*0.0145+M56*0.145+N56*0.015+O56*0.01+P56*0.16+Q56*0.2 -> 6.9775
A57: 52 | B57: 锦州市 | C57: 凌海市 | D57: CQM2210781 | E57: 下大线 | F57: K2+100 | G57: K2+900 | H57: 0.8 | I57: 870 | K57: 2 | R57: =J57*0.4461+K57*0.1485+L57*0.15*0.004+I57*0.0145+M57*0.145+N57*0.015+O57*0.01+P57*0.16+Q57*0.2 -> 12.912
A58: 53 | B58: 锦州市 | C58: 凌海市 | D58: C7KK210781 | E58: 锦谷线 | F58: K0+300 | G58: K0+800 | H58: 0.5 | I58: 500 | R58: =J58*0.4461+K58*0.1485+L58*0.15*0.004+I58*0.0145+M58*0.145+N58*0.015+O58*0.01+P58*0.16+Q58*0.2 -> 7.25
A59: 54 | B59: 锦州市 | C59: 凌海市 | D59: C7LC210781 | E59: 北宋线 | F59: K0+000 | G59: K1+400 | H59: 1.4 | I59: 650 | R59: =J59*0.4461+K59*0.1485+L59*0.15*0.004+I59*0.0145+M59*0.145+N59*0.015+O59*0.01+P59*0.16+Q59*0.2 -> 9.425
A60: 55 | B60: 锦州市 | C60: 凌海市 | D60: C7LF210781 | E60: 锦西线 | F60: K3+500 | G60: K4+000 | H60: 0.5 | I60: 280 | K60: 2 | R60: =J60*0.4461+K60*0.1485+L60*0.15*0.004+I60*0.0145+M60*0.145+N60*0.015+O60*0.01+P60*0.16+Q60*0.2 -> 4.357
A61: 56 | B61: 锦州市 | C61: 凌海市 | D61: CQL8210781 | E61: 小郭线 | F61: K0+100 | G61: K0+700 | H61: 0.6 | I61: 600 | R61: =J61*0.4461+K61*0.1485+L61*0.15*0.004+I61*0.0145+M61*0.145+N61*0.015+O61*0.01+P61*0.16+Q61*0.2 -> 8.7
A62: 57 | B62: 锦州市 | C62: 凌海市 | D62: C7LA210781 | E62: 缸奶线 | F62: K0+300 | G62: K1+600 | H62: 1.3 | I62: 1150 | K62: 4 | R62: =J62*0.4461+K62*0.1485+L62*0.15*0.004+I62*0.0145+M62*0.145+N62*0.015+O62*0.01+P62*0.16+Q62*0.2 -> 17.269
A63: 58 | B63: 锦州市 | C63: 凌海市 | D63: C7CM210781 | E63: 奶李线 | F63: K0+600 | G63: K2+100 | H63: 1.5 | I63: 1500 | R63: =J63*0.4461+K63*0.1485+L63*0.15*0.004+I63*0.0145+M63*0.145+N63*0.015+O63*0.01+P63*0.16+Q63*0.2 -> 21.75
A64: 59 | B64: 锦州市 | C64: 凌海市 | D64: CQK1210781 | E64: 四小线 | F64: K4+400 | G64: K5+800 | H64: 1.4 | I64: 2240 | K64: 4 | R64: =J64*0.4461+K64*0.1485+L64*0.15*0.004+I64*0.0145+M64*0.145+N64*0.015+O64*0.01+P64*0.16+Q64*0.2 -> 33.074
A65: 60 | B65: 锦州市 | C65: 凌海市 | D65: C7EK210781 | E65: 兴九线 | F65: K1+000 | G65: K3+000 | H65: 2 | I65: 2000 | R65: =J65*0.4461+K65*0.1485+L65*0.15*0.004+I65*0.0145+M65*0.145+N65*0.015+O65*0.01+P65*0.16+Q65*0.2 -> 29
A66: 61 | B66: 锦州市 | C66: 凌海市 | D66: C7E4210781 | E66: 望娘线 | F66: K0+000 | G66: K1+500 | H66: 1.5 | I66: 750 | K66: 2 | R66: =J66*0.4461+K66*0.1485+L66*0.15*0.004+I66*0.0145+M66*0.145+N66*0.015+O66*0.01+P66*0.16+Q66*0.2 -> 11.172
A67: 62 | B67: 锦州市 | C67: 凌海市 | D67: C7G4210781 | E67: 驿菱线 | F67: K2+200 | G67: K2+600 | H67: 0.4 | I67: 800 | R67: =J67*0.4461+K67*0.1485+L67*0.15*0.004+I67*0.0145+M67*0.145+N67*0.015+O67*0.01+P67*0.16+Q67*0.2 -> 11.6
A68: 63 | B68: 锦州市 | C68: 凌海市 | D68: C7M0210781 | E68: 赵山线 | F68: K2+000 | G68: K2+500 | H68: 0.5 | I68: 500 | R68: =J68*0.4461+K68*0.1485+L68*0.15*0.004+I68*0.0145+M68*0.145+N68*0.015+O68*0.01+P68*0.16+Q68*0.2 -> 7.25
A69: 64 | B69: 锦州市 | C69: 太和区 | D69: C7X6210711 | E69: 大宋线 | F69: K0+000 | G69: K0+100 | H69: 0.1 | K69: 1 | R69: =J69*0.4461+K69*0.1485+L69*0.15*0.004+I69*0.0145+M69*0.145+N69*0.015+O69*0.01+P69*0.16+Q69*0.2 -> 0.1485
A70: 65 | B70: 锦州市 | C70: 太和区 | D70: C7X6210711 | E70: 大宋线 | F70: K0+200 | G70: K0+800 | H70: 0.6 | K70: 2 | R70: =J70*0.4461+K70*0.1485+L70*0.15*0.004+I70*0.0145+M70*0.145+N70*0.015+O70*0.01+P70*0.16+Q70*0.2 -> 0.297
A71: 66 | B71: 锦州市 | C71: 太和区 | D71: C7X6210711 | E71: 大宋线 | F71: K0+900 | G71: K1+000 | H71: 0.1 | K71: 2 | R71: =J71*0.4461+K71*0.1485+L71*0.15*0.004+I71*0.0145+M71*0.145+N71*0.015+O71*0.01+P71*0.16+Q71*0.2 -> 0.297
A72: 67 | B72: 锦州市 | C72: 太和区 | D72: C7X6210711 | E72: 大宋线 | F72: K1+100 | G72: K1+200 | H72: 0.1 | K72: 2 | R72: =J72*0.4461+K72*0.1485+L72*0.15*0.004+I72*0.0145+M72*0.145+N72*0.015+O72*0.01+P72*0.16+Q72*0.2 -> 0.297
A73: 68 | B73: 锦州市 | C73: 太和区 | D73: C7X6210711 | E73: 大宋线 | F73: K1+300 | G73: K1+400 | H73: 0.1 | K73: 3 | R73: =J73*0.4461+K73*0.1485+L73*0.15*0.004+I73*0.0145+M73*0.145+N73*0.015+O73*0.01+P73*0.16+Q73*0.2 -> 0.4455
A74: 69 | B74: 锦州市 | C74: 太和区 | D74: C7X6210711 | E74: 大宋线 | F74: K1+500 | G74: K1+600 | H74: 0.1 | K74: 2 | R74: =J74*0.4461+K74*0.1485+L74*0.15*0.004+I74*0.0145+M74*0.145+N74*0.015+O74*0.01+P74*0.16+Q74*0.2 -> 0.297
A75: 70 | B75: 锦州市 | C75: 太和区 | D75: C7X6210711 | E75: 大宋线 | F75: K2+100 | G75: K2+200 | H75: 0.1 | K75: 2 | R75: =J75*0.4461+K75*0.1485+L75*0.15*0.004+I75*0.0145+M75*0.145+N75*0.015+O75*0.01+P75*0.16+Q75*0.2 -> 0.297
A76: 71 | B76: 锦州市 | C76: 太和区 | D76: C7X6210711 | E76: 大宋线 | F76: K2+200 | G76: K2+300 | H76: 0.1 | K76: 2 | R76: =J76*0.4461+K76*0.1485+L76*0.15*0.004+I76*0.0145+M76*0.145+N76*0.015+O76*0.01+P76*0.16+Q76*0.2 -> 0.297
A77: 72 | B77: 锦州市 | C77: 太和区 | D77: C7X6210711 | E77: 大宋线 | F77: K2+800 | G77: K3+000 | H77: 0.2 | K77: 2 | R77: =J77*0.4461+K77*0.1485+L77*0.15*0.004+I77*0.0145+M77*0.145+N77*0.015+O77*0.01+P77*0.16+Q77*0.2 -> 0.297
A78: 73 | B78: 锦州市 | C78: 太和区 | D78: C7X6210711 | E78: 大宋线 | F78: K3+400 | G78: K3+700 | H78: 0.3 | I78: 52 | K78: 2 | R78: =J78*0.4461+K78*0.1485+L78*0.15*0.004+I78*0.0145+M78*0.145+N78*0.015+O78*0.01+P78*0.16+Q78*0.2 -> 1.051
A79: 74 | B79: 锦州市 | C79: 太和区 | D79: C7X6210711 | E79: 大宋线 | F79: K3+800 | G79: K3+900 | H79: 0.1 | K79: 1 | R79: =J79*0.4461+K79*0.1485+L79*0.15*0.004+I79*0.0145+M79*0.145+N79*0.015+O79*0.01+P79*0.16+Q79*0.2 -> 0.1485
A80: 75 | B80: 锦州市 | C80: 太和区 | D80: C7X6210711 | E80: 大宋线 | F80: K4+700 | G80: K4+800 | H80: 0.1 | K80: 2 | R80: =J80*0.4461+K80*0.1485+L80*0.15*0.004+I80*0.0145+M80*0.145+N80*0.015+O80*0.01+P80*0.16+Q80*0.2 -> 0.297
A81: 76 | B81: 锦州市 | C81: 太和区 | D81: C7T0210711 | E81: 唐苏线 | F81: K1+000 | G81: K1+600 | H81: 0.6 | K81: 2 | R81: =J81*0.4461+K81*0.1485+L81*0.15*0.004+I81*0.0145+M81*0.145+N81*0.015+O81*0.01+P81*0.16+Q81*0.2 -> 0.297
A82: 77 | B82: 锦州市 | C82: 太和区 | D82: C7T1210711 | E82: 姜王线 | F82: K0+000 | G82: K1+000 | H82: 1 | I82: 132 | K82: 3 | R82: =J82*0.4461+K82*0.1485+L82*0.15*0.004+I82*0.0145+M82*0.145+N82*0.015+O82*0.01+P82*0.16+Q82*0.2 -> 2.3595
A83: 78 | B83: 锦州市 | C83: 太和区 | D83: C7T1210711 | E83: 姜王线 | F83: K1+000 | G83: K1+100 | H83: 0.1 | I83: 52 | R83: =J83*0.4461+K83*0.1485+L83*0.15*0.004+I83*0.0145+M83*0.145+N83*0.015+O83*0.01+P83*0.16+Q83*0.2 -> 0.754
A84: 79 | B84: 锦州市 | C84: 太和区 | D84: C7T1210711 | E84: 姜王线 | F84: K1+100 | G84: K2+100 | H84: 1 | I84: 200 | K84: 2 | R84: =J84*0.4461+K84*0.1485+L84*0.15*0.004+I84*0.0145+M84*0.145+N84*0.015+O84*0.01+P84*0.16+Q84*0.2 -> 3.197
A85: 80 | B85: 锦州市 | C85: 太和区 | D85: C7T1210711 | E85: 姜王线 | F85: K2+200 | G85: K2+700 | H85: 0.5 | I85: 152 | K85: 2 | R85: =J85*0.4461+K85*0.1485+L85*0.15*0.004+I85*0.0145+M85*0.145+N85*0.015+O85*0.01+P85*0.16+Q85*0.2 -> 2.501
A86: 81 | B86: 锦州市 | C86: 太和区 | D86: C7T1210711 | E86: 姜王线 | F86: K3+200 | G86: K3+300 | H86: 0.1 | K86: 1 | R86: =J86*0.4461+K86*0.1485+L86*0.15*0.004+I86*0.0145+M86*0.145+N86*0.015+O86*0.01+P86*0.16+Q86*0.2 -> 0.1485
A87: 82 | B87: 锦州市 | C87: 太和区 | D87: C7X5210711 | E87: 后白线 | F87: K0+100 | G87: K0+300 | H87: 0.2 | K87: 2 | R87: =J87*0.4461+K87*0.1485+L87*0.15*0.004+I87*0.0145+M87*0.145+N87*0.015+O87*0.01+P87*0.16+Q87*0.2 -> 0.297
A88: 83 | B88: 锦州市 | C88: 太和区 | D88: C7X5210711 | E88: 后白线 | F88: K0+400 | G88: K0+600 | H88: 0.2 | K88: 2 | R88: =J88*0.4461+K88*0.1485+L88*0.15*0.004+I88*0.0145+M88*0.145+N88*0.015+O88*0.01+P88*0.16+Q88*0.2 -> 0.297
A89: 84 | B89: 锦州市 | C89: 太和区 | D89: CX1U210711 | E89: 后华线 | F89: K0+000 | G89: K0+100 | H89: 0.1 | K89: 1 | R89: =J89*0.4461+K89*0.1485+L89*0.15*0.004+I89*0.0145+M89*0.145+N89*0.015+O89*0.01+P89*0.16+Q89*0.2 -> 0.1485
A90: 85 | B90: 锦州市 | C90: 太和区 | D90: CX1U210711 | E90: 后华线 | F90: K0+300 | G90: K0+500 | H90: 0.2 | K90: 2 | R90: =J90*0.4461+K90*0.1485+L90*0.15*0.004+I90*0.0145+M90*0.145+N90*0.015+O90*0.01+P90*0.16+Q90*0.2 -> 0.297
A91: 86 | B91: 锦州市 | C91: 太和区 | D91: CX1U210711 | E91: 后华线 | F91: K1+000 | G91: K1+100 | H91: 0.1 | I91: 100 | R91: =J91*0.4461+K91*0.1485+L91*0.15*0.004+I91*0.0145+M91*0.145+N91*0.015+O91*0.01+P91*0.16+Q91*0.2 -> 1.45
A92: 87 | B92: 锦州市 | C92: 太和区 | D92: CX1U210711 | E92: 后华线 | F92: K1+800 | G92: K1+900 | H92: 0.1 | K92: 2 | R92: =J92*0.4461+K92*0.1485+L92*0.15*0.004+I92*0.0145+M92*0.145+N92*0.015+O92*0.01+P92*0.16+Q92*0.2 -> 0.297
A93: 88 | B93: 锦州市 | C93: 太和区 | D93: CX1U210711 | E93: 后华线 | F93: K2+000 | G93: K2+300 | H93: 0.3 | I93: 52 | K93: 2 | R93: =J93*0.4461+K93*0.1485+L93*0.15*0.004+I93*0.0145+M93*0.145+N93*0.015+O93*0.01+P93*0.16+Q93*0.2 -> 1.051
A94: 89 | B94: 锦州市 | C94: 太和区 | D94: CX1U210711 | E94: 后华线 | F94: K2+400 | G94: K2+700 | H94: 0.3 | K94: 3 | R94: =J94*0.4461+K94*0.1485+L94*0.15*0.004+I94*0.0145+M94*0.145+N94*0.015+O94*0.01+P94*0.16+Q94*0.2 -> 0.4455
A95: 90 | B95: 锦州市 | C95: 太和区 | D95: C7XC210711 | E95: 桃刘线 | F95: K0+700 | G95: K1+000 | H95: 0.3 | K95: 2 | R95: =J95*0.4461+K95*0.1485+L95*0.15*0.004+I95*0.0145+M95*0.145+N95*0.015+O95*0.01+P95*0.16+Q95*0.2 -> 0.297
A96: 91 | B96: 锦州市 | C96: 太和区 | D96: C7XC210711 | E96: 桃刘线 | F96: K1+300 | G96: K1+400 | H96: 0.1 | K96: 2 | R96: =J96*0.4461+K96*0.1485+L96*0.15*0.004+I96*0.0145+M96*0.145+N96*0.015+O96*0.01+P96*0.16+Q96*0.2 -> 0.297
A97: 92 | B97: 锦州市 | C97: 太和区 | D97: C7A3210711 | E97: 南双线 | F97: K0+000 | G97: K0+300 | H97: 0.3 | I97: 260 | R97: =J97*0.4461+K97*0.1485+L97*0.15*0.004+I97*0.0145+M97*0.145+N97*0.015+O97*0.01+P97*0.16+Q97*0.2 -> 3.77
A98: 93 | B98: 锦州市 | C98: 太和区 | D98: C7A3210711 | E98: 南双线 | F98: K0+900 | G98: K1+200 | H98: 0.3 | I98: 440 | R98: =J98*0.4461+K98*0.1485+L98*0.15*0.004+I98*0.0145+M98*0.145+N98*0.015+O98*0.01+P98*0.16+Q98*0.2 -> 6.38
A99: 94 | B99: 锦州市 | C99: 太和区 | D99: C7A3210711 | E99: 南双线 | F99: K1+600 | G99: K1+800 | H99: 0.2 | I99: 152 | R99: =J99*0.4461+K99*0.1485+L99*0.15*0.004+I99*0.0145+M99*0.145+N99*0.015+O99*0.01+P99*0.16+Q99*0.2 -> 2.204
A100: 95 | B100: 锦州市 | C100: 太和区 | D100: C7XH210711 | E100: 后三线 | F100: K0+000 | G100: K0+800 | H100: 0.8 | K100: 1 | R100: =J100*0.4461+K100*0.1485+L100*0.15*0.004+I100*0.0145+M100*0.145+N100*0.015+O100*0.01+P100*0.16+Q100*0.2 -> 0.1485
A101: 96 | B101: 锦州市 | C101: 太和区 | D101: C7XI210711 | E101: 三孤线 | F101: K0+100 | G101: K0+200 | H101: 0.1 | K101: 2 | R101: =J101*0.4461+K101*0.1485+L101*0.15*0.004+I101*0.0145+M101*0.145+N101*0.015+O101*0.01+P101*0.16+Q101*0.2 -> 0.297
A102: 97 | B102: 锦州市 | C102: 太和区 | D102: C7XI210711 | E102: 三孤线 | F102: K0+400 | G102: K0+500 | H102: 0.1 | K102: 2 | R102: =J102*0.4461+K102*0.1485+L102*0.15*0.004+I102*0.0145+M102*0.145+N102*0.015+O102*0.01+P102*0.16+Q102*0.2 -> 0.297
...

Sheet 营口2019
A1: 辽宁省2019年村级公路安防工程预安排计划
A2: 序号 | B2: 市 | C2: 县 | D2: 公路编号 | E2: 路线 名称 | F2: 起点 桩号 | G2: 终点 桩号 | H2: 里程 （公里） | I2: 处置工程数量 | R2: 投资 估算 （万元）
I3: 钢护栏长度（米） | J3: 标志数量 | L3: 标线 长度（米） | M3: 警示诱导设施 | Q3: 减速丘（个）
J4: 悬臂式（个） | K4: 单柱式（个） | M4: 线形诱导标（个） | N4: 道口 标柱（个） | O4: 示警桩（个） | P4: 凸面反光镜（个）
H5: =SUM(H6:H71) -> 77.4 | I5: =SUM(I6:I71) -> 16598 | J5: =SUM(J6:J71) -> 0 | K5: =SUM(K6:K71) -> 164 | L5: =SUM(L6:L71) -> 0 | M5: =SUM(M6:M71) -> 0 | N5: =SUM(N6:N71) -> 54 | O5: =SUM(O6:O71) -> 38 | ... R5: =SUM(R6:R71) -> 267.655
A6: 1 | B6: 营口市 | C6: 大石桥市 | D6: C8F3210882 | E6: 爱神线 | F6: K0+000 | G6: 1000 | H6: 1 | I6: 160 | P6: 2 | R6: =J6*0.4461+K6*0.1485+L6*0.15*0.004+I6*0.0145+M6*0.145+N6*0.015+O6*0.01+P6*0.16+Q6*0.2 -> 2.64
A7: 2 | B7: 营口市 | C7: 大石桥市 | D7: C8GU210882 | E7: 黑敬线 | F7: 200 | G7: 400 | H7: 0.2 | K7: 2 | R7: =J7*0.4461+K7*0.1485+L7*0.15*0.004+I7*0.0145+M7*0.145+N7*0.015+O7*0.01+P7*0.16+Q7*0.2 -> 0.297
A8: 3 | B8: 营口市 | C8: 大石桥市 | D8: C8KK211221 | E8: 孟刘线 | F8: 200 | G8: 300 | H8: 0.1 | O8: 8 | R8: =J8*0.4461+K8*0.1485+L8*0.15*0.004+I8*0.0145+M8*0.145+N8*0.015+O8*0.01+P8*0.16+Q8*0.2 -> 0.08
A9: 4 | B9: 营口市 | C9: 大石桥市 | D9: C8NY211221 | E9: 劳李线 | F9: 2400 | G9: 2500 | H9: 0.1 | O9: 8 | R9: =J9*0.4461+K9*0.1485+L9*0.15*0.004+I9*0.0145+M9*0.145+N9*0.015+O9*0.01+P9*0.16+Q9*0.2 -> 0.08
A10: 5 | B10: 营口市 | C10: 大石桥市 | D10: C8EZ210882 | E10: 岫秦线 | F10: 1100 | G10: 1200 | H10: 0.1 | N10: 4 | R10: =J10*0.4461+K10*0.1485+L10*0.15*0.004+I10*0.0145+M10*0.145+N10*0.015+O10*0.01+P10*0.16+Q10*0.2 -> 0.06
A11: 6 | B11: 营口市 | C11: 大石桥市 | D11: C8FI210882 | E11: 党李线 | F11: 0 | G11: 2300 | H11: 2.3 | I11: 1352 | R11: =J11*0.4461+K11*0.1485+L11*0.15*0.004+I11*0.0145+M11*0.145+N11*0.015+O11*0.01+P11*0.16+Q11*0.2 -> 19.604
A12: 7 | B12: 营口市 | C12: 大石桥市 | D12: C8FL210882 | E12: 岫候线 | F12: 500 | G12: 1200 | H12: 0.7 | I12: 44 | R12: =J12*0.4461+K12*0.1485+L12*0.15*0.004+I12*0.0145+M12*0.145+N12*0.015+O12*0.01+P12*0.16+Q12*0.2 -> 0.638
A13: 8 | B13: 营口市 | C13: 大石桥市 | D13: C8FK210882 | E13: 高肖线 | F13: 0 | G13: 1200 | H13: 1.2 | I13: 1292 | R13: =J13*0.4461+K13*0.1485+L13*0.15*0.004+I13*0.0145+M13*0.145+N13*0.015+O13*0.01+P13*0.16+Q13*0.2 -> 18.734
A14: 9 | B14: 营口市 | C14: 大石桥市 | D14: C8FM210882 | E14: 前高线 | F14: 200 | G14: 2100 | H14: 1.9 | I14: 340 | R14: =J14*0.4461+K14*0.1485+L14*0.15*0.004+I14*0.0145+M14*0.145+N14*0.015+O14*0.01+P14*0.16+Q14*0.2 -> 4.93
A15: 10 | B15: 营口市 | C15: 大石桥市 | D15: C8FN210882 | E15: 岫高线 | F15: 600 | G15: 1000 | H15: 0.4 | I15: 60 | R15: =J15*0.4461+K15*0.1485+L15*0.15*0.004+I15*0.0145+M15*0.145+N15*0.015+O15*0.01+P15*0.16+Q15*0.2 -> 0.87
A16: 11 | B16: 营口市 | C16: 大石桥市 | D16: C8FS210882 | E16: 马丁线 | F16: 0 | G16: 1400 | H16: 1.4 | I16: 264 | R16: =J16*0.4461+K16*0.1485+L16*0.15*0.004+I16*0.0145+M16*0.145+N16*0.015+O16*0.01+P16*0.16+Q16*0.2 -> 3.828
A17: 12 | B17: 营口市 | C17: 大石桥市 | D17: C8FT210882 | E17: 卢新线 | F17: 0 | G17: 3000 | H17: 3 | I17: 802 | R17: =J17*0.4461+K17*0.1485+L17*0.15*0.004+I17*0.0145+M17*0.145+N17*0.015+O17*0.01+P17*0.16+Q17*0.2 -> 11.629
A18: 13 | B18: 营口市 | C18: 大石桥市 | D18: C8FT210882 | E18: 卢新线 | F18: 3000 | G18: 4400 | H18: 1.4 | I18: 146 | R18: =J18*0.4461+K18*0.1485+L18*0.15*0.004+I18*0.0145+M18*0.145+N18*0.015+O18*0.01+P18*0.16+Q18*0.2 -> 2.117
A19: 14 | B19: 营口市 | C19: 大石桥市 | D19: C8FU210882 | E19: 马崔线 | F19: 0 | G19: 900 | H19: 0.9 | I19: 96 | R19: =J19*0.4461+K19*0.1485+L19*0.15*0.004+I19*0.0145+M19*0.145+N19*0.015+O19*0.01+P19*0.16+Q19*0.2 -> 1.392
A20: 15 | B20: 营口市 | C20: 大石桥市 | D20: C8G5210882 | E20: 东青线 | F20: 0 | G20: 3000 | H20: 3 | K20: 4 | R20: =J20*0.4461+K20*0.1485+L20*0.15*0.004+I20*0.0145+M20*0.145+N20*0.015+O20*0.01+P20*0.16+Q20*0.2 -> 0.594
A21: 16 | B21: 营口市 | C21: 大石桥市 | D21: C8G5210882 | E21: 东青线 | F21: 3000 | G21: 5000 | H21: 2 | I21: 40 | R21: =J21*0.4461+K21*0.1485+L21*0.15*0.004+I21*0.0145+M21*0.145+N21*0.015+O21*0.01+P21*0.16+Q21*0.2 -> 0.58
A22: 17 | B22: 营口市 | C22: 大石桥市 | D22: C8HD210882 | E22: 连白线 | F22: 0 | G22: 1300 | H22: 1.3 | I22: 126 | R22: =J22*0.4461+K22*0.1485+L22*0.15*0.004+I22*0.0145+M22*0.145+N22*0.015+O22*0.01+P22*0.16+Q22*0.2 -> 1.827
A23: 18 | B23: 营口市 | C23: 大石桥市 | D23: C8HG210882 | E23: 后前线 | F23: 0 | G23: 2000 | H23: 2 | I23: 180 | K23: 2 | R23: =J23*0.4461+K23*0.1485+L23*0.15*0.004+I23*0.0145+M23*0.145+N23*0.015+O23*0.01+P23*0.16+Q23*0.2 -> 2.907
A24: 19 | B24: 营口市 | C24: 大石桥市 | D24: C8HI210882 | E24: 上后线 | F24: 3300 | G24: 5300 | H24: 2 | I24: 264 | R24: =J24*0.4461+K24*0.1485+L24*0.15*0.004+I24*0.0145+M24*0.145+N24*0.015+O24*0.01+P24*0.16+Q24*0.2 -> 3.828
A25: 20 | B25: 营口市 | C25: 大石桥市 | D25: C8HJ210882 | E25: 岫薛线 | F25: 400 | G25: 700 | H25: 0.3 | I25: 56 | R25: =J25*0.4461+K25*0.1485+L25*0.15*0.004+I25*0.0145+M25*0.145+N25*0.015+O25*0.01+P25*0.16+Q25*0.2 -> 0.812
A26: 21 | B26: 营口市 | C26: 大石桥市 | D26: C8HK210882 | E26: 丁自线 | F26: 0 | G26: 1000 | H26: 1 | I26: 192 | R26: =J26*0.4461+K26*0.1485+L26*0.15*0.004+I26*0.0145+M26*0.145+N26*0.015+O26*0.01+P26*0.16+Q26*0.2 -> 2.784
A27: 22 | B27: 营口市 | C27: 大石桥市 | D27: C8HL210882 | E27: 候黄线 | F27: 1700 | G27: 2300 | H27: 0.6 | I27: 104 | R27: =J27*0.4461+K27*0.1485+L27*0.15*0.004+I27*0.0145+M27*0.145+N27*0.015+O27*0.01+P27*0.16+Q27*0.2 -> 1.508
A28: 23 | B28: 营口市 | C28: 大石桥市 | D28: C8HM210882 | E28: 高革线 | F28: 3300 | G28: 6300 | H28: 3 | I28: 152 | K28: 16 | O28: 16 | R28: =J28*0.4461+K28*0.1485+L28*0.15*0.004+I28*0.0145+M28*0.145+N28*0.015+O28*0.01+P28*0.16+Q28*0.2 -> 4.74
A29: 24 | B29: 营口市 | C29: 大石桥市 | D29: C8HM210882 | E29: 高革线 | F29: 6300 | G29: 9300 | H29: 3 | I29: 184 | R29: =J29*0.4461+K29*0.1485+L29*0.15*0.004+I29*0.0145+M29*0.145+N29*0.015+O29*0.01+P29*0.16+Q29*0.2 -> 2.668
A30: 25 | B30: 营口市 | C30: 大石桥市 | D30: C8HN210882 | E30: 吉刘线 | F30: 0 | G30: 1100 | H30: 1.1 | I30: 136 | N30: 4 | R30: =J30*0.4461+K30*0.1485+L30*0.15*0.004+I30*0.0145+M30*0.145+N30*0.015+O30*0.01+P30*0.16+Q30*0.2 -> 2.032
A31: 26 | B31: 营口市 | C31: 大石桥市 | D31: C8I9210882 | E31: 长革线 | F31: 300 | G31: 500 | H31: 0.2 | I31: 60 | R31: =J31*0.4461+K31*0.1485+L31*0.15*0.004+I31*0.0145+M31*0.145+N31*0.015+O31*0.01+P31*0.16+Q31*0.2 -> 0.87
A32: 27 | B32: 营口市 | C32: 大石桥市 | D32: CROB210882 | E32: 岫小线 | F32: 0 | G32: 1300 | H32: 1.3 | I32: 100 | R32: =J32*0.4461+K32*0.1485+L32*0.15*0.004+I32*0.0145+M32*0.145+N32*0.015+O32*0.01+P32*0.16+Q32*0.2 -> 1.45
A33: 28 | B33: 营口市 | C33: 大石桥市 | D33: CR3C210882 | E33: 东小线 | F33: 100 | G33: 300 | H33: 0.2 | P33: 1 | R33: =J33*0.4461+K33*0.1485+L33*0.15*0.004+I33*0.0145+M33*0.145+N33*0.015+O33*0.01+P33*0.16+Q33*0.2 -> 0.16
A34: 29 | B34: 营口市 | C34: 大石桥市 | D34: CR3E210882 | E34: 后郑线 | F34: 0 | G34: 700 | H34: 0.7 | O34: 6 | R34: =J34*0.4461+K34*0.1485+L34*0.15*0.004+I34*0.0145+M34*0.145+N34*0.015+O34*0.01+P34*0.16+Q34*0.2 -> 0.06
A35: 30 | B35: 营口市 | C35: 大石桥市 | D35: CR4U210882 | E35: 后四线 | F35: 0 | G35: 400 | H35: 0.4 | I35: 60 | R35: =J35*0.4461+K35*0.1485+L35*0.15*0.004+I35*0.0145+M35*0.145+N35*0.015+O35*0.01+P35*0.16+Q35*0.2 -> 0.87
A36: 31 | B36: 营口市 | C36: 大石桥市 | D36: CR4V210882 | E36: 大刘线 | F36: 0 | G36: 400 | H36: 0.4 | I36: 376 | R36: =J36*0.4461+K36*0.1485+L36*0.15*0.004+I36*0.0145+M36*0.145+N36*0.015+O36*0.01+P36*0.16+Q36*0.2 -> 5.452
A37: 32 | B37: 营口市 | C37: 大石桥市 | D37: C8CY210882 | E37: 鲍保线 | F37: K0+000 | G37: 1800 | H37: 1.8 | I37: 296 | R37: =J37*0.4461+K37*0.1485+L37*0.15*0.004+I37*0.0145+M37*0.145+N37*0.015+O37*0.01+P37*0.16+Q37*0.2 -> 4.292
A38: 33 | B38: 营口市 | C38: 大石桥市 | D38: C8CZ210882 | E38: 北青线 | F38: 0 | G38: 3000 | H38: 3 | I38: 932 | R38: =J38*0.4461+K38*0.1485+L38*0.15*0.004+I38*0.0145+M38*0.145+N38*0.015+O38*0.01+P38*0.16+Q38*0.2 -> 13.514
A39: 34 | B39: 营口市 | C39: 大石桥市 | D39: C8GA210882 | E39: 沟西线 | F39: 1000 | G39: 4000 | H39: 3 | I39: 592 | R39: =J39*0.4461+K39*0.1485+L39*0.15*0.004+I39*0.0145+M39*0.145+N39*0.015+O39*0.01+P39*0.16+Q39*0.2 -> 8.584
A40: 35 | B40: 营口市 | C40: 大石桥市 | D40: C8GA210882 | E40: 沟西线 | F40: 0 | G40: 700 | H40: 0.7 | I40: 260 | R40: =J40*0.4461+K40*0.1485+L40*0.15*0.004+I40*0.0145+M40*0.145+N40*0.015+O40*0.01+P40*0.16+Q40*0.2 -> 3.77
A41: 36 | B41: 营口市 | C41: 大石桥市 | D41: C8DS210882 | E41: 外新线 | F41: 0 | G41: 3000 | H41: 3 | K41: 6 | R41: =J41*0.4461+K41*0.1485+L41*0.15*0.004+I41*0.0145+M41*0.145+N41*0.015+O41*0.01+P41*0.16+Q41*0.2 -> 0.891
A42: 37 | B42: 营口市 | C42: 大石桥市 | D42: C8GY210882 | E42: 顾付线 | F42: 200 | G42: 2000 | H42: 1.8 | I42: 328 | R42: =J42*0.4461+K42*0.1485+L42*0.15*0.004+I42*0.0145+M42*0.145+N42*0.015+O42*0.01+P42*0.16+Q42*0.2 -> 4.756
A43: 38 | B43: 营口市 | C43: 大石桥市 | D43: C8GX210882 | E43: 顾于线 | F43: 600 | G43: 900 | H43: 0.3 | K43: 4 | R43: =J43*0.4461+K43*0.1485+L43*0.15*0.004+I43*0.0145+M43*0.145+N43*0.015+O43*0.01+P43*0.16+Q43*0.2 -> 0.594
A44: 111 | B44: 营口市 | C44: 老边区 | D44: C8BX210811 | E44: 于家线 | F44: K0+000 | G44: K0+870 | H44: 0.9 | I44: 200 | N44: 4 | R44: =J44*0.4461+K44*0.1485+L44*0.15*0.004+I44*0.0145+M44*0.145+N44*0.015+O44*0.01+P44*0.16+Q44*0.2 -> 2.96
A45: 112 | B45: 营口市 | C45: 老边区 | D45: C80F210811 | E45: 双前线 | F45: K0+500 | G45: K3+500 | H45: 3 | I45: 70 | N45: 4 | R45: =J45*0.4461+K45*0.1485+L45*0.15*0.004+I45*0.0145+M45*0.145+N45*0.015+O45*0.01+P45*0.16+Q45*0.2 -> 1.075
A46: 113 | B46: 营口市 | C46: 老边区 | D46: C8E2210811 | E46: 老庙一线 | F46: K0+000 | G46: K1+100 | H46: 1.1 | I46: 20 | K46: 12 | N46: 8 | R46: =J46*0.4461+K46*0.1485+L46*0.15*0.004+I46*0.0145+M46*0.145+N46*0.015+O46*0.01+P46*0.16+Q46*0.2 -> 2.192
A47: 114 | B47: 营口市 | C47: 老边区 | D47: C8B0210811 | E47: 香炉四线 | F47: K0+000 | G47: K2+790 | H47: 2.8 | I47: 700 | K47: 8 | N47: 2 | R47: =J47*0.4461+K47*0.1485+L47*0.15*0.004+I47*0.0145+M47*0.145+N47*0.015+O47*0.01+P47*0.16+Q47*0.2 -> 11.368
A48: 115 | B48: 营口市 | C48: 老边区 | D48: C800210811 | E48: 西前线 | F48: K0+750 | G48: K3+750 | H48: 3 | I48: 900 | K48: 8 | N48: 8 | R48: =J48*0.4461+K48*0.1485+L48*0.15*0.004+I48*0.0145+M48*0.145+N48*0.015+O48*0.01+P48*0.16+Q48*0.2 -> 14.358
A49: 116 | B49: 营口市 | C49: 老边区 | D49: C8S9210811 | E49: 和平1线 | F49: K0+000 | G49: K1+599 | H49: 1.6 | I49: 50 | K49: 4 | N49: 4 | R49: =J49*0.4461+K49*0.1485+L49*0.15*0.004+I49*0.0145+M49*0.145+N49*0.015+O49*0.01+P49*0.16+Q49*0.2 -> 1.379
A50: 117 | B50: 营口市 | C50: 老边区 | D50: C825210811 | E50: 东岗1线 | F50: K0+000 | G50: K1+320 | H50: 1.3 | I50: 300 | K50: 2 | N50: 4 | R50: =J50*0.4461+K50*0.1485+L50*0.15*0.004+I50*0.0145+M50*0.145+N50*0.015+O50*0.01+P50*0.16+Q50*0.2 -> 4.707
A51: 118 | B51: 营口市 | C51: 老边区 | D51: C8S2210811 | E51: 小平1线 | F51: K0+000 | G51: K0+790 | H51: 0.8 | I51: 200 | K51: 4 | N51: 4 | R51: =J51*0.4461+K51*0.1485+L51*0.15*0.004+I51*0.0145+M51*0.145+N51*0.015+O51*0.01+P51*0.16+Q51*0.2 -> 3.554
A52: 119 | B52: 营口市 | C52: 老边区 | D52: C8Q7210811 | E52: 东大2线 | F52: K0+000 | G52: K2+790 | H52: 2.8 | K52: 4 | N52: 8 | R52: =J52*0.4461+K52*0.1485+L52*0.15*0.004+I52*0.0145+M52*0.145+N52*0.015+O52*0.01+P52*0.16+Q52*0.2 -> 0.714
A53: 123 | B53: 营口市 | C53: 盖州市 | D53: CR15210881 | E53: 庄二线 | F53: K0+000 | G53: K0+100 | H53: 0.1 | I53: 30 | K53: 4 | P53: 1 | Q53: 2 | R53: =J53*0.4461+K53*0.1485+L53*0.15*0.004+I53*0.0145+M53*0.145+N53*0.015+O53*0.01+P53*0.16+Q53*0.2 -> 1.589
A54: 127 | B54: 营口市 | C54: 盖州市 | D54: C877210881 | E54: 罗柞线 | F54: K1+400 | G54: K4+200 | H54: 2.8 | I54: 810 | K54: 12 | Q54: 2 | R54: =J54*0.4461+K54*0.1485+L54*0.15*0.004+I54*0.0145+M54*0.145+N54*0.015+O54*0.01+P54*0.16+Q54*0.2 -> 13.927
A55: 133 | B55: 营口市 | C55: 盖州市 | D55: C869210881 | E55: 庙福线 | F55: K0+400 | G55: K0+900 | H55: 0.5 | I55: 290 | K55: 8 | R55: =J55*0.4461+K55*0.1485+L55*0.15*0.004+I55*0.0145+M55*0.145+N55*0.015+O55*0.01+P55*0.16+Q55*0.2 -> 5.393
A56: 146 | B56: 营口市 | C56: 盖州市 | D56: CRBW210881 | E56: 七大线 | F56: K0+400 | G56: K0+600 | H56: 0.2 | I56: 50 | K56: 1 | R56: =J56*0.4461+K56*0.1485+L56*0.15*0.004+I56*0.0145+M56*0.145+N56*0.015+O56*0.01+P56*0.16+Q56*0.2 -> 0.8735
A57: 147 | B57: 营口市 | C57: 盖州市 | D57: CRDQ210881 | E57: 七西线 | F57: K0+100 | G57: K0+200 | H57: 0.1 | I57: 20 | K57: 7 | R57: =J57*0.4461+K57*0.1485+L57*0.15*0.004+I57*0.0145+M57*0.145+N57*0.015+O57*0.01+P57*0.16+Q57*0.2 -> 1.3295
A58: 148 | B58: 营口市 | C58: 盖州市 | D58: CR07210881 | E58: 岔老线 | F58: K1+200 | G58: K1+400 | H58: 0.2 | I58: 80 | K58: 5 | R58: =J58*0.4461+K58*0.1485+L58*0.15*0.004+I58*0.0145+M58*0.145+N58*0.015+O58*0.01+P58*0.16+Q58*0.2 -> 1.9025
A59: 149 | B59: 营口市 | C59: 盖州市 | D59: C8YX210881 | E59: 东刺线 | F59: K0+700 | G59: K0+900 | H59: 0.2 | I59: 50 | K59: 5 | R59: =J59*0.4461+K59*0.1485+L59*0.15*0.004+I59*0.0145+M59*0.145+N59*0.015+O59*0.01+P59*0.16+Q59*0.2 -> 1.4675
A60: 155 | B60: 营口市 | C60: 盖州市 | D60: C82B210881 | E60: 高英线 | F60: K0+000 | G60: K0+600 | H60: 0.6 | I60: 110 | K60: 2 | R60: =J60*0.4461+K60*0.1485+L60*0.15*0.004+I60*0.0145+M60*0.145+N60*0.015+O60*0.01+P60*0.16+Q60*0.2 -> 1.892
A61: 157 | B61: 营口市 | C61: 盖州市 | D61: C8ZL210881 | E61: 小泉线 | F61: K0+200 | G61: K0+600 | H61: 0.4 | I61: 250 | R61: =J61*0.4461+K61*0.1485+L61*0.15*0.004+I61*0.0145+M61*0.145+N61*0.015+O61*0.01+P61*0.16+Q61*0.2 -> 3.625
A62: 161 | B62: 营口市 | C62: 盖州市 | D62: C881210881 | E62: 松杨线 | F62: K0+400 | G62: K0+500 | H62: 0.1 | I62: 100 | K62: 5 | R62: =J62*0.4461+K62*0.1485+L62*0.15*0.004+I62*0.0145+M62*0.145+N62*0.015+O62*0.01+P62*0.16+Q62*0.2 -> 2.1925
A63: 168 | B63: 营口市 | C63: 盖州市 | D63: CR2X210881 | E63: 田罗线 | F63: K0+000 | G63: K0+100 | H63: 0.1 | I63: 24 | K63: 1 | R63: =J63*0.4461+K63*0.1485+L63*0.15*0.004+I63*0.0145+M63*0.145+N63*0.015+O63*0.01+P63*0.16+Q63*0.2 -> 0.4965
A64: 169 | B64: 营口市 | C64: 盖州市 | D64: C8ZA210881 | E64: 田连线 | F64: K2+200 | G64: K2+300 | H64: 0.1 | I64: 100 | K64: 7 | R64: =J64*0.4461+K64*0.1485+L64*0.15*0.004+I64*0.0145+M64*0.145+N64*0.015+O64*0.01+P64*0.16+Q64*0.2 -> 2.4895
A65: 182 | B65: 营口市 | C65: 盖州市 | D65: C8UP210881 | E65: 小东线 | F65: K1+100 | G65: K1+500 | H65: 0.4 | I65: 330 | K65: 5 | R65: =J65*0.4461+K65*0.1485+L65*0.15*0.004+I65*0.0145+M65*0.145+N65*0.015+O65*0.01+P65*0.16+Q65*0.2 -> 5.5275
A66: 183 | B66: 营口市 | C66: 盖州市 | D66: CRAG210881 | E66: 杨宋线 | F66: K1+000 | G66: K1+200 | H66: 0.2 | I66: 180 | K66: 5 | R66: =J66*0.4461+K66*0.1485+L66*0.15*0.004+I66*0.0145+M66*0.145+N66*0.015+O66*0.01+P66*0.16+Q66*0.2 -> 3.3525
A67: 184 | B67: 营口市 | C67: 盖州市 | D67: C8UV210881 | E67: 老山线 | F67: K0+000 | G67: K0+900 | H67: 0.9 | I67: 860 | K67: 3 | R67: =J67*0.4461+K67*0.1485+L67*0.15*0.004+I67*0.0145+M67*0.145+N67*0.015+O67*0.01+P67*0.16+Q67*0.2 -> 12.9155
A68: 185 | B68: 营口市 | C68: 盖州市 | D68: CR1A210881 | E68: 大锅线 | F68: K0+100 | G68: K0+900 | H68: 0.8 | I68: 500 | K68: 3 | R68: =J68*0.4461+K68*0.1485+L68*0.15*0.004+I68*0.0145+M68*0.145+N68*0.015+O68*0.01+P68*0.16+Q68*0.2 -> 7.6955
A69: 187 | B69: 营口市 | C69: 盖州市 | D69: CR9K210881 | E69: 于东线 | F69: K0+100 | G69: K0+300 | H69: 0.2 | I69: 130 | K69: 3 | R69: =J69*0.4461+K69*0.1485+L69*0.15*0.004+I69*0.0145+M69*0.145+N69*0.015+O69*0.01+P69*0.16+Q69*0.2 -> 2.3305
A70: 191 | B70: 营口市 | C70: 盖州市 | D70: C8VT210881 | E70: 塔马线 | F70: K2+200 | G70: K3+400 | H70: 1.2 | I70: 1200 | K70: 7 | R70: =J70*0.4461+K70*0.1485+L70*0.15*0.004+I70*0.0145+M70*0.145+N70*0.015+O70*0.01+P70*0.16+Q70*0.2 -> 18.4395
A71: 250 | B71: 营口市 | C71: 盖州市 | D71: C8QN210881 | E71: 张唐线 | F71: K0+100 | G71: K0+300 | H71: 0.2 | I71: 50 | K71: 5 | R71: =J71*0.4461+K71*0.1485+L71*0.15*0.004+I71*0.0145+M71*0.145+N71*0.015+O71*0.01+P71*0.16+Q71*0.2 -> 1.4675

Sheet 阜新2019
A1: 辽宁省2019年村级公路安防工程预安排计划
A2: 序号 | B2: 市 | C2: 县 | D2: 公路编号 | E2: 路线 名称 | F2: 起点 桩号 | G2: 终点 桩号 | H2: 里程 （公里） | I2: 处置工程数量 | R2: 投资 估算 （万元）
I3: 钢护栏长度（米） | J3: 标志数量 | L3: 标线 长度（米） | M3: 警示诱导设施 | Q3: 减速丘（个）
J4: 悬臂式（个） | K4: 单柱式（个） | M4: 线形诱导标（个） | N4: 道口 标柱（个） | O4: 示警桩（个） | P4: 凸面反光镜（个） | R4: 燃油税 | S4: 车购税
H5: =SUM(H6:H1120) -> 822.5 | I5: =SUM(I6:I1120) -> 30750 | J5: =SUM(J6:J1120) -> 0 | K5: =SUM(K6:K1120) -> 3841 | L5: =SUM(L6:L1120) -> 11400 | M5: =SUM(M6:M1120) -> 69 | N5: =SUM(N6:N1120) -> 974 | O5: =SUM(O6:O1120) -> 9 | ... R5: =SUM(R6:R1120) -> 1096.8
A6: 1 | B6: 阜新市 | C6: 阜蒙县 | D6: C94K210921 | E6: 四好线 | F6: k0+000 | G6: k0+100 | H6: 0.1 | K6: 1 | N6: 4 | R6: 0.2
A7: 2 | B7: 阜新市 | C7: 阜蒙县 | D7: C94K210921 | E7: 四好线 | F7: k1+100 | G7: k1+200 | H7: 0.1 | K7: 2 | N7: 4 | R7: 0.4
A8: 3 | B8: 阜新市 | C8: 阜蒙县 | D8: C94K210921 | E8: 四好线 | F8: k1+400 | G8: k1+500 | H8: 0.1 | K8: 2 | R8: 0.3
A9: 4 | B9: 阜新市 | C9: 阜蒙县 | D9: C94K210921 | E9: 四好线 | F9: k2+100 | G9: k2+200 | H9: 0.1 | K9: 1 | N9: 4 | R9: 0.2
A10: 5 | B10: 阜新市 | C10: 阜蒙县 | D10: C94K210921 | E10: 四好线 | F10: k2+600 | G10: k2+700 | H10: 0.1 | K10: 2 | R10: 0.3
A11: 6 | B11: 阜新市 | C11: 阜蒙县 | D11: C94L210921 | E11: 四八线 | F11: k0+000 | G11: k0+200 | H11: 0.2 | K11: 1 | N11: 4 | R11: 0.2
A12: 7 | B12: 阜新市 | C12: 阜蒙县 | D12: C94L210921 | E12: 四八线 | F12: k0+700 | G12: k0+800 | H12: 0.1 | K12: 2 | R12: 0.3
A13: 8 | B13: 阜新市 | C13: 阜蒙县 | D13: C94L210921 | E13: 四八线 | F13: k1+100 | G13: k1+200 | H13: 0.1 | K13: 2 | R13: 0.3
A14: 9 | B14: 阜新市 | C14: 阜蒙县 | D14: CSJ8210921 | E14: 道何线 | F14: k0+500 | G14: k0+700 | H14: 0.2 | K14: 2 | R14: 0.3
A15: 10 | B15: 阜新市 | C15: 阜蒙县 | D15: CSJ8210921 | E15: 道何线 | F15: k1+400 | G15: k2+000 | H15: 0.6 | K15: 2 | R15: 0.3
A16: 11 | B16: 阜新市 | C16: 阜蒙县 | D16: CSJ8210921 | E16: 红白线 | F16: k0+000 | G16: k0+100 | H16: 0.1 | K16: 1 | N16: 4 | R16: 0.2
A17: 12 | B17: 阜新市 | C17: 阜蒙县 | D17: CSJ8210921 | E17: 红白线 | F17: k1+000 | G17: k1+100 | H17: 0.1 | K17: 2 | R17: 0.3
A18: 13 | B18: 阜新市 | C18: 阜蒙县 | D18: CSJ8210921 | E18: 红白线 | F18: k1+500 | G18: k1+600 | H18: 0.1 | K18: 2 | N18: 4 | R18: 0.4
A19: 14 | B19: 阜新市 | C19: 阜蒙县 | D19: C94J210921 | E19: 红苏线 | F19: k0+000 | G19: k0+100 | H19: 0.1 | K19: 1 | N19: 4 | R19: 0.2
A20: 15 | B20: 阜新市 | C20: 阜蒙县 | D20: C94J210921 | E20: 红苏线 | F20: k0+000 | G20: k0+100 | H20: 0.1 | K20: 2 | R20: 0.3
A21: 16 | B21: 阜新市 | C21: 阜蒙县 | D21: C94J210921 | E21: 红苏线 | F21: k1+100 | G21: k2+000 | H21: 0.9 | K21: 4 | N21: 4 | R21: 0.7
A22: 17 | B22: 阜新市 | C22: 阜蒙县 | D22: C94J210921 | E22: 红苏线 | F22: k2+300 | G22: k2+400 | H22: 0.1 | I22: 150 | R22: 2.2
A23: 18 | B23: 阜新市 | C23: 阜蒙县 | D23: C94J210921 | E23: 红苏线 | F23: k2+900 | G23: k3+000 | H23: 0.1 | K23: 2 | R23: 0.3
A24: 19 | B24: 阜新市 | C24: 阜蒙县 | D24: CSJF210921 | E24: 八苏线 | F24: k0+000 | G24: k0+100 | H24: 0.1 | K24: 2 | R24: 0.3
A25: 20 | B25: 阜新市 | C25: 阜蒙县 | D25: CSJ4210921 | E25: 东一线 | F25: k0+300 | G25: k0+400 | H25: 0.1 | K25: 2 | N25: 4 | R25: 0.4
A26: 21 | B26: 阜新市 | C26: 阜蒙县 | D26: CSJ4210921 | E26: 东一线 | F26: k0+200 | G26: k0+300 | H26: 0.1 | K26: 2 | N26: 4 | R26: 0.4
A27: 22 | B27: 阜新市 | C27: 阜蒙县 | D27: CSJ4210921 | E27: 东一线 | F27: k2+600 | G27: k2+700 | H27: 0.1 | K27: 2 | R27: 0.3
A28: 23 | B28: 阜新市 | C28: 阜蒙县 | D28: CSJ7210921 | E28: 东瓦线 | F28: k0+000 | G28: k0+100 | H28: 0.1 | K28: 1 | N28: 4 | R28: 0.2
A29: 24 | B29: 阜新市 | C29: 阜蒙县 | D29: CSJ7210921 | E29: 东瓦线 | F29: k0+200 | G29: k0+300 | H29: 0.1 | K29: 2 | N29: 4 | R29: 0.4
A30: 25 | B30: 阜新市 | C30: 阜蒙县 | D30: CSJ7210921 | E30: 东瓦线 | F30: k1+600 | G30: k1+700 | H30: 0.1 | K30: 2 | N30: 4 | R30: 0.4
A31: 26 | B31: 阜新市 | C31: 阜蒙县 | D31: CSJ7210921 | E31: 东瓦线 | F31: k1+800 | G31: k1+900 | H31: 0.1 | K31: 2 | R31: 0.3
A32: 27 | B32: 阜新市 | C32: 阜蒙县 | D32: CSJ7210921 | E32: 东瓦线 | F32: k1+900 | G32: k2+000 | H32: 0.1 | K32: 2 | R32: 0.3
A33: 28 | B33: 阜新市 | C33: 阜蒙县 | D33: CS76210921 | E33: 道水线 | F33: k0+000 | G33: k1+700 | H33: 1.7 | K33: 2 | N33: 4 | R33: 0.4
A34: 29 | B34: 阜新市 | C34: 阜蒙县 | D34: CSJA210921 | E34: 红二线 | F34: k0+000 | G34: k0+100 | H34: 0.1 | K34: 2 | N34: 4 | R34: 0.4
A35: 30 | B35: 阜新市 | C35: 阜蒙县 | D35: CSJA210921 | E35: 红二线 | F35: k0+500 | G35: k0+700 | H35: 0.2 | K35: 2 | R35: 0.3
A36: 31 | B36: 阜新市 | C36: 阜蒙县 | D36: CSDV210921 | E36: 阜西线 | F36: k0+000 | G36: k0+100 | H36: 0.1 | K36: 1 | N36: 4 | R36: 0.2
A37: 32 | B37: 阜新市 | C37: 阜蒙县 | D37: CSDV210921 | E37: 阜西线 | F37: k1+600 | G37: k1+700 | H37: 0.1 | K37: 4 | R37: 0.6
A38: 33 | B38: 阜新市 | C38: 阜蒙县 | D38: CSDY210921 | E38: 麦红线 | F38: k0+000 | G38: k0+100 | H38: 0.1 | K38: 1 | N38: 4 | R38: 0.2
A39: 34 | B39: 阜新市 | C39: 阜蒙县 | D39: CSDY210921 | E39: 麦红线 | F39: k0+200 | G39: k0+300 | H39: 0.1 | K39: 2 | R39: 0.3
A40: 35 | B40: 阜新市 | C40: 阜蒙县 | D40: CSDY210921 | E40: 麦红线 | F40: k1+600 | G40: k1+700 | H40: 0.1 | K40: 2 | R40: 0.3
A41: 36 | B41: 阜新市 | C41: 阜蒙县 | D41: CSDY210921 | E41: 麦红线 | F41: k1+800 | G41: k1+900 | H41: 0.1 | K41: 2 | N41: 4 | R41: 0.4
A42: 37 | B42: 阜新市 | C42: 阜蒙县 | D42: CSDZ210921 | E42: 三红线 | F42: k0+000 | G42: k0+100 | H42: 0.1 | K42: 2 | N42: 4 | R42: 0.4
A43: 38 | B43: 阜新市 | C43: 阜蒙县 | D43: CSDZ210921 | E43: 三红线 | F43: k1+900 | G43: k2+000 | H43: 0.1 | K43: 2 | N43: 4 | R43: 0.4
A44: 39 | B44: 阜新市 | C44: 阜蒙县 | D44: CSDZ210921 | E44: 三红线 | F44: k2+600 | G44: k2+700 | H44: 0.1 | K44: 2 | N44: 4 | R44: 0.4
A45: 40 | B45: 阜新市 | C45: 阜蒙县 | D45: CSDZ210921 | E45: 三红线 | F45: k2+100 | G45: k2+200 | H45: 0.1 | I45: 110 | R45: 1.6
A46: 41 | B46: 阜新市 | C46: 阜蒙县 | D46: C94M210921 | E46: 麦腰线 | F46: k0+000 | G46: k0+100 | H46: 0.1 | K46: 1 | N46: 4 | R46: 0.2
A47: 42 | B47: 阜新市 | C47: 阜蒙县 | D47: C94M210921 | E47: 麦腰线 | F47: k0+300 | G47: k0+600 | H47: 0.3 | K47: 2 | N47: 4 | R47: 0.4
A48: 43 | B48: 阜新市 | C48: 阜蒙县 | D48: C94M210921 | E48: 麦腰线 | F48: k0+100 | G48: k1+300 | H48: 1.2 | K48: 2 | R48: 0.3
A49: 44 | B49: 阜新市 | C49: 阜蒙县 | D49: C94M210921 | E49: 麦腰线 | F49: k2+200 | G49: k2+300 | H49: 0.1 | K49: 2 | R49: 0.3
A50: 45 | B50: 阜新市 | C50: 阜蒙县 | D50: C94M210921 | E50: 麦腰线 | F50: k2+600 | G50: k2+700 | H50: 0.1 | K50: 2 | N50: 4 | R50: 0.4
A51: 46 | B51: 阜新市 | C51: 阜蒙县 | D51: C94M210921 | E51: 麦腰线 | F51: k3+400 | G51: k3+600 | H51: 0.2 | K51: 2 | R51: 0.3
A52: 47 | B52: 阜新市 | C52: 阜蒙县 | D52: C94M210921 | E52: 麦腰线 | F52: k3+600 | G52: k3+800 | H52: 0.2 | K52: 2 | R52: 0.3
A53: 48 | B53: 阜新市 | C53: 阜蒙县 | D53: C94M210921 | E53: 腰蒙线 | F53: k0+000 | G53: k0+100 | H53: 0.1 | K53: 2 | N53: 4 | R53: 0.4
A54: 49 | B54: 阜新市 | C54: 阜蒙县 | D54: C94M210921 | E54: 腰蒙线 | F54: k0+100 | G54: k0+400 | H54: 0.3 | K54: 2 | R54: 0.3
A55: 50 | B55: 阜新市 | C55: 阜蒙县 | D55: C94M210921 | E55: 腰蒙线 | F55: k1+500 | G55: k1+600 | H55: 0.1 | I55: 110 | K55: 2 | R55: 1.9
A56: 51 | B56: 阜新市 | C56: 阜蒙县 | D56: C94N210921 | E56: 腰红线 | F56: k1+200 | G56: k1+400 | H56: 0.2 | K56: 2 | R56: 0.3
A57: 52 | B57: 阜新市 | C57: 阜蒙县 | D57: CSJ9210921 | E57: 红柳线 | F57: k0+600 | G57: k1+200 | H57: 0.6 | I57: 350 | K57: 2 | R57: 5.4
A58: 53 | B58: 阜新市 | C58: 阜蒙县 | D58: CSJ9210921 | E58: 红柳线 | F58: k1+500 | G58: k1+700 | H58: 0.2 | K58: 2 | R58: 0.3
A59: 54 | B59: 阜新市 | C59: 阜蒙县 | D59: C94P210921 | E59: 下乌线 | F59: k2+400 | G59: k2+600 | H59: 0.2 | K59: 2 | R59: 0.3
A60: 55 | B60: 阜新市 | C60: 阜蒙县 | D60: C94P210921 | E60: 下乌线 | F60: k0+000 | G60: k0+300 | H60: 0.3 | K60: 2 | R60: 0.3
A61: 56 | B61: 阜新市 | C61: 阜蒙县 | D61: C94P210921 | E61: 下乌线 | F61: k0+700 | G61: k2+700 | H61: 2 | K61: 2 | R61: 0.3
A62: 57 | B62: 阜新市 | C62: 阜蒙县 | D62: C94P210921 | E62: 下乌线 | F62: k2+300 | G62: k2+700 | H62: 0.4 | K62: 2 | R62: 0.3
A63: 58 | B63: 阜新市 | C63: 阜蒙县 | D63: CSG9210921 | E63: 京前线 | F63: k0+000 | G63: k0+100 | H63: 0.1 | I63: 80 | R63: 1.2
A64: 59 | B64: 阜新市 | C64: 阜蒙县 | D64: CSG9210921 | E64: 京前线 | F64: k0+100 | G64: k0+800 | H64: 0.7 | K64: 2 | R64: 0.3
A65: 60 | B65: 阜新市 | C65: 阜蒙县 | D65: CS9D210921 | E65: 京三线 | F65: k0+400 | G65: k0+800 | H65: 0.4 | K65: 2 | R65: 0.3
A66: 61 | B66: 阜新市 | C66: 阜蒙县 | D66: CS9D210921 | E66: 京三线 | F66: k1+000 | G66: k1+200 | H66: 0.2 | K66: 2 | R66: 0.3
A67: 62 | B67: 阜新市 | C67: 阜蒙县 | D67: CSCX210921 | E67: 西哈线 | F67: k0+500 | G67: k0+700 | H67: 0.2 | K67: 2 | R67: 0.3
A68: 63 | B68: 阜新市 | C68: 阜蒙县 | D68: CSCX210921 | E68: 西哈线 | F68: k1+100 | G68: k1+200 | H68: 0.1 | K68: 2 | N68: 4 | R68: 0.4
A69: 64 | B69: 阜新市 | C69: 阜蒙县 | D69: CS9A210921 | E69: 良烟线 | F69: k0+000 | G69: k0+100 | H69: 0.1 | K69: 2 | N69: 4 | R69: 0.4
A70: 65 | B70: 阜新市 | C70: 阜蒙县 | D70: CS9A210921 | E70: 良烟线 | F70: k1+100 | G70: k1+300 | H70: 0.2 | K70: 2 | R70: 0.3
A71: 66 | B71: 阜新市 | C71: 阜蒙县 | D71: C938210921 | E71: 舍元线 | F71: k0+000 | G71: k0+100 | H71: 0.1 | K71: 1 | N71: 4 | R71: 0.2
A72: 67 | B72: 阜新市 | C72: 阜蒙县 | D72: C938210921 | E72: 舍元线 | F72: k0+100 | G72: k0+700 | H72: 0.6 | K72: 2 | R72: 0.3
A73: 68 | B73: 阜新市 | C73: 阜蒙县 | D73: CSJD210921 | E73: 五河线 | F73: k0+000 | G73: k0+100 | H73: 0.1 | K73: 1 | N73: 4 | R73: 0.2
A74: 69 | B74: 阜新市 | C74: 阜蒙县 | D74: CSJD210921 | E74: 五河线 | F74: k0+000 | G74: k0+800 | H74: 0.8 | K74: 2 | R74: 0.3
A75: 70 | B75: 阜新市 | C75: 阜蒙县 | D75: CSJD210921 | E75: 五河线 | F75: k2+600 | G75: k2+700 | H75: 0.1 | I75: 60 | K75: 2 | R75: 1.2
A76: 71 | B76: 阜新市 | C76: 阜蒙县 | D76: CS3A210921 | E76: 姜老线 | F76: k1+100 | G76: k1+200 | H76: 0.1 | K76: 2 | R76: 0.3
A77: 72 | B77: 阜新市 | C77: 阜蒙县 | D77: CS3A210921 | E77: 姜老线 | F77: k0+500 | G77: k0+600 | H77: 0.1 | K77: 2 | R77: 0.3
A78: 73 | B78: 阜新市 | C78: 阜蒙县 | D78: CS8E210921 | E78: 小干线 | F78: k0+000 | G78: k0+100 | H78: 0.1 | K78: 1 | N78: 4 | R78: 0.2
A79: 74 | B79: 阜新市 | C79: 阜蒙县 | D79: C951210921 | E79: 皂三线 | F79: k0+400 | G79: k0+500 | H79: 0.1 | K79: 2 | R79: 0.3
A80: 75 | B80: 阜新市 | C80: 阜蒙县 | D80: C951210921 | E80: 皂三线 | F80: k0+900 | G80: k1+300 | H80: 0.4 | K80: 2 | R80: 0.3
A81: 76 | B81: 阜新市 | C81: 阜蒙县 | D81: C951210921 | E81: 皂三线 | F81: k1+400 | G81: k1+500 | H81: 0.1 | K81: 2 | R81: 0.3
A82: 77 | B82: 阜新市 | C82: 阜蒙县 | D82: C951210921 | E82: 皂三线 | F82: k1+400 | G82: k1+500 | H82: 0.1 | I82: 50 | R82: 0.7
A83: 78 | B83: 阜新市 | C83: 阜蒙县 | D83: CSDL210921 | E83: 新南线 | F83: k1+300 | G83: k1+500 | H83: 0.2 | K83: 2 | R83: 0.3
A84: 79 | B84: 阜新市 | C84: 阜蒙县 | D84: CSDL210921 | E84: 新南线 | F84: k1+900 | G84: k2+100 | H84: 0.2 | K84: 2 | R84: 0.3
A85: 80 | B85: 阜新市 | C85: 阜蒙县 | D85: CSDG210921 | E85: 古库线 | F85: k0+000 | G85: k0+100 | H85: 0.1 | K85: 1 | N85: 4 | R85: 0.2
A86: 81 | B86: 阜新市 | C86: 阜蒙县 | D86: CSDG210921 | E86: 古库线 | F86: k0+100 | G86: k0+200 | H86: 0.1 | K86: 2 | R86: 0.3
A87: 82 | B87: 阜新市 | C87: 阜蒙县 | D87: CSDG210921 | E87: 古库线 | F87: k0+500 | G87: k0+900 | H87: 0.4 | K87: 2 | R87: 0.3
A88: 83 | B88: 阜新市 | C88: 阜蒙县 | D88: CSDG210921 | E88: 古库线 | F88: k3+500 | G88: k3+700 | H88: 0.2 | K88: 2 | R88: 0.3
A89: 84 | B89: 阜新市 | C89: 阜蒙县 | D89: CSDG210921 | E89: 古库线 | F89: k4+200 | G89: k4+400 | H89: 0.2 | K89: 2 | R89: 0.3
A90: 85 | B90: 阜新市 | C90: 阜蒙县 | D90: CSDG210921 | E90: 古库线 | F90: k6+400 | G90: k6+500 | H90: 0.1 | I90: 60 | R90: 0.9
A91: 86 | B91: 阜新市 | C91: 阜蒙县 | D91: CS37210921 | E91: 小哈线 | F91: k0+000 | G91: k0+100 | H91: 0.1 | K91: 3 | N91: 4 | R91: 0.5
A92: 87 | B92: 阜新市 | C92: 阜蒙县 | D92: CS37210921 | E92: 小哈线 | F92: k0+000 | G92: k0+700 | H92: 0.7 | I92: 1400 | R92: 20.3
A93: 88 | B93: 阜新市 | C93: 阜蒙县 | D93: CS37210921 | E93: 小哈线 | F93: k3+400 | G93: k3+700 | H93: 0.3 | I93: 300 | R93: 4.4
A94: 89 | B94: 阜新市 | C94: 阜蒙县 | D94: CSDE210921 | E94: 哈库线 | F94: k0+000 | G94: k0+100 | H94: 0.1 | K94: 1 | N94: 4 | R94: 0.2
A95: 90 | B95: 阜新市 | C95: 阜蒙县 | D95: C952210921 | E95: 北柳线 | F95: k0+000 | G95: k0+100 | H95: 0.1 | K95: 1 | N95: 4 | R95: 0.2
A96: 91 | B96: 阜新市 | C96: 阜蒙县 | D96: C952210921 | E96: 北柳线 | F96: k0+600 | G96: k0+700 | H96: 0.1 | I96: 60 | R96: 0.9
A97: 92 | B97: 阜新市 | C97: 阜蒙县 | D97: C952210921 | E97: 北柳线 | F97: k2+700 | G97: k2+800 | H97: 0.1 | I97: 30 | R97: 0.4
A98: 93 | B98: 阜新市 | C98: 阜蒙县 | D98: CS38210921 | E98: 哈柳线 | F98: k0+000 | G98: k0+100 | H98: 0.1 | K98: 1 | N98: 4 | R98: 0.2
A99: 94 | B99: 阜新市 | C99: 阜蒙县 | D99: CS39210921 | E99: 北二线 | F99: k0+000 | G99: k0+100 | H99: 0.1 | K99: 1 | N99: 4 | R99: 0.2
A100: 95 | B100: 阜新市 | C100: 阜蒙县 | D100: C94R210921 | E100: 巨新线 | F100: k0+000 | G100: k0+100 | H100: 0.1 | K100: 1 | R100: 0.1
...

Sheet 辽阳2019
A1: 辽宁省2019年村级公路安防工程预安排计划
A2: 序号 | B2: 市 | C2: 县 | D2: 公路编号 | E2: 路线 名称 | F2: 起点 桩号 | G2: 终点 桩号 | H2: 里程 （公里） | I2: 处置工程数量 | R2: 投资 估算 （万元）
I3: 钢护栏长度（米） | J3: 标志数量 | L3: 标线 长度（米） | M3: 警示诱导设施 | Q3: 减速丘（个）
J4: 悬臂式（个） | K4: 单柱式（个） | M4: 线形诱导标（个） | N4: 道口 标柱（个） | O4: 示警桩（个） | P4: 凸面反光镜（个） | R4: 燃油税 | S4: 车购税
H5: =SUM(H6:H181) -> 136.3 | I5: =SUM(I6:I181) -> 43805 | J5: =SUM(J6:J181) -> 0 | K5: =SUM(K6:K181) -> 319 | L5: =SUM(L6:L181) -> 474 | M5: =SUM(M6:M181) -> 8 | N5: =SUM(N6:N181) -> 136 | O5: =SUM(O6:O181) -> 0 | ... R5: =SUM(R6:R181) -> 687.9
A6: 1 | B6: 辽阳市 | C6: 灯塔市 | D6: CA46211081 | E6: 小康线 | F6: K0+400 | G6: K0+800 | H6: 0.4 | I6: 120 | R6: 1.7
A7: 2 | B7: 辽阳市 | C7: 灯塔市 | D7: CA51211081 | E7: 小尖线 | F7: K0+200 | G7: K0+300 | H7: 0.1 | I7: 60 | R7: 0.9
A8: 3 | B8: 辽阳市 | C8: 灯塔市 | D8: CA51211081 | E8: 小尖线 | F8: K0+300 | G8: K0+400 | H8: 0.1 | I8: 60 | R8: 0.9
A9: 4 | B9: 辽阳市 | C9: 灯塔市 | D9: CA5X211081 | E9: 尖东线 | F9: K0+300 | G9: K0+400 | H9: 0.1 | I9: 16 | R9: 0.2
A10: 5 | B10: 辽阳市 | C10: 灯塔市 | D10: CA5X211081 | E10: 尖东线 | F10: K0+700 | G10: K0+900 | H10: 0.2 | I10: 164 | R10: 2.4
A11: 6 | B11: 辽阳市 | C11: 灯塔市 | D11: CAWA211081 | E11: 腰石线 | F11: K0+100 | G11: K0+200 | H11: 0.1 | I11: 8 | R11: 0.1
A12: 7 | B12: 辽阳市 | C12: 灯塔市 | D12: CAWA211081 | E12: 腰石线 | F12: K0+200 | G12: K0+300 | H12: 0.1 | I12: 40 | R12: 0.6
A13: 8 | B13: 辽阳市 | C13: 灯塔市 | D13: CAWA211081 | E13: 腰石线 | F13: K0+300 | G13: K0+400 | H13: 0.1 | I13: 32 | R13: 0.5
A14: 9 | B14: 辽阳市 | C14: 灯塔市 | D14: CAWA211081 | E14: 腰石线 | F14: K0+500 | G14: K0+800 | H14: 0.3 | I14: 240 | R14: 3.5
A15: 10 | B15: 辽阳市 | C15: 灯塔市 | D15: CAE3211081 | E15: 聂后线 | F15: K0+900 | G15: K1+100 | H15: 0.2 | I15: 180 | R15: 2.6
A16: 11 | B16: 辽阳市 | C16: 灯塔市 | D16: CAE3211081 | E16: 聂后线 | F16: K2+500 | G16: K2+600 | H16: 0.1 | I16: 16 | R16: 0.2
A17: 12 | B17: 辽阳市 | C17: 灯塔市 | D17: CAE3211081 | E17: 聂后线 | F17: K2+600 | G17: K2+700 | H17: 0.1 | I17: 64 | R17: 0.9
... A31: 26 | B31: 辽阳市 | C31: 灯塔市 | D31: CA09211081 | E31: 茨连线 | F31: K0+700 | G31: K1+200 | H31: 0.5 | I31: 468 | R31: 6.8
A32: 27 | B32: 辽阳市 | C32: 灯塔市 | D32: CADL211081 | E32: 连罗线 | F32: K0+400 | G32: K0+500 | H32: 0.1 | I32: 32 | K32: 1 | R32: 0.6
A33: 28 | B33: 辽阳市 | C33: 灯塔市 | D33: CA8H211081 | E33: 松杨线 | F33: K0+600 | G33: K0+800 | H33: 0.2 | I33: 184 | R33: 2.7
A34: 29 | B34: 辽阳市 | C34: 灯塔市 | D34: CAF1211081 | E34: 公东线 | F34: K3+700 | G34: K3+900 | H34: 0.2 | I34: 156 | R34: 2.3
A35: 30 | B35: 辽阳市 | C35: 灯塔市 | D35: CA89211081 | E35: 官韩线 | F35: K0+100 | G35: K0+300 | H35: 0.2 | I35: 132 | R35: 1.9
A36: 31 | B36: 辽阳市 | C36: 灯塔市 | D36: CA89211081 | E36: 官韩线 | F36: K1+100 | G36: K1+200 | H36: 0.1 | I36: 24 | K36: 1 | R36: 0.5
A37: 32 | B37: 辽阳市 | C37: 灯塔市 | D37: CA89211081 | E37: 官韩线 | F37: K1+200 | G37: K1+300 | H37: 0.2 | I37: 104 | K37: 1 | R37: 1.7
A38: 33 | B38: 辽阳市 | C38: 灯塔市 | D38: CA89211081 | E38: 官韩线 | F38: K2+400 | G38: K3+400 | H38: 1 | I38: 920 | R38: 13.3
A39: 34 | B39: 辽阳市 | C39: 灯塔市 | D39: CA63211081 | E39: 甜下线 | F39: K0+500 | G39: K0+600 | H39: 0.1 | I39: 12 | K39: 1 | R39: 0.3
A40: 35 | B40: 辽阳市 | C40: 灯塔市 | D40: CA3K211081 | E40: 燕官线 | F40: K0+400 | G40: K1+300 | H40: 0.9 | I40: 836 | R40: 12.1
A41: 36 | B41: 辽阳市 | C41: 灯塔市 | D41: CA4K211081 | E41: 下马线 | F41: K2+500 | G41: K2+600 | H41: 0.1 | I41: 68 | R41: 1
A42: 37 | B42: 辽阳市 | C42: 灯塔市 | D42: CA4K211081 | E42: 下马线 | F42: K1+700 | G42: K1+800 | H42: 0.1 | I42: 16 | K42: 1 | R42: 0.4
A43: 38 | B43: 辽阳市 | C43: 灯塔市 | D43: CAG3211081 | E43: 后吕线 | F43: K0+500 | G43: K0+600 | H43: 0.1 | I43: 100 | R43: 1.5
A44: 39 | B44: 辽阳市 | C44: 灯塔市 | D44: CAG3211081 | E44: 后吕线 | F44: K0+600 | G44: K0+700 | H44: 0.1 | I44: 40 | R44: 0.6
A45: 40 | B45: 辽阳市 | C45: 灯塔市 | D45: CAG3211081 | E45: 后吕线 | F45: K3+500 | G45: K3+700 | H45: 0.2 | I45: 128 | R45: 1.9
A46: 41 | B46: 辽阳市 | C46: 灯塔市 | D46: CAG3211081 | E46: 后吕线 | F46: K4+100 | G46: K4+200 | H46: 0.1 | I46: 16 | R46: 0.2
A47: 42 | B47: 辽阳市 | C47: 灯塔市 | D47: CATC211081 | E47: 张小线 | F47: K0+700 | G47: K0+800 | H47: 0.1 | I47: 16 | R47: 0.2
A48: 43 | B48: 辽阳市 | C48: 灯塔市 | D48: CAG0211081 | E48: 灰崔线 | F48: K0+100 | G48: K0+200 | H48: 0.1 | I48: 68 | R48: 1
A49: 44 | B49: 辽阳市 | C49: 灯塔市 | D49: CA1I211081 | E49: 腰扁线 | F49: K0+500 | G49: K0+800 | H49: 0.3 | I49: 264 | R49: 3.8
A50: 45 | B50: 辽阳市 | C50: 灯塔市 | D50: CA1I211081 | E50: 腰扁线 | F50: K0+900 | G50: K1+100 | H50: 0.2 | I50: 124 | R50: 1.8
A51: 46 | B51: 辽阳市 | C51: 灯塔市 | D51: CA1I211081 | E51: 腰扁线 | F51: K1+200 | G51: K1+300 | H51: 0.1 | I51: 24 | R51: 0.3
A52: 47 | B52: 辽阳市 | C52: 灯塔市 | D52: CA1I211081 | E52: 腰扁线 | F52: K1+300 | G52: K1+500 | H52: 0.2 | I52: 112 | K52: 1 | R52: 1.8
A53: 48 | B53: 辽阳市 | C53: 灯塔市 | D53: CA6K211081 | E53: 长唐线 | F53: K0+000 | G53: K0+100 | H53: 0.1 | I53: 80 | R53: 1.2
A54: 49 | B54: 辽阳市 | C54: 灯塔市 | D54: CA6K211081 | E54: 长唐线 | F54: K0+800 | G54: K1+200 | H54: 0.4 | I54: 380 | K54: 1 | R54: 5.7
A55: 50 | B55: 辽阳市 | C55: 灯塔市 | D55: CAWT211081 | E55: 唐家线 | F55: K0+800 | G55: K1+400 | H55: 0.6 | I55: 588 | R55: 8.5
A56: 51 | B56: 辽阳市 | C56: 灯塔市 | D56: CAWT211081 | E56: 唐家线 | F56: K2+200 | G56: K2+400 | H56: 0.2 | I56: 160 | M56: 8 | R56: 3.5
A57: 52 | B57: 辽阳市 | C57: 灯塔市 | D57: CAWT211081 | E57: 唐家线 | F57: K2+500 | G57: K2+600 | H57: 0.1 | I57: 56 | R57: 0.8
A58: 53 | B58: 辽阳市 | C58: 灯塔市 | D58: CAWT211081 | E58: 唐家线 | F58: K2+700 | G58: K3+000 | H58: 0.3 | I58: 156 | R58: 2.3
A59: 54 | B59: 辽阳市 | C59: 灯塔市 | D59: CAF2211081 | E59: 黄沈线 | F59: K0+400 | G59: K0+500 | H59: 0.1 | I59: 84 | K59: 1 | R59: 1.4
A60: 55 | B60: 辽阳市 | C60: 灯塔市 | D60: CAF2211081 | E60: 黄沈线 | F60: K0+500 | G60: K0+600 | H60: 0.1 | I60: 48 | K60: 1 | R60: 0.8
A61: 56 | B61: 辽阳市 | C61: 灯塔市 | D61: CAF2211081 | E61: 黄沈线 | F61: K1+600 | G61: K1+700 | H61: 0.1 | I61: 72 | R61: 1
A62: 57 | B62: 辽阳市 | C62: 灯塔市 | D62: CAWS211081 | E62: 小朱线 | F62: K0+100 | G62: K0+200 | H62: 0.1 | I62: 76 | R62: 1.1
A63: 58 | B63: 辽阳市 | C63: 灯塔市 | D63: CA96211081 | E63: 河双线 | F63: K1+700 | G63: K1+200 | H63: 0.5 | I63: 492 | R63: 7.1
A64: 59 | B64: 辽阳市 | C64: 灯塔市 | D64: CAF8211081 | E64: 北邢线 | F64: K1+000 | G64: K1+100 | H64: 0.1 | I64: 40 | R64: 0.6
A65: 60 | B65: 辽阳市 | C65: 灯塔市 | D65: CA0I211081 | E65: 东四线 | F65: K1+800 | G65: K1+900 | H65: 0.1 | I65: 60 | R65: 0.9
A66: 61 | B66: 辽阳市 | C66: 灯塔市 | D66: CAL8211081 | E66: 五后线 | F66: K3+400 | G66: K3+500 | H66: 0.1 | I66: 76 | R66: 1.1
A67: 62 | B67: 辽阳市 | C67: 灯塔市 | D67: CAL8211081 | E67: 五后线 | F67: K3+800 | G67: K3+900 | H67: 0.1 | I67: 80 | R67: 1.2
A68: 63 | B68: 辽阳市 | C68: 灯塔市 | D68: CAL8211081 | E68: 五后线 | F68: K5+700 | G68: K5+900 | H68: 0.2 | I68: 112 | R68: 1.6
A69: 64 | B69: 辽阳市 | C69: 灯塔市 | D69: CAL8211081 | E69: 五后线 | F69: K8+100 | G69: K8+200 | H69: 0.1 | I69: 28 | R69: 0.4
A70: 65 | B70: 辽阳市 | C70: 灯塔市 | D70: CAL9211081 | E70: 野前线 | F70: K2+100 | G70: K2+200 | H70: 0.1 | I70: 92 | R70: 1.3
A71: 66 | B71: 辽阳市 | C71: 灯塔市 | D71: CAL9211081 | E71: 野前线 | F71: K2+300 | G71: K2+500 | H71: 0.2 | I71: 116 | R71: 1.7
A72: 67 | B72: 辽阳市 | C72: 灯塔市 | D72: CAL9211081 | E72: 野前线 | F72: K2+800 | G72: K3+100 | H72: 0.3 | I72: 300 | R72: 4.4
A73: 68 | B73: 辽阳市 | C73: 灯塔市 | D73: CAL9211081 | E73: 野前线 | F73: K0+100 | G73: K0+200 | H73: 0.1 | I73: 76 | R73: 1.1
A74: 69 | B74: 辽阳市 | C74: 灯塔市 | D74: CA3A211081 | E74: 大黑线 | F74: K0+400 | G74: K0+700 | H74: 0.3 | I74: 52 | K74: 2 | R74: 1.1
A75: 70 | B75: 辽阳市 | C75: 灯塔市 | D75: CA6E211081 | E75: 罗白线 | F75: K0+000 | G75: K0+200 | H75: 0.1 | I75: 36 | K75: 1 | R75: 0.7
A76: 71 | B76: 辽阳市 | C76: 灯塔市 | D76: CA6E211081 | E76: 罗白线 | F76: K0+600 | G76: K0+800 | H76: 0.1 | I76: 28 | K76: 1 | R76: 0.6
A77: 72 | B77: 辽阳市 | C77: 灯塔市 | D77: CAH7211081 | E77: 三砬线 | F77: K0+100 | G77: K0+500 | H77: 0.4 | I77: 384 | R77: 5.6
A78: 73 | B78: 辽阳市 | C78: 灯塔市 | D78: CAH7211081 | E78: 三砬线 | F78: K0+400 | G78: K0+500 | H78: 0.1 | I78: 60 | R78: 0.9
A79: 74 | B79: 辽阳市 | C79: 灯塔市 | D79: CAH7211081 | E79: 三砬线 | F79: K0+600 | G79: K0+700 | H79: 0.1 | I79: 60 | R79: 0.9
A80: 75 | B80: 辽阳市 | C80: 灯塔市 | D80: CAH7211081 | E80: 三砬线 | F80: K0+700 | G80: K0+800 | H80: 0.1 | I80: 28 | R80: 0.4
A81: 76 | B81: 辽阳市 | C81: 灯塔市 | D81: CA8I211081 | E81: 上毛线 | F81: K0+600 | G81: K0+700 | H81: 0.1 | I81: 44 | R81: 0.6
A82: 77 | B82: 辽阳市 | C82: 灯塔市 | D82: CA8I211081 | E82: 上毛线 | F82: K1+000 | G82: K1+100 | H82: 0.1 | I82: 100 | R82: 1.5
A83: 78 | B83: 辽阳市 | C83: 灯塔市 | D83: CA8I211081 | E83: 上毛线 | F83: K1+200 | G83: K1+600 | H83: 0.4 | I83: 264 | R83: 3.8
A84: 79 | B84: 辽阳市 | C84: 灯塔市 | D84: CA7K211081 | E84: 上罗线 | F84: K0+700 | G84: K2+300 | H84: 1.6 | I84: 1456 | K84: 2 | R84: 21.4
A85: 80 | B85: 辽阳市 | C85: 灯塔市 | D85: CA7K211081 | E85: 上罗线 | F85: K2+700 | G85: K2+800 | H85: 0.1 | I85: 44 | R85: 0.6
A86: 81 | B86: 辽阳市 | C86: 灯塔市 | D86: CA7K211081 | E86: 上罗线 | F86: K3+400 | G86: K3+500 | H86: 0.1 | I86: 44 | R86: 0.6
A87: 82 | B87: 辽阳市 | C87: 灯塔市 | D87: CA4I211081 | E87: 棉东线 | F87: K0+100 | G87: K0+300 | H87: 0.2 | I87: 156 | R87: 2.3
A88: 83 | B88: 辽阳市 | C88: 灯塔市 | D88: CA4I211081 | E88: 棉东线 | F88: K0+400 | G88: K0+500 | H88: 0.1 | I88: 72 | R88: 1
A89: 84 | B89: 辽阳市 | C89: 灯塔市 | D89: CA4I211081 | E89: 棉东线 | F89: K0+500 | G89: K0+600 | H89: 0.1 | I89: 64 | R89: 0.9
A90: 85 | B90: 辽阳市 | C90: 灯塔市 | D90: CA3I211081 | E90: 棉岭线 | F90: K0+500 | G90: K0+600 | H90: 0.1 | I90: 100 | R90: 1.5
A91: 86 | B91: 辽阳市 | C91: 灯塔市 | D91: CA3I211081 | E91: 棉岭线 | F91: K0+600 | G91: K0+700 | H91: 0.1 | I91: 80 | R91: 1.2
A92: 87 | B92: 辽阳市 | C92: 灯塔市 | D92: CAH3211081 | E92: 大兴线 | F92: K1+200 | G92: K1+500 | H92: 0.3 | I92: 272 | R92: 3.9
A93: 88 | B93: 辽阳市 | C93: 灯塔市 | D93: CAH3211081 | E93: 大兴线 | F93: K1+500 | G93: K1+900 | H93: 0.4 | I93: 344 | R93: 5
A94: 89 | B94: 辽阳市 | C94: 灯塔市 | D94: CAM1211081 | E94: 鸭马线 | F94: K0+700 | G94: K0+800 | H94: 0.1 | I94: 76 | R94: 1.1
A95: 90 | B95: 辽阳市 | C95: 灯塔市 | D95: CA77211081 | E95: 鸭汪线 | F95: K0+400 | G95: K0+500 | H95: 0.1 | I95: 56 | R95: 0.8
A96: 91 | B96: 辽阳市 | C96: 灯塔市 | D96: CA0C211081 | E96: 马古线 | F96: K0+200 | G96: K0+300 | H96: 0.1 | I96: 64 | R96: 0.9
... A109: 104 | B109: 辽阳市 | C109: 太子河区 | D109: CA4W211021 | E109: 黑后线 | F109: K0+000 | G109: K0+500 | H109: 0.5 | I109: 144 | R109: 2.1
A110: 105 | B110: 辽阳市 | C110: 太子河区 | D110: CAA4211021 | E110: 韩朝线 | F110: K0+200 | G110: K1+700 | H110: 1.2 | I110: 2008 | K110: 2 | N110: 4 | R110: 29.5
A111: 106 | B111: 辽阳市 | C111: 太子河区 | D111: CAA4211021 | E111: 韩朝线 | F111: K1+700 | G111: K3+800 | H111: 2.1 | I111: 4000 | K111: 2 | N111: 2 | R111: 58.3
A112: 107 | B112: 辽阳市 | C112: 太子河区 | D112: CAAJ211021 | E112: 沈金线 | F112: K0+200 | G112: K2+100 | H112: 1.9 | I112: 392 | K112: 6 | N112: 12 | R112: 6.8
A113: 108 | B113: 辽阳市 | C113: 太子河区 | D113: CA4V211021 | E113: 沙小线 | F113: K0+100 | G113: K2+000 | H113: 1.9 | I113: 388 | K113: 2 | N113: 4 | R113: 6
A114: 109 | B114: 辽阳市 | C114: 太子河区 | D114: CA7V211021 | E114: 沈张线 | F114: K0+100 | G114: K2+800 | H114: 2.7 | I114: 1480 | K114: 8 | N114: 4 | R114: 22.7
A115: 110 | B115: 辽阳市 | C115: 太子河区 | D115: CA7V211021 | E115: 沈张线 | F115: K3+400 | G115: K3+900 | H115: 0.5 | I115: 148 | K115: 1 | L115: 8 | N115: 2 | R115: 2.3
A116: 111 | B116: 辽阳市 | C116: 太子河区 | D116: CA19211011 | E116: 小大线 | F116: K0+000 | G116: K3+000 | H116: 3 | I116: 240 | K116: 8 | L116: 20 | N116: 12 | R116: 4.9
A117: 112 | B117: 辽阳市 | C117: 太子河区 | D117: CAAL211021 | E117: 黑养线 | F117: K0+000 | G117: K2+500 | H117: 2.5 | I117: 1044 | K117: 6 | N117: 4 | R117: 16.1
A118: 113 | B118: 辽阳市 | C118: 太子河区 | D118: CA9V211021 | E118: 东小线 | F118: K0+000 | G118: K2+100 | H118: 2.1 | I118: 776 | K118: 8 | N118: 16 | R118: 12.7
A119: 114 | B119: 辽阳市 | C119: 太子河区 | D119: CA9V211021 | E119: 东小线 | F119: K2+600 | G119: K5+600 | H119: 2.9 | I119: 844 | K119: 4 | N119: 8 | R119: 13
A120: 115 | B120: 辽阳市 | C120: 弓长岭区 | D120: CABO211005 | E120: 沈南线 | F120: K0+000 | G120: K2+400 | H120: 2.4 | K120: 8 | N120: 2 | R120: 1.2
A121: 116 | B121: 辽阳市 | C121: 弓长岭区 | D121: CAR3211005 | E121: 沈香线 | F121: K0+000 | G121: K1+400 | H121: 1.4 | K121: 4 | L121: 7 | R121: 0.6
A122: 117 | B122: 辽阳市 | C122: 弓长岭区 | D122: CA8O211005 | E122: 朴红线 | F122: K0+000 | G122: K1+000 | H122: 1 | K122: 5 | L122: 7 | R122: 0.7
A123: 118 | B123: 辽阳市 | C123: 弓长岭区 | D123: CA4P211005 | E123: 南三线 | F123: K0+000 | G123: K0+500 | H123: 0.5 | K123: 3 | L123: 7 | R123: 0.4
A124: 119 | B124: 辽阳市 | C124: 弓长岭区 | D124: CA2P211005 | E124: 沙农线 | F124: K0+000 | G124: K0+800 | H124: 0.8 | K124: 5 | L124: 7 | R124: 0.7
A125: 120 | B125: 辽阳市 | C125: 弓长岭区 | D125: CATJ211005 | E125: 小漩线 | F125: K0+000 | G125: K0+500 | H125: 0.5 | K125: 2 | R125: 0.3
...

Sheet 盘锦2019
A1: 辽宁省2019年村级公路安防工程预安排计划
A2: 序号 | B2: 市 | C2: 县 | D2: 公路编号 | E2: 路线 名称 | F2: 起点 桩号 | G2: 终点 桩号 | H2: 里程 （公里） | I2: 处置工程数量 | R2: 投资 估算 （万元）
I3: 钢护栏长度（米） | J3: 标志数量 | L3: 标线 长度（米） | M3: 警示诱导设施 | Q3: 减速丘（个）
J4: 悬臂式（个） | K4: 单柱式（个） | M4: 线形诱导标（个） | N4: 道口 标柱（个） | O4: 示警桩（个） | P4: 凸面反光镜（个）
H5: =SUM(H6:H197) -> 127.8 | I5: =SUM(I6:I197) -> 12604 | J5: =SUM(J6:J197) -> 0 | K5: =SUM(K6:K197) -> 585 | L5: =SUM(L6:L197) -> 0 | M5: =SUM(M6:M197) -> 1 | N5: =SUM(N6:N197) -> 690 | O5: =SUM(O6:O197) -> 0 | ... R5: =SUM(R6:R197) -> 280.8855
A6: 194 | B6: 盘锦市 | C6: 盘山县 | D6: CBOG | E6: 甜敬线 | F6: K0+000 | G6: K0+800 | H6: 0.8 | I6: 612 | K6: 5 | R6: =J6*0.4461+K6*0.1485+L6*0.15*0.004+I6*0.0145+M6*0.145+N6*0.015+O6*0.01+P6*0.16+Q6*0.2 -> 9.6165
A7: 195 | B7: 盘锦市 | C7: 盘山县 | D7: CBOD | E7: 小甜线 | F7: K0+000 | G7: K2+500 | H7: 2.5 | I7: 452 | K7: 4 | R7: =J7*0.4461+K7*0.1485+L7*0.15*0.004+I7*0.0145+M7*0.145+N7*0.015+O7*0.01+P7*0.16+Q7*0.2 -> 7.148
A8: 196 | B8: 盘锦市 | C8: 盘山县 | D8: CBOD | E8: 小甜线 | F8: K2+500 | G8: K5+400 | H8: 2.9 | I8: 2736 | K8: 3 | R8: =J8*0.4461+K8*0.1485+L8*0.15*0.004+I8*0.0145+M8*0.145+N8*0.015+O8*0.01+P8*0.16+Q8*0.2 -> 40.1175
A9: 197 | B9: 盘锦市 | C9: 盘山县 | D9: CBOH | E9: 甜孙线 | F9: K0+000 | G9: K1+600 | H9: 1.6 | I9: 32 | K9: 2 | N9: 12 | R9: =J9*0.4461+K9*0.1485+L9*0.15*0.004+I9*0.0145+M9*0.145+N9*0.015+O9*0.01+P9*0.16+Q9*0.2 -> 0.941
A10: 198 | B10: 盘锦市 | C10: 盘山县 | D10: CBO9 | E10: 东西线 | F10: K0+000 | G10: K0+800 | H10: 0.8 | I10: 360 | K10: 5 | N10: 4 | R10: =J10*0.4461+K10*0.1485+L10*0.15*0.004+I10*0.0145+M10*0.145+N10*0.015+O10*0.01+P10*0.16+Q10*0.2 -> 6.0225
A11: 200 | B11: 盘锦市 | C11: 盘山县 | D11: CBQ9 | E11: 园长线 | F11: K0+000 | G11: K2+700 | H11: 2.7 | I11: 116 | K11: 2 | R11: =J11*0.4461+K11*0.1485+L11*0.15*0.004+I11*0.0145+M11*0.145+N11*0.015+O11*0.01+P11*0.16+Q11*0.2 -> 1.979
A12: 203 | B12: 盘锦市 | C12: 盘山县 | D12: CBO4 | E12: 田黑线 | F12: K2+300 | G12: K5+000 | H12: 2.7 | I12: 56 | K12: 2 | R12: =J12*0.4461+K12*0.1485+L12*0.15*0.004+I12*0.0145+M12*0.145+N12*0.015+O12*0.01+P12*0.16+Q12*0.2 -> 1.109
A13: 204 | B13: 盘锦市 | C13: 盘山县 | D13: CBO5 | E13: 田黑线 | F13: K5+000 | G13: K6+700 | H13: 1.7 | I13: 84 | K13: 5 | N13: 4 | R13: =J13*0.4461+K13*0.1485+L13*0.15*0.004+I13*0.0145+M13*0.145+N13*0.015+O13*0.01+P13*0.16+Q13*0.2 -> 2.0205
A14: 206 | B14: 盘锦市 | C14: 盘山县 | D14: CBRE | E14: 沈仙线 | F14: K0+000 | G14: K0+500 | H14: 0.5 | I14: 72 | R14: =J14*0.4461+K14*0.1485+L14*0.15*0.004+I14*0.0145+M14*0.145+N14*0.015+O14*0.01+P14*0.16+Q14*0.2 -> 1.044
A15: 207 | B15: 盘锦市 | C15: 盘山县 | D15: CBNO | E15: 新沈线 | F15: K0+000 | G15: K2+500 | H15: 2.5 | I15: 136 | K15: 5 | N15: 28 | R15: =J15*0.4461+K15*0.1485+L15*0.15*0.004+I15*0.0145+M15*0.145+N15*0.015+O15*0.01+P15*0.16+Q15*0.2 -> 3.1345
A16: 211 | B16: 盘锦市 | C16: 盘山县 | D16: CHRJ | E16: 后横线 | F16: K0+000 | G16: K1+600 | H16: 1.6 | I16: 76 | K16: 4 | R16: =J16*0.4461+K16*0.1485+L16*0.15*0.004+I16*0.0145+M16*0.145+N16*0.015+O16*0.01+P16*0.16+Q16*0.2 -> 1.696
A17: 213 | B17: 盘锦市 | C17: 盘山县 | D17: CBN4 | E17: 中富线 | F17: K0+000 | G17: K1+600 | H17: 1.6 | I17: 68 | K17: 6 | N17: 4 | R17: =J17*0.4461+K17*0.1485+L17*0.15*0.004+I17*0.0145+M17*0.145+N17*0.015+O17*0.01+P17*0.16+Q17*0.2 -> 1.937
A18: 214 | B18: 盘锦市 | C18: 盘山县 | D18: CBWN | E18: 郭付线 | F18: K0+000 | G18: K3+000 | H18: 3 | I18: 112 | K18: 7 | N18: 6 | R18: =J18*0.4461+K18*0.1485+L18*0.15*0.004+I18*0.0145+M18*0.145+N18*0.015+O18*0.01+P18*0.16+Q18*0.2 -> 2.7535
A19: 215 | B19: 盘锦市 | C19: 盘山县 | D19: CBN5 | E19: 中长线 | F19: K0+000 | G19: K1+700 | H19: 1.7 | I19: 40 | K19: 9 | N19: 12 | R19: =J19*0.4461+K19*0.1485+L19*0.15*0.004+I19*0.0145+M19*0.145+N19*0.015+O19*0.01+P19*0.16+Q19*0.2 -> 2.0965
A20: 216 | B20: 盘锦市 | C20: 盘山县 | D20: CBMW | E20: 韩河线 | F20: K0+000 | G20: K2+500 | H20: 2.5 | I20: 48 | K20: 6 | N20: 8 | R20: =J20*0.4461+K20*0.1485+L20*0.15*0.004+I20*0.0145+M20*0.145+N20*0.015+O20*0.01+P20*0.16+Q20*0.2 -> 1.707
A21: 219 | B21: 盘锦市 | C21: 盘山县 | D21: CBMS | E21: 坝岗线 | F21: K0+000 | G21: K2+200 | H21: 2.2 | I21: 924 | K21: 10 | N21: 14 | R21: =J21*0.4461+K21*0.1485+L21*0.15*0.004+I21*0.0145+M21*0.145+N21*0.015+O21*0.01+P21*0.16+Q21*0.2 -> 15.093
A22: 220 | B22: 盘锦市 | C22: 盘山县 | D22: CBMP | E22: 双坝线 | F22: K0+000 | G22: K1+200 | H22: 1.2 | I22: 96 | K22: 2 | N22: 44 | R22: =J22*0.4461+K22*0.1485+L22*0.15*0.004+I22*0.0145+M22*0.145+N22*0.015+O22*0.01+P22*0.16+Q22*0.2 -> 2.349
A23: 221 | B23: 盘锦市 | C23: 盘山县 | D23: CHQQ | E23: 东双线 | F23: K0+000 | G23: K0+500 | H23: 0.5 | I23: 100 | K23: 4 | N23: 2 | R23: =J23*0.4461+K23*0.1485+L23*0.15*0.004+I23*0.0145+M23*0.145+N23*0.015+O23*0.01+P23*0.16+Q23*0.2 -> 2.074
A24: 223 | B24: 盘锦市 | C24: 盘山县 | D24: CBMO | E24: 林坝线 | F24: K0+000 | G24: K1+000 | H24: 1 | I24: 96 | K24: 8 | N24: 2 | R24: =J24*0.4461+K24*0.1485+L24*0.15*0.004+I24*0.0145+M24*0.145+N24*0.015+O24*0.01+P24*0.16+Q24*0.2 -> 2.61
A25: 224 | B25: 盘锦市 | C25: 盘山县 | D25: CHQZ | E25: 姜四线 | F25: K0+000 | G25: K0+800 | H25: 0.8 | I25: 96 | K25: 10 | N25: 18 | R25: =J25*0.4461+K25*0.1485+L25*0.15*0.004+I25*0.0145+M25*0.145+N25*0.015+O25*0.01+P25*0.16+Q25*0.2 -> 3.147
A26: 225 | B26: 盘锦市 | C26: 盘山县 | D26: CBQH | E26: 圈提线 | F26: K0+000 | G26: K0+400 | H26: 0.4 | I26: 248 | K26: 3 | N26: 4 | R26: =J26*0.4461+K26*0.1485+L26*0.15*0.004+I26*0.0145+M26*0.145+N26*0.015+O26*0.01+P26*0.16+Q26*0.2 -> 4.1015
A27: 227 | B27: 盘锦市 | C27: 盘山县 | D27: CBYS | E27: 八大线 | F27: K0+000 | G27: K1+900 | H27: 1.9 | I27: 80 | K27: 7 | N27: 6 | R27: =J27*0.4461+K27*0.1485+L27*0.15*0.004+I27*0.0145+M27*0.145+N27*0.015+O27*0.01+P27*0.16+Q27*0.2 -> 2.2895
A28: 234 | B28: 盘锦市 | C28: 盘山县 | D28: CBMG | E28: 大周线 | F28: K0+000 | G28: K1+800 | H28: 1.8 | I28: 200 | K28: 5 | N28: 12 | R28: =J28*0.4461+K28*0.1485+L28*0.15*0.004+I28*0.0145+M28*0.145+N28*0.015+O28*0.01+P28*0.16+Q28*0.2 -> 3.8225
A29: 242 | B29: 盘锦市 | C29: 盘山县 | D29: CHQB | E29: 宗三线 | F29: K0+000 | G29: K0+800 | H29: 0.8 | I29: 84 | K29: 2 | N29: 2 | R29: =J29*0.4461+K29*0.1485+L29*0.15*0.004+I29*0.0145+M29*0.145+N29*0.015+O29*0.01+P29*0.16+Q29*0.2 -> 1.545
A30: 244 | B30: 盘锦市 | C30: 盘山县 | D30: CBOB | E30: 孙甜线 | F30: K0+000 | G30: K0+600 | H30: 0.6 | I30: 516 | K30: 2 | R30: =J30*0.4461+K30*0.1485+L30*0.15*0.004+I30*0.0145+M30*0.145+N30*0.015+O30*0.01+P30*0.16+Q30*0.2 -> 7.779
A31: 246 | B31: 盘锦市 | C31: 盘山县 | D31: CBYQ | E31: 朱一线 | F31: K0+000 | G31: K2+300 | H31: 2.3 | I31: 176 | K31: 11 | N31: 22 | R31: =J31*0.4461+K31*0.1485+L31*0.15*0.004+I31*0.0145+M31*0.145+N31*0.015+O31*0.01+P31*0.16+Q31*0.2 -> 4.5155
A32: 249 | B32: 盘锦市 | C32: 盘山县 | D32: CBNZ | E32: 裴胡线 | F32: K0+000 | G32: K0+700 | H32: 0.7 | I32: 80 | K32: 4 | N32: 2 | R32: =J32*0.4461+K32*0.1485+L32*0.15*0.004+I32*0.0145+M32*0.145+N32*0.015+O32*0.01+P32*0.16+Q32*0.2 -> 1.784
A33: 254 | B33: 盘锦市 | C33: 盘山县 | D33: CBNI | E33: 大得线 | F33: K0+000 | G33: K2+200 | H33: 2.2 | I33: 28 | K33: 3 | N33: 4 | R33: =J33*0.4461+K33*0.1485+L33*0.15*0.004+I33*0.0145+M33*0.145+N33*0.015+O33*0.01+P33*0.16+Q33*0.2 -> 0.9115
A34: 256 | B34: 盘锦市 | C34: 盘山县 | D34: CHRH | E34: 小二线 | F34: K0+000 | G34: K1+200 | H34: 1.2 | I34: 36 | K34: 2 | N34: 4 | R34: =J34*0.4461+K34*0.1485+L34*0.15*0.004+I34*0.0145+M34*0.145+N34*0.015+O34*0.01+P34*0.16+Q34*0.2 -> 0.879
A35: 258 | B35: 盘锦市 | C35: 盘山县 | D35: CHVB | E35: 青沙线 | F35: K0+000 | G35: K1+100 | H35: 1.1 | I35: 180 | K35: 10 | N35: 4 | R35: =J35*0.4461+K35*0.1485+L35*0.15*0.004+I35*0.0145+M35*0.145+N35*0.015+O35*0.01+P35*0.16+Q35*0.2 -> 4.155
A36: 66 | B36: 盘锦市 | C36: 盘山县 | D36: CBYI | E36: 西岗线 | F36: K0+000 | G36: K2+500 | H36: 2.5 | I36: 120 | K36: 9 | R36: =J36*0.4461+K36*0.1485+L36*0.15*0.004+I36*0.0145+M36*0.145+N36*0.015+O36*0.01+P36*0.16+Q36*0.2 -> 3.0765
A37: 67 | B37: 盘锦市 | C37: 盘山县 | D37: CBYI | E37: 西岗线 | F37: K2+500 | G37: K5+159 | H37: 2.7 | I37: 392 | K37: 11 | R37: =J37*0.4461+K37*0.1485+L37*0.15*0.004+I37*0.0145+M37*0.145+N37*0.015+O37*0.01+P37*0.16+Q37*0.2 -> 7.3175
A38: 259 | B38: 盘锦市 | C38: 兴隆台区 | D38: CBXE | E38: 赵吴线 | F38: K0+000 | G38: K1+000 | H38: 1 | I38: 140 | K38: 4 | R38: =J38*0.4461+K38*0.1485+L38*0.15*0.004+I38*0.0145+M38*0.145+N38*0.015+O38*0.01+P38*0.16+Q38*0.2 -> 2.624
A39: 260 | B39: 盘锦市 | C39: 兴隆台区 | D39: CBXD | E39: 东南线 | F39: K0+000 | G39: K1+500 | H39: 1.5 | I39: 28 | K39: 5 | R39: =J39*0.4461+K39*0.1485+L39*0.15*0.004+I39*0.0145+M39*0.145+N39*0.015+O39*0.01+P39*0.16+Q39*0.2 -> 1.1485
A40: 261 | B40: 盘锦市 | C40: 兴隆台区 | D40: CBO8 | E40: 梁一线 | F40: K0+000 | G40: K1+000 | H40: 1 | K40: 5 | R40: =J40*0.4461+K40*0.1485+L40*0.15*0.004+I40*0.0145+M40*0.145+N40*0.015+O40*0.01+P40*0.16+Q40*0.2 -> 0.7425
A41: 262 | B41: 盘锦市 | C41: 兴隆台区 | D41: CBBI | E41: 王苏线 | F41: K0+000 | G41: K1+000 | H41: 1 | I41: 24 | K41: 4 | N41: 2 | R41: =J41*0.4461+K41*0.1485+L41*0.15*0.004+I41*0.0145+M41*0.145+N41*0.015+O41*0.01+P41*0.16+Q41*0.2 -> 0.972
A42: 263 | B42: 盘锦市 | C42: 双台子区 | D42: CBPK | E42: 南林线 | F42: K0+000 | G42: K0+200 | H42: 0.2 | K42: 3 | N42: 4 | R42: =J42*0.4461+K42*0.1485+L42*0.15*0.004+I42*0.0145+M42*0.145+N42*0.015+O42*0.01+P42*0.16+Q42*0.2 -> 0.5055
A43: 264 | B43: 盘锦市 | C43: 双台子区 | D43: CBPK | E43: 南林线 | F43: K0+500 | G43: K1+000 | H43: 0.5 | I43: 28 | K43: 4 | R43: =J43*0.4461+K43*0.1485+L43*0.15*0.004+I43*0.0145+M43*0.145+N43*0.015+O43*0.01+P43*0.16+Q43*0.2 -> 1
A44: 265 | B44: 盘锦市 | C44: 双台子区 | D44: CBN2 | E44: 中光线 | F44: K0+000 | G44: K0+100 | H44: 0.1 | K44: 1 | R44: =J44*0.4461+K44*0.1485+L44*0.15*0.004+I44*0.0145+M44*0.145+N44*0.015+O44*0.01+P44*0.16+Q44*0.2 -> 0.1485
A45: 266 | B45: 盘锦市 | C45: 双台子区 | D45: CBN2 | E45: 中光线 | F45: K0+500 | G45: K0+800 | H45: 0.3 | I45: 88 | K45: 2 | N45: 2 | R45: =J45*0.4461+K45*0.1485+L45*0.15*0.004+I45*0.0145+M45*0.145+N45*0.015+O45*0.01+P45*0.16+Q45*0.2 -> 1.603
A46: 267 | B46: 盘锦市 | C46: 双台子区 | D46: CBN2 | E46: 中光线 | F46: K1+000 | G46: K1+800 | H46: 0.8 | I46: 92 | K46: 7 | N46: 2 | R46: =J46*0.4461+K46*0.1485+L46*0.15*0.004+I46*0.0145+M46*0.145+N46*0.015+O46*0.01+P46*0.16+Q46*0.2 -> 2.4035
A47: 268 | B47: 盘锦市 | C47: 双台子区 | D47: CBJ2 | E47: 中五线 | F47: K0+300 | G47: K0+700 | H47: 0.4 | I47: 140 | N47: 4 | R47: =J47*0.4461+K47*0.1485+L47*0.15*0.004+I47*0.0145+M47*0.145+N47*0.015+O47*0.01+P47*0.16+Q47*0.2 -> 2.09
A48: 269 | B48: 盘锦市 | C48: 双台子区 | D48: CBJ5 | E48: 宋光线 | F48: K0+000 | G48: K0+200 | H48: 0.2 | K48: 2 | N48: 2 | R48: =J48*0.4461+K48*0.1485+L48*0.15*0.004+I48*0.0145+M48*0.145+N48*0.015+O48*0.01+P48*0.16+Q48*0.2 -> 0.327
A49: 270 | B49: 盘锦市 | C49: 双台子区 | D49: CBJ5 | E49: 宋光线 | F49: K0+800 | G49: K0+900 | H49: 0.1 | K49: 1 | R49: =J49*0.4461+K49*0.1485+L49*0.15*0.004+I49*0.0145+M49*0.145+N49*0.015+O49*0.01+P49*0.16+Q49*0.2 -> 0.1485
A50: 271 | B50: 盘锦市 | C50: 双台子区 | D50: CHV7 | E50: 环三线 | F50: K0+500 | G50: K1+900 | H50: 1.4 | I50: 220 | K50: 10 | N50: 6 | R50: =J50*0.4461+K50*0.1485+L50*0.15*0.004+I50*0.0145+M50*0.145+N50*0.015+O50*0.01+P50*0.16+Q50*0.2 -> 4.765
A51: 272 | B51: 盘锦市 | C51: 双台子区 | D51: CH27 | E51: 光环线 | F51: K0+300 | G51: K0+600 | H51: 0.3 | K51: 2 | N51: 4 | R51: =J51*0.4461+K51*0.1485+L51*0.15*0.004+I51*0.0145+M51*0.145+N51*0.015+O51*0.01+P51*0.16+Q51*0.2 -> 0.357
A52: 273 | B52: 盘锦市 | C52: 双台子区 | D52: CH28 | E52: 光辉线 | F52: K0+000 | G52: K1+700 | H52: 1.7 | K52: 2 | N52: 26 | R52: =J52*0.4461+K52*0.1485+L52*0.15*0.004+I52*0.0145+M52*0.145+N52*0.015+O52*0.01+P52*0.16+Q52*0.2 -> 0.687
A53: 274 | B53: 盘锦市 | C53: 双台子区 | D53: CBMY | E53: 光东线一段 | F53: K0+000 | G53: K0+400 | H53: 0.4 | K53: 3 | R53: =J53*0.4461+K53*0.1485+L53*0.15*0.004+I53*0.0145+M53*0.145+N53*0.015+O53*0.01+P53*0.16+Q53*0.2 -> 0.4455
A54: 275 | B54: 盘锦市 | C54: 双台子区 | D54: CBMY | E54: 光东线二段 | F54: K0+000 | G54: K0+200 | H54: 0.2 | I54: 92 | R54: =J54*0.4461+K54*0.1485+L54*0.15*0.004+I54*0.0145+M54*0.145+N54*0.015+O54*0.01+P54*0.16+Q54*0.2 -> 1.334
A55: 276 | B55: 盘锦市 | C55: 双台子区 | D55: CBMY | E55: 光东线二段 | F55: K0+700 | G55: K0+800 | H55: 0.1 | I55: 32 | N55: 2 | R55: =J55*0.4461+K55*0.1485+L55*0.15*0.004+I55*0.0145+M55*0.145+N55*0.015+O55*0.01+P55*0.16+Q55*0.2 -> 0.494
A56: 277 | B56: 盘锦市 | C56: 双台子区 | D56: CBJ1 | E56: 宋三线 | F56: K0+000 | G56: K0+100 | H56: 0.1 | K56: 1 | R56: =J56*0.4461+K56*0.1485+L56*0.15*0.004+I56*0.0145+M56*0.145+N56*0.015+O56*0.01+P56*0.16+Q56*0.2 -> 0.1485
A57: 278 | B57: 盘锦市 | C57: 双台子区 | D57: CBJ2 | E57: 宋三线 | F57: K1+000 | G57: K1+100 | H57: 0.1 | K57: 1 | R57: =J57*0.4461+K57*0.1485+L57*0.15*0.004+I57*0.0145+M57*0.145+N57*0.015+O57*0.01+P57*0.16+Q57*0.2 -> 0.1485
A58: 279 | B58: 盘锦市 | C58: 双台子区 | D58: CH2E | E58: 国宋线 | F58: K0+000 | G58: K0+200 | H58: 0.2 | N58: 4 | R58: =J58*0.4461+K58*0.1485+L58*0.15*0.004+I58*0.0145+M58*0.145+N58*0.015+O58*0.01+P58*0.16+Q58*0.2 -> 0.06
A59: 280 | B59: 盘锦市 | C59: 双台子区 | D59: CH2E | E59: 国宋线 | F59: K0+200 | G59: K0+300 | H59: 0.1 | K59: 1 | R59: =J59*0.4461+K59*0.1485+L59*0.15*0.004+I59*0.0145+M59*0.145+N59*0.015+O59*0.01+P59*0.16+Q59*0.2 -> 0.1485
A60: 281 | B60: 盘锦市 | C60: 双台子区 | D60: CH2E | E60: 国宋线 | F60: K0+500 | G60: K0+600 | H60: 0.1 | K60: 1 | R60: =J60*0.4461+K60*0.1485+L60*0.15*0.004+I60*0.0145+M60*0.145+N60*0.015+O60*0.01+P60*0.16+Q60*0.2 -> 0.1485
A61: 282 | B61: 盘锦市 | C61: 双台子区 | D61: CBYA | E61: 庄太线 | F61: K0+000 | G61: K0+100 | H61: 0.1 | K61: 1 | R61: =J61*0.4461+K61*0.1485+L61*0.15*0.004+I61*0.0145+M61*0.145+N61*0.015+O61*0.01+P61*0.16+Q61*0.2 -> 0.1485
A62: 283 | B62: 盘锦市 | C62: 双台子区 | D62: CBYA | E62: 庄太线 | F62: K0+100 | G62: K0+200 | H62: 0.1 | K62: 1 | R62: =J62*0.4461+K62*0.1485+L62*0.15*0.004+I62*0.0145+M62*0.145+N62*0.015+O62*0.01+P62*0.16+Q62*0.2 -> 0.1485
A63: 284 | B63: 盘锦市 | C63: 双台子区 | D63: CBYA | E63: 庄太线 | F63: K0+200 | G63: K0+300 | H63: 0.1 | K63: 1 | R63: =J63*0.4461+K63*0.1485+L63*0.15*0.004+I63*0.0145+M63*0.145+N63*0.015+O63*0.01+P63*0.16+Q63*0.2 -> 0.1485
A64: 285 | B64: 盘锦市 | C64: 双台子区 | D64: CBYA | E64: 庄太线 | F64: K0+500 | G64: K0+600 | H64: 0.1 | K64: 1 | R64: =J64*0.4461+K64*0.1485+L64*0.15*0.004+I64*0.0145+M64*0.145+N64*0.015+O64*0.01+P64*0.16+Q64*0.2 -> 0.1485
A65: 286 | B65: 盘锦市 | C65: 双台子区 | D65: CH21 | E65: 红七线 | F65: K0+000 | G65: K0+200 | H65: 0.2 | K65: 1 | N65: 6 | R65: =J65*0.4461+K65*0.1485+L65*0.15*0.004+I65*0.0145+M65*0.145+N65*0.015+O65*0.01+P65*0.16+Q65*0.2 -> 0.2385
A66: 287 | B66: 盘锦市 | C66: 双台子区 | D66: CH21 | E66: 红七线 | F66: K0+300 | G66: K0+600 | H66: 0.3 | I66: 32 | N66: 4 | R66: =J66*0.4461+K66*0.1485+L66*0.15*0.004+I66*0.0145+M66*0.145+N66*0.015+O66*0.01+P66*0.16+Q66*0.2 -> 0.524
A67: 288 | B67: 盘锦市 | C67: 双台子区 | D67: CH2B | E67: 学校线 | F67: K0+300 | G67: K0+800 | H67: 0.5 | N67: 14 | R67: =J67*0.4461+K67*0.1485+L67*0.15*0.004+I67*0.0145+M67*0.145+N67*0.015+O67*0.01+P67*0.16+Q67*0.2 -> 0.21
A68: 289 | B68: 盘锦市 | C68: 双台子区 | D68: CH2C | E68: 红八线 | F68: K0+000 | G68: K0+100 | H68: 0.1 | K68: 1 | R68: =J68*0.4461+K68*0.1485+L68*0.15*0.004+I68*0.0145+M68*0.145+N68*0.015+O68*0.01+P68*0.16+Q68*0.2 -> 0.1485
A69: 290 | B69: 盘锦市 | C69: 双台子区 | D69: CH2C | E69: 红八线 | F69: K0+200 | G69: K0+500 | H69: 0.3 | K69: 2 | N69: 2 | R69: =J69*0.4461+K69*0.1485+L69*0.15*0.004+I69*0.0145+M69*0.145+N69*0.015+O69*0.01+P69*0.16+Q69*0.2 -> 0.327
A70: 291 | B70: 盘锦市 | C70: 双台子区 | D70: CH2C | E70: 红八线 | F70: K0+900 | G70: K1+200 | H70: 0.3 | K70: 1 | N70: 2 | R70: =J70*0.4461+K70*0.1485+L70*0.15*0.004+I70*0.0145+M70*0.145+N70*0.015+O70*0.01+P70*0.16+Q70*0.2 -> 0.1785
A71: 292 | B71: 盘锦市 | C71: 双台子区 | D71: CH2A | E71: 谷西线 | F71: K0+000 | G71: 0+800 | H71: 0.8 | I71: 208 | K71: 5 | N71: 6 | R71: =J71*0.4461+K71*0.1485+L71*0.15*0.004+I71*0.0145+M71*0.145+N71*0.015+O71*0.01+P71*0.16+Q71*0.2 -> 3.8485
A72: 293 | B72: 盘锦市 | C72: 双台子区 | D72: CBPC | E72: 东赵线 | F72: K0+000 | G72: K0+400 | H72: 0.4 | K72: 1 | N72: 4 | R72: =J72*0.4461+K72*0.1485+L72*0.15*0.004+I72*0.0145+M72*0.145+N72*0.015+O72*0.01+P72*0.16+Q72*0.2 -> 0.2085
A73: 294 | B73: 盘锦市 | C73: 双台子区 | D73: CBPC | E73: 东赵线 | F73: K0+800 | G73: K0+900 | H73: 0.1 | N73: 6 | R73: =J73*0.4461+K73*0.1485+L73*0.15*0.004+I73*0.0145+M73*0.145+N73*0.015+O73*0.01+P73*0.16+Q73*0.2 -> 0.09
A74: 295 | B74: 盘锦市 | C74: 双台子区 | D74: CBJ4 | E74: 中小线 | F74: K0+000 | G74: K0+300 | H74: 0.3 | K74: 3 | N74: 12 | R74: =J74*0.4461+K74*0.1485+L74*0.15*0.004+I74*0.0145+M74*0.145+N74*0.015+O74*0.01+P74*0.16+Q74*0.2 -> 0.6255
A75: 296 | B75: 盘锦市 | C75: 双台子区 | D75: CBJ4 | E75: 中小线 | F75: K0+300 | G75: K0+600 | H75: 0.3 | N75: 12 | R75: =J75*0.4461+K75*0.1485+L75*0.15*0.004+I75*0.0145+M75*0.145+N75*0.015+O75*0.01+P75*0.16+Q75*0.2 -> 0.18
A76: 297 | B76: 盘锦市 | C76: 双台子区 | D76: CBP8 | E76: 中任线 | F76: K0+000 | G76: K0+200 | H76: 0.2 | I76: 148 | R76: =J76*0.4461+K76*0.1485+L76*0.15*0.004+I76*0.0145+M76*0.145+N76*0.015+O76*0.01+P76*0.16+Q76*0.2 -> 2.146
A77: 298 | B77: 盘锦市 | C77: 双台子区 | D77: CBP8 | E77: 中任线 | F77: K0+700 | G77: K1+000 | H77: 0.3 | I77: 56 | K77: 1 | R77: =J77*0.4461+K77*0.1485+L77*0.15*0.004+I77*0.0145+M77*0.145+N77*0.015+O77*0.01+P77*0.16+Q77*0.2 -> 0.9605
A78: 299 | B78: 盘锦市 | C78: 双台子区 | D78: CBP8 | E78: 中任线 | F78: K1+800 | G78: K1+900 | H78: 0.1 | K78: 1 | R78: =J78*0.4461+K78*0.1485+L78*0.15*0.004+I78*0.0145+M78*0.145+N78*0.015+O78*0.01+P78*0.16+Q78*0.2 -> 0.1485
A79: 300 | B79: 盘锦市 | C79: 双台子区 | D79: CACD | E79: 西环线 | F79: K0+000 | G79: K0+100 | H79: 0.1 | K79: 1 | N79: 4 | R79: =J79*0.4461+K79*0.1485+L79*0.15*0.004+I79*0.0145+M79*0.145+N79*0.015+O79*0.01+P79*0.16+Q79*0.2 -> 0.2085
A80: 301 | B80: 盘锦市 | C80: 双台子区 | D80: CACD | E80: 西环线 | F80: K0+800 | G80: K1+000 | H80: 0.2 | K80: 2 | R80: =J80*0.4461+K80*0.1485+L80*0.15*0.004+I80*0.0145+M80*0.145+N80*0.015+O80*0.01+P80*0.16+Q80*0.2 -> 0.297
A81: 302 | B81: 盘锦市 | C81: 双台子区 | D81: CACD | E81: 西环线 | F81: K1+400 | G81: K1+700 | H81: 0.3 | K81: 1 | N81: 2 | R81: =J81*0.4461+K81*0.1485+L81*0.15*0.004+I81*0.0145+M81*0.145+N81*0.015+O81*0.01+P81*0.16+Q81*0.2 -> 0.1785
A82: 303 | B82: 盘锦市 | C82: 双台子区 | D82: CBJ7 | E82: 杜任线 | F82: K0+000 | G82: K0+100 | H82: 0.1 | K82: 1 | R82: =J82*0.4461+K82*0.1485+L82*0.15*0.004+I82*0.0145+M82*0.145+N82*0.015+O82*0.01+P82*0.16+Q82*0.2 -> 0.1485
A83: 304 | B83: 盘锦市 | C83: 双台子区 | D83: CBJ7 | E83: 杜任线 | F83: K0+400 | G83: K0+900 | H83: 0.5 | K83: 4 | R83: =J83*0.4461+K83*0.1485+L83*0.15*0.004+I83*0.0145+M83*0.145+N83*0.015+O83*0.01+P83*0.16+Q83*0.2 -> 0.594
A84: 305 | B84: 盘锦市 | C84: 双台子区 | D84: CBP7 | E84: 友中线 | F84: K2+100 | G84: K2+400 | H84: 0.3 | K84: 3 | R84: =J84*0.4461+K84*0.1485+L84*0.15*0.004+I84*0.0145+M84*0.145+N84*0.015+O84*0.01+P84*0.16+Q84*0.2 -> 0.4455
A85: 306 | B85: 盘锦市 | C85: 双台子区 | D85: CBP7 | E85: 友中线 | F85: K2+500 | G85: K2+800 | H85: 0.3 | K85: 1 | N85: 8 | R85: =J85*0.4461+K85*0.1485+L85*0.15*0.004+I85*0.0145+M85*0.145+N85*0.015+O85*0.01+P85*0.16+Q85*0.2 -> 0.2685
A86: 307 | B86: 盘锦市 | C86: 双台子区 | D86: CHWU | E86: 中井线 | F86: K0+000 | G86: K0+300 | H86: 0.3 | K86: 3 | N86: 2 | R86: =J86*0.4461+K86*0.1485+L86*0.15*0.004+I86*0.0145+M86*0.145+N86*0.015+O86*0.01+P86*0.16+Q86*0.2 -> 0.4755
A87: 308 | B87: 盘锦市 | C87: 双台子区 | D87: CHWU | E87: 中井线 | F87: K0+400 | G87: K0+800 | H87: 0.4 | K87: 2 | N87: 24 | R87: =J87*0.4461+K87*0.1485+L87*0.15*0.004+I87*0.0145+M87*0.145+N87*0.015+O87*0.01+P87*0.16+Q87*0.2 -> 0.657
A88: 309 | B88: 盘锦市 | C88: 双台子区 | D88: CHWU | E88: 中井线 | F88: K1+100 | G88: K1+400 | H88: 0.3 | N88: 8 | R88: =J88*0.4461+K88*0.1485+L88*0.15*0.004+I88*0.0145+M88*0.145+N88*0.015+O88*0.01+P88*0.16+Q88*0.2 -> 0.12
A89: 310 | B89: 盘锦市 | C89: 双台子区 | D89: CBJ3 | E89: 中镇线 | F89: K0+000 | G89: K0+100 | H89: 0.1 | K89: 1 | R89: =J89*0.4461+K89*0.1485+L89*0.15*0.004+I89*0.0145+M89*0.145+N89*0.015+O89*0.01+P89*0.16+Q89*0.2 -> 0.1485
A90: 311 | B90: 盘锦市 | C90: 双台子区 | D90: CBJ3 | E90: 中镇线 | F90: K0+900 | G90: K1+000 | H90: 0.1 | N90: 2 | R90: =J90*0.4461+K90*0.1485+L90*0.15*0.004+I90*0.0145+M90*0.145+N90*0.015+O90*0.01+P90*0.16+Q90*0.2 -> 0.03
A91: 312 | B91: 盘锦市 | C91: 双台子区 | D91: CBM6 | E91: 院区路 | F91: K0+900 | G91: K1+000 | H91: 0.1 | K91: 1 | R91: =J91*0.4461+K91*0.1485+L91*0.15*0.004+I91*0.0145+M91*0.145+N91*0.015+O91*0.01+P91*0.16+Q91*0.2 -> 0.1485
A92: 313 | B92: 盘锦市 | C92: 双台子区 | D92: CBPR | E92: 水电路 | F92: K0+000 | G92: K0+500 | H92: 0.5 | K92: 5 | R92: =J92*0.4461+K92*0.1485+L92*0.15*0.004+I92*0.0145+M92*0.145+N92*0.015+O92*0.01+P92*0.16+Q92*0.2 -> 0.7425
A93: 314 | B93: 盘锦市 | C93: 双台子区 | D93: CBPR | E93: 水电路 | F93: K1+100 | G93: K1+200 | H93: 0.1 | K93: 1 | R93: =J93*0.4461+K93*0.1485+L93*0.15*0.004+I93*0.0145+M93*0.145+N93*0.015+O93*0.01+P93*0.16+Q93*0.2 -> 0.1485
A94: 315 | B94: 盘锦市 | C94: 双台子区 | D94: CBQR | E94: 五一线 | F94: K0+000 | G94: K0+600 | H94: 0.6 | K94: 3 | R94: =J94*0.4461+K94*0.1485+L94*0.15*0.004+I94*0.0145+M94*0.145+N94*0.015+O94*0.01+P94*0.16+Q94*0.2 -> 0.4455
A95: 316 | B95: 盘锦市 | C95: 双台子区 | D95: CBQR | E95: 五一线 | F95: K1+100 | G95: K1+300 | H95: 0.2 | K95: 2 | R95: =J95*0.4461+K95*0.1485+L95*0.15*0.004+I95*0.0145+M95*0.145+N95*0.015+O95*0.01+P95*0.16+Q95*0.2 -> 0.297
A96: 317 | B96: 盘锦市 | C96: 双台子区 | D96: CBQR | E96: 五一线 | F96: K2+400 | G96: K2+500 | H96: 0.1 | K96: 1 | R96: =J96*0.4461+K96*0.1485+L96*0.15*0.004+I96*0.0145+M96*0.145+N96*0.015+O96*0.01+P96*0.16+Q96*0.2 -> 0.1485
A97: 318 | B97: 盘锦市 | C97: 双台子区 | D97: CBOJ | E97: 青庄线 | F97: K0+000 | G97: K0+700 | H97: 0.7 | I97: 32 | K97: 4 | N97: 6 | R97: =J97*0.4461+K97*0.1485+L97*0.15*0.004+I97*0.0145+M97*0.145+N97*0.015+O97*0.01+P97*0.16+Q97*0.2 -> 1.148
A98: 319 | B98: 盘锦市 | C98: 双台子区 | D98: CBOJ | E98: 青庄线 | F98: K1+000 | G98: K1+700 | H98: 0.7 | I98: 16 | K98: 4 | R98: =J98*0.4461+K98*0.1485+L98*0.15*0.004+I98*0.0145+M98*0.145+N98*0.015+O98*0.01+P98*0.16+Q98*0.2 -> 0.826
A99: 320 | B99: 盘锦市 | C99: 双台子区 | D99: CBOJ | E99: 青庄线 | F99: K2+400 | G99: K2+600 | H99: 0.2 | K99: 2 | R99: =J99*0.4461+K99*0.1485+L99*0.15*0.004+I99*0.0145+M99*0.145+N99*0.015+O99*0.01+P99*0.16+Q99*0.2 -> 0.297
A100: 321 | B100: 盘锦市 | C100: 双台子区 | D100: CHU7 | E100: 窦秃线 | F100: K+800 | G100: K2+000 | H100: 1.2 | I100: 60 | K100: 7 | N100: 10 | R100: =J100*0.4461+K100*0.1485+L100*0.15*0.004+I100*0.0145+M100*0.145+N100*0.015+O100*0.01+P100*0.16+Q100*0.2 -> 2.0595
...

Sheet 铁岭2019
A1: 辽宁省2019年村级公路安防工程预安排计划
A2: 序号 | B2: 市 | C2: 县 | D2: 公路编号 | E2: 路线 名称 | F2: 起点 桩号 | G2: 终点 桩号 | H2: 里程 （公里） | I2: 处置工程数量 | R2: 投资 估算 （万元）
I3: 钢护栏长度（米） | J3: 标志数量 | L3: 标线 长度（米） | M3: 警示诱导设施 | Q3: 减速丘（个）
J4: 悬臂式（个） | K4: 单柱式（个） | M4: 线形诱导标（个） | N4: 道口 标柱（个） | O4: 示警桩（个） | P4: 凸面反光镜（个）
H5: =SUM(H6:H446) -> 837.205 | I5: =SUM(I6:I446) -> 93407 | J5: =SUM(J6:J446) -> 0 | K5: =SUM(K6:K446) -> 2090 | L5: =SUM(L6:L446) -> 7480 | M5: =SUM(M6:M446) -> 46 | N5: =SUM(N6:N446) -> 1724 | O5: =SUM(O6:O446) -> 953 | ... R5: =SUM(R6:R446) -> 1719.5145
A6: 1 | B6: 铁岭市 | C6: 铁岭县 | D6: CVTD211221 | E6: 宋达线 | F6: 0 | G6: 1000 | H6: =(G6-F6)/1000 -> 1 | I6: 500 | K6: 1 | R6: =J6*0.4461+K6*0.1485+L6*0.15*0.004+I6*0.0145+M6*0.145+N6*0.015+O6*0.01+P6*0.16+Q6*0.2 -> 7.3985
A7: 2 | B7: 铁岭市 | C7: 铁岭县 | D7: CCVZ211221 | E7: 扬南线 | F7: 0 | G7: 400 | H7: =(G7-F7)/1000 -> 0.4 | I7: 124 | O7: 8 | R7: =J7*0.4461+K7*0.1485+L7*0.15*0.004+I7*0.0145+M7*0.145+N7*0.015+O7*0.01+P7*0.16+Q7*0.2 -> 1.878
A8: 3 | B8: 铁岭市 | C8: 铁岭县 | D8: CCVZ211221 | E8: 扬南线 | F8: 400 | G8: 2500 | H8: =(G8-F8)/1000 -> 2.1 | I8: 764 | K8: 2 | N8: 4 | R8: =J8*0.4461+K8*0.1485+L8*0.15*0.004+I8*0.0145+M8*0.145+N8*0.015+O8*0.01+P8*0.16+Q8*0.2 -> 11.435
A9: 4 | B9: 铁岭市 | C9: 铁岭县 | D9: CVTC211221 | E9: 安诸线 | F9: 0 | G9: 2100 | H9: =(G9-F9)/1000 -> 2.1 | I9: 56 | K9: 1 | R9: =J9*0.4461+K9*0.1485+L9*0.15*0.004+I9*0.0145+M9*0.145+N9*0.015+O9*0.01+P9*0.16+Q9*0.2 -> 0.9605
A10: 5 | B10: 铁岭市 | C10: 铁岭县 | D10: CCH7211221 | E10: 下青线 | F10: 2500 | G10: 4900 | H10: =(G10-F10)/1000 -> 2.4 | I10: 28 | K10: 2 | R10: =J10*0.4461+K10*0.1485+L10*0.15*0.004+I10*0.0145+M10*0.145+N10*0.015+O10*0.01+P10*0.16+Q10*0.2 -> 0.703
A11: 6 | B11: 铁岭市 | C11: 铁岭县 | D11: CCH7211221 | E11: 下青线 | F11: 1500 | G11: 2200 | H11: =(G11-F11)/1000 -> 0.7 | I11: 132 | K11: 2 | R11: =J11*0.4461+K11*0.1485+L11*0.15*0.004+I11*0.0145+M11*0.145+N11*0.015+O11*0.01+P11*0.16+Q11*0.2 -> 2.211
A12: 7 | B12: 铁岭市 | C12: 铁岭县 | D12: CCLG211221 | E12: 望石线 | F12: 0 | G12: 700 | H12: =(G12-F12)/1000 -> 0.7 | I12: 132 | K12: 2 | O12: 8 | R12: =J12*0.4461+K12*0.1485+L12*0.15*0.004+I12*0.0145+M12*0.145+N12*0.015+O12*0.01+P12*0.16+Q12*0.2 -> 2.291
A13: 8 | B13: 铁岭市 | C13: 铁岭县 | D13: CCLD211221 | E13: 兴望线 | F13: 0 | G13: 1700 | H13: =(G13-F13)/1000 -> 1.7 | I13: 92 | K13: 13 | R13: =J13*0.4461+K13*0.1485+L13*0.15*0.004+I13*0.0145+M13*0.145+N13*0.015+O13*0.01+P13*0.16+Q13*0.2 -> 3.2645
A14: 9 | B14: 铁岭市 | C14: 铁岭县 | D14: CVRB211221 | E14: 催张线 | F14: 0 | G14: 3000 | H14: =(G14-F14)/1000 -> 3 | I14: 56 | K14: 4 | R14: =J14*0.4461+K14*0.1485+L14*0.15*0.004+I14*0.0145+M14*0.145+N14*0.015+O14*0.01+P14*0.16+Q14*0.2 -> 1.406
A15: 10 | B15: 铁岭市 | C15: 铁岭县 | D15: CVRB211221 | E15: 催张线 | F15: 3300 | G15: 6300 | H15: =(G15-F15)/1000 -> 3 | I15: 340 | K15: 11 | O15: 8 | R15: =J15*0.4461+K15*0.1485+L15*0.15*0.004+I15*0.0145+M15*0.145+N15*0.015+O15*0.01+P15*0.16+Q15*0.2 -> 6.6435
A16: 11 | B16: 铁岭市 | C16: 铁岭县 | D16: CVRB211221 | E16: 催张线 | F16: 6700 | G16: 7700 | H16: =(G16-F16)/1000 -> 1 | I16: 144 | K16: 1 | R16: =J16*0.4461+K16*0.1485+L16*0.15*0.004+I16*0.0145+M16*0.145+N16*0.015+O16*0.01+P16*0.16+Q16*0.2 -> 2.2365
A17: 12 | B17: 铁岭市 | C17: 铁岭县 | D17: CCM2211221 | E17: 小菊线 | F17: 3000 | G17: 6000 | H17: =(G17-F17)/1000 -> 3 | I17: 622 | K17: 4 | R17: =J17*0.4461+K17*0.1485+L17*0.15*0.004+I17*0.0145+M17*0.145+N17*0.015+O17*0.01+P17*0.16+Q17*0.2 -> 9.613
A18: 13 | B18: 铁岭市 | C18: 铁岭县 | D18: CCM2211221 | E18: 小菊线 | F18: 6000 | G18: 8600 | H18: =(G18-F18)/1000 -> 2.6 | I18: 236 | K18: 7 | O18: 8 | R18: =J18*0.4461+K18*0.1485+L18*0.15*0.004+I18*0.0145+M18*0.145+N18*0.015+O18*0.01+P18*0.16+Q18*0.2 -> 4.5415
A19: 14 | B19: 铁岭市 | C19: 铁岭县 | D19: CCM2211221 | E19: 小菊线 | F19: 8600 | G19: 9900 | H19: =(G19-F19)/1000 -> 1.3 | I19: 620 | K19: 6 | R19: =J19*0.4461+K19*0.1485+L19*0.15*0.004+I19*0.0145+M19*0.145+N19*0.015+O19*0.01+P19*0.16+Q19*0.2 -> 9.881
A20: 15 | B20: 铁岭市 | C20: 铁岭县 | D20: CCLC211221 | E20: 腰榆线 | F20: 0 | G20: 2000 | H20: =(G20-F20)/1000 -> 2 | I20: 240 | K20: 2 | R20: =J20*0.4461+K20*0.1485+L20*0.15*0.004+I20*0.0145+M20*0.145+N20*0.015+O20*0.01+P20*0.16+Q20*0.2 -> 3.777
A21: 16 | B21: 铁岭市 | C21: 铁岭县 | D21: CVRF211221 | E21: 黄东线 | F21: 0 | G21: 2500 | H21: =(G21-F21)/1000 -> 2.5 | I21: 260 | K21: 7 | O21: 8 | R21: =J21*0.4461+K21*0.1485+L21*0.15*0.004+I21*0.0145+M21*0.145+N21*0.015+O21*0.01+P21*0.16+Q21*0.2 -> 4.8895
A22: 17 | B22: 铁岭市 | C22: 铁岭县 | D22: CVSH211221 | E22: 黄柳线 | F22: 0 | G22: 1100 | H22: =(G22-F22)/1000 -> 1.1 | I22: 100 | K22: 1 | M22: 5 | R22: =J22*0.4461+K22*0.1485+L22*0.15*0.004+I22*0.0145+M22*0.145+N22*0.015+O22*0.01+P22*0.16+Q22*0.2 -> 2.3235
A23: 18 | B23: 铁岭市 | C23: 铁岭县 | D23: CCLB211221 | E23: 金泥线 | F23: 0 | G23: 1000 | H23: =(G23-F23)/1000 -> 1 | I23: 144 | K23: 1 | R23: =J23*0.4461+K23*0.1485+L23*0.15*0.004+I23*0.0145+M23*0.145+N23*0.015+O23*0.01+P23*0.16+Q23*0.2 -> 2.2365
A24: 19 | B24: 铁岭市 | C24: 铁岭县 | D24: CCLA211221 | E24: 徐台线 | F24: 0 | G24: 900 | H24: =(G24-F24)/1000 -> 0.9 | I24: 132 | K24: 2 | R24: =J24*0.4461+K24*0.1485+L24*0.15*0.004+I24*0.0145+M24*0.145+N24*0.015+O24*0.01+P24*0.16+Q24*0.2 -> 2.211
A25: 20 | B25: 铁岭市 | C25: 铁岭县 | D25: CCLE211221 | E25: 花崔线 | F25: 0 | G25: 3000 | H25: =(G25-F25)/1000 -> 3 | I25: 348 | K25: 8 | N25: 4 | R25: =J25*0.4461+K25*0.1485+L25*0.15*0.004+I25*0.0145+M25*0.145+N25*0.015+O25*0.01+P25*0.16+Q25*0.2 -> 6.294
A26: 21 | B26: 铁岭市 | C26: 铁岭县 | D26: CCLH211221 | E26: 马柴线 | F26: 0 | G26: 1500 | H26: =(G26-F26)/1000 -> 1.5 | I26: 356 | K26: 4 | R26: =J26*0.4461+K26*0.1485+L26*0.15*0.004+I26*0.0145+M26*0.145+N26*0.015+O26*0.01+P26*0.16+Q26*0.2 -> 5.756
A27: 22 | B27: 铁岭市 | C27: 铁岭县 | D27: CCM4211221 | E27: 三柴线 | F27: 0 | G27: 3000 | H27: =(G27-F27)/1000 -> 3 | I27: 728 | K27: 4 | R27: =J27*0.4461+K27*0.1485+L27*0.15*0.004+I27*0.0145+M27*0.145+N27*0.015+O27*0.01+P27*0.16+Q27*0.2 -> 11.15
A28: 23 | B28: 铁岭市 | C28: 铁岭县 | D28: CCM4211221 | E28: 三柴线 | F28: 3000 | G28: 6000 | H28: =(G28-F28)/1000 -> 3 | I28: 1768 | K28: 4 | R28: =J28*0.4461+K28*0.1485+L28*0.15*0.004+I28*0.0145+M28*0.145+N28*0.015+O28*0.01+P28*0.16+Q28*0.2 -> 26.23
A29: 24 | B29: 铁岭市 | C29: 铁岭县 | D29: CCLI211221 | E29: 椴毛线 | F29: 0 | G29: 2000 | H29: =(G29-F29)/1000 -> 2 | I29: 276 | K29: 4 | O29: 8 | R29: =J29*0.4461+K29*0.1485+L29*0.15*0.004+I29*0.0145+M29*0.145+N29*0.015+O29*0.01+P29*0.16+Q29*0.2 -> 4.676
A30: 25 | B30: 铁岭市 | C30: 铁岭县 | D30: CCKM211221 | E30: 大石线 | F30: 2000 | G30: 3000 | H30: =(G30-F30)/1000 -> 1 | I30: 128 | K30: 5 | R30: =J30*0.4461+K30*0.1485+L30*0.15*0.004+I30*0.0145+M30*0.145+N30*0.015+O30*0.01+P30*0.16+Q30*0.2 -> 2.5985
A31: 26 | B31: 铁岭市 | C31: 铁岭县 | D31: CCKN211221 | E31: 棋小线 | F31: 600 | G31: 3000 | H31: =(G31-F31)/1000 -> 2.4 | I31: 364 | K31: 2 | R31: =J31*0.4461+K31*0.1485+L31*0.15*0.004+I31*0.0145+M31*0.145+N31*0.015+O31*0.01+P31*0.16+Q31*0.2 -> 5.575
A32: 27 | B32: 铁岭市 | C32: 铁岭县 | D32: CCKH211221 | E32: 二三线 | F32: 0 | G32: 1900 | H32: =(G32-F32)/1000 -> 1.9 | I32: 316 | K32: 3 | R32: =J32*0.4461+K32*0.1485+L32*0.15*0.004+I32*0.0145+M32*0.145+N32*0.015+O32*0.01+P32*0.16+Q32*0.2 -> 5.0275
A33: 28 | B33: 铁岭市 | C33: 铁岭县 | D33: CCKB211221 | E33: 黑古线 | F33: 0 | G33: 1700 | H33: =(G33-F33)/1000 -> 1.7 | I33: 336 | K33: 4 | R33: =J33*0.4461+K33*0.1485+L33*0.15*0.004+I33*0.0145+M33*0.145+N33*0.015+O33*0.01+P33*0.16+Q33*0.2 -> 5.466
A34: 29 | B34: 铁岭市 | C34: 铁岭县 | D34: CCBF211221 | E34: 线太线 | F34: 3000 | G34: 5600 | H34: =(G34-F34)/1000 -> 2.6 | I34: 220 | K34: 2 | R34: =J34*0.4461+K34*0.1485+L34*0.15*0.004+I34*0.0145+M34*0.145+N34*0.015+O34*0.01+P34*0.16+Q34*0.2 -> 3.487
A35: 30 | B35: 铁岭市 | C35: 铁岭县 | D35: CCBF211221 | E35: 线太线 | F35: 5600 | G35: 7500 | H35: =(G35-F35)/1000 -> 1.9 | I35: 820 | R35: =J35*0.4461+K35*0.1485+L35*0.15*0.004+I35*0.0145+M35*0.145+N35*0.015+O35*0.01+P35*0.16+Q35*0.2 -> 11.89
A36: 31 | B36: 铁岭市 | C36: 铁岭县 | D36: CCKP211221 | E36: 后拔线 | F36: 100 | G36: 1600 | H36: =(G36-F36)/1000 -> 1.5 | I36: 132 | K36: 1 | R36: =J36*0.4461+K36*0.1485+L36*0.15*0.004+I36*0.0145+M36*0.145+N36*0.015+O36*0.01+P36*0.16+Q36*0.2 -> 2.0625
A37: 32 | B37: 铁岭市 | C37: 铁岭县 | D37: CVSP211221 | E37: 陈下线 | F37: 3000 | G37: 3700 | H37: =(G37-F37)/1000 -> 0.7 | I37: 448 | K37: 3 | R37: =J37*0.4461+K37*0.1485+L37*0.15*0.004+I37*0.0145+M37*0.145+N37*0.015+O37*0.01+P37*0.16+Q37*0.2 -> 6.9415
A38: 33 | B38: 铁岭市 | C38: 铁岭县 | D38: CCLA211221 | E38: 徐台线 | F38: 0 | G38: 1100 | H38: =(G38-F38)/1000 -> 1.1 | I38: 188 | K38: 1 | N38: 4 | O38: 8 | R38: =J38*0.4461+K38*0.1485+L38*0.15*0.004+I38*0.0145+M38*0.145+N38*0.015+O38*0.01+P38*0.16+Q38*0.2 -> 3.0145
A39: 34 | B39: 铁岭市 | C39: 铁岭县 | D39: CVTR211221 | E39: 养电线 | F39: 0 | G39: 2400 | H39: =(G39-F39)/1000 -> 2.4 | I39: 864 | K39: 5 | R39: =J39*0.4461+K39*0.1485+L39*0.15*0.004+I39*0.0145+M39*0.145+N39*0.015+O39*0.01+P39*0.16+Q39*0.2 -> 13.2705
A40: 35 | B40: 铁岭市 | C40: 铁岭县 | D40: CVTR211221 | E40: 养电线 | F40: 2400 | G40: 3300 | H40: =(G40-F40)/1000 -> 0.9 | I40: 758 | K40: 1 | R40: =J40*0.4461+K40*0.1485+L40*0.15*0.004+I40*0.0145+M40*0.145+N40*0.015+O40*0.01+P40*0.16+Q40*0.2 -> 11.1395
A41: 36 | B41: 铁岭市 | C41: 铁岭县 | D41: CVTP211221 | E41: 养东线 | F41: 3000 | G41: 4200 | H41: =(G41-F41)/1000 -> 1.2 | I41: 28 | K41: 3 | M41: 5 | R41: =J41*0.4461+K41*0.1485+L41*0.15*0.004+I41*0.0145+M41*0.145+N41*0.015+O41*0.01+P41*0.16+Q41*0.2 -> 1.5765
A42: 37 | B42: 铁岭市 | C42: 铁岭县 | D42: CCJ8211221 | E42: 东夏线 | F42: 0 | G42: 3000 | H42: =(G42-F42)/1000 -> 3 | I42: 1400 | K42: 2 | R42: =J42*0.4461+K42*0.1485+L42*0.15*0.004+I42*0.0145+M42*0.145+N42*0.015+O42*0.01+P42*0.16+Q42*0.2 -> 20.597
A43: 38 | B43: 铁岭市 | C43: 铁岭县 | D43: CV28211221 | E43: 孟增线 | F43: 0 | G43: 2600 | H43: =(G43-F43)/1000 -> 2.6 | I43: 3536 | K43: 1 | R43: =J43*0.4461+K43*0.1485+L43*0.15*0.004+I43*0.0145+M43*0.145+N43*0.015+O43*0.01+P43*0.16+Q43*0.2 -> 51.4205
A44: 39 | B44: 铁岭市 | C44: 铁岭县 | D44: CCXR211221 | E44: 东十线 | F44: 0 | G44: 1700 | H44: =(G44-F44)/1000 -> 1.7 | I44: 3128 | K44: 1 | R44: =J44*0.4461+K44*0.1485+L44*0.15*0.004+I44*0.0145+M44*0.145+N44*0.015+O44*0.01+P44*0.16+Q44*0.2 -> 45.5045
A45: 40 | B45: 铁岭市 | C45: 西丰县 | D45: CC51211223 | E45: 仁善线 | F45: 0 | G45: 3000 | H45: 3 | I45: 804 | K45: 13 | N45: 4 | O45: 16 | R45: =J45*0.4461+K45*0.1485+L45*0.15*0.004+I45*0.0145+M45*0.145+N45*0.015+O45*0.01+P45*0.16+Q45*0.2 -> 13.8085
A46: 41 | B46: 铁岭市 | C46: 西丰县 | D46: CC51211223 | E46: 仁善线 | F46: 3000 | G46: 3500 | H46: 0.5 | I46: 568 | K46: 9 | O46: 16 | R46: =J46*0.4461+K46*0.1485+L46*0.15*0.004+I46*0.0145+M46*0.145+N46*0.015+O46*0.01+P46*0.16+Q46*0.2 -> 9.7325
A47: 42 | B47: 铁岭市 | C47: 西丰县 | D47: CC58211223 | E47: 郜松线 | F47: 0 | G47: 1100 | H47: 1.1 | I47: 192 | K47: 3 | O47: 8 | R47: =J47*0.4461+K47*0.1485+L47*0.15*0.004+I47*0.0145+M47*0.145+N47*0.015+O47*0.01+P47*0.16+Q47*0.2 -> 3.3095
A48: 43 | B48: 铁岭市 | C48: 西丰县 | D48: CC59211223 | E48: 玉对线 | F48: 0 | G48: 1700 | H48: 1.7 | I48: 100 | K48: 3 | R48: =J48*0.4461+K48*0.1485+L48*0.15*0.004+I48*0.0145+M48*0.145+N48*0.015+O48*0.01+P48*0.16+Q48*0.2 -> 1.8955
